{"text_format":"1","workbook":"xlsx","n_sheets":4,"sheets":["Country","Income","Rate","WHTWorksheet"],"not_rendered":{"charts":0,"images":0,"macros":1,"external_links":0,"defined_names":6,"comments":0,"pivot_tables":0},"unopened":[],"bounds":{"document_bytes":16777216,"sheet_cells":100000,"rows_first":2000,"rows_last":500,"rows_between":2000,"halvings":0,"cell_chars":16384,"cell_head_chars":4096},"cells_cut":0,"cells_raw":0,"read":"whole","date_system":"1900"}

{"sheet":"Country","index":0,"n_rows":180,"n_cols":2,"rows_kept":180,"cut":false,"hidden":true,"merged":[]}
["Nation","Abbreviation"]
["AFGHANISTAN","AFG"]
["ALBANIA","ALB"]
["ALGERIA","ALG"]
["ANGOLA","ANG"]
["ANGUILLA","ANA"]
["ANTIGUA-BARBUDA","ANB"]
["ARGENTINA","ARG"]
["ARUBA","ARU"]
["ASCENSION","ASC"]
["AUSTRALIA","AUS"]
["AUSTRIA","AUA"]
["AZERBAIJAN","AZE"]
["BAHAMAS","BAH"]
["BAHRAIN","BAN"]
["BANGLADESH","BAG"]
["BARBADOS","BAR"]
["BELGIUM","BEL"]
["BELIZE","BEZ"]
["BERMUDA","BER"]
["BOLIVIA","BOL"]
["BOSNIA AND HERZEGOVINA","BOS"]
["BOTSWANA","BOT"]
["BRAZIL","BRA"]
["BRITISH VIRGIN ISLANDS","BVI"]
["BULGARIA","BUL"]
["BURKINA FASO","BUP"]
["BURUNDI","BUR"]
["CAMEROON","CAM"]
["CANADA","CAN"]
["CARICOM","CAR"]
["CAYMAN ISLANDS","CAI"]
["CHAD","CHA"]
["CHILE","CHE"]
["CHINA","CHI"]
["COLOMBIA","COL"]
["CONGO","CON"]
["CONGO,THE DEMOCRATIC REPUBLIC","CDR"]
["COSTA RICA","CRA"]
["CÔTE D'IVOIRE","CÔT"]
["CROATIA","CRO"]
["CUBA","CUB"]
["CYPRUS","CYO"]
["CZECH REPUBLIC","CZE"]
["DENMARK","DEN"]
["DOMINICA","DOM"]
["DOMINICAN REPUBLIC","DON"]
["DUBAI","DUB"]
["ECUADOR","ECU"]
["EGYPT","EGY"]
["EL SALVADOR","ESR"]
["ETHIOPIA","ETH"]
["FALKLAND ISLANDS (MALVINAS)","FAL"]
["FIJI","FIJ"]
["FINLAND","FIN"]
["FRANCE","FRA"]
["FRENCH GUIANA","FRG"]
["FRENCH POLYNESIA","FRP"]
["GAMBIA","GAM"]
["GERMANY","GER"]
["GHANA","GHA"]
["GIBRALTAR","GIB"]
["GREECE","GRE"]
["GREENLAND","GRD"]
["GRENADA","GRA"]
["GUADELOUPE","GUE"]
["GUATEMALA","GUA"]
["GUYANA","GUY"]
["HAITI","HA"]
["HOLY SEE (VATICAN CITY STATE)","HOS"]
["HONDURAS","HON"]
["HUNGARY","HUN"]
["ICELAND","ICE"]
["INDIA","IND"]
["INDONESIA","INA"]
["IRAN","IRA"]
["IRAQ","IRQ"]
["IRELAND","IRE"]
["ISRAEL","ISR"]
["ITALY","ITA"]
["JAMAICA","JAM"]
["JAPAN","JAP"]
["JORDAN","JOR"]
["KENYA","KEN"]
["KUWAIT","KUW"]
["LAOS","LAO"]
["LEBANON","LEB"]
["LESOTHO","LES"]
["LIBERIA","LIA"]
["LIBYA","LIB"]
["LIECHTENSTEIN","LIE"]
["LITHUANIA","LIT"]
["LUXEMBOURG","LUX"]
["MACAO","MAC"]
["MADAGASCAR","MAD"]
["MADEIRA","MAA"]
["MALAWI","MAW"]
["MALAYSIA","MAL"]
["MALDIVES","MAS"]
["MALI","MAI"]
["MALTA","MTA"]
["MARTINIQUE","MAR"]
["MAURITANIA","MAU"]
["MAURITIUS","MRS"]
["MEXICO","MEX"]
["MONACO","MOC"]
["MONGOLIA","MOA"]
["MONTSERRAT","MON"]
["MOROCCO","MOR"]
["MOZAMBIQUE","MOZ"]
["MYANMAR","MYA"]
["NAMIBIA","NAM"]
["NEPAL","NEP"]
["NETHERLANDS","NET"]
["NETHERLANDS ANTILLES","NEA"]
["NEW CALEDONIA","NEC"]
["NEW ZEALAND","NEZ"]
["NICARAGUA","NIC"]
["NIGER","NIR"]
["NIGERIA","NIG"]
["NORTH KOREA","KOR"]
["NORWAY","NOR"]
["OTHER","OTH"]
["PAKISTAN","PAK"]
["PANAMA","PAN"]
["PAPUA NEW GUINEA","PNG"]
["PARAGUAY","PAR"]
["PERU","PER"]
["PHILIPPINES","PHI"]
["POLAND","POL"]
["PORTUGAL","POR"]
["PUERTO RICO","PTR"]
["QATAR","QAT"]
["REPUBLIC OF MOLDOVA","MOL"]
["ROMANIA","ROM"]
["RUSSIA","RUS"]
["RWANDA","RWA"]
["SAUDI ARABIA","SAA"]
["SENEGAL","SEN"]
["SEYCHELLES","SEY"]
["SINGAPORE","SIN"]
["SLOVAKIA","SLO"]
["SLOVENIA","SLV"]
["SOUTH AFRICA","SAF"]
["SOUTH KOREA","SKO"]
["SPAIN","SPA"]
["SRI LANKA","SLA"]
["ST. KITTS NEVIS","SKN"]
["ST. LUCIA","STA"]
["ST. PIERRE AND MIQUELON","SPM"]
["ST. VINCENT AND THE GRENADINES","SVG"]
["SUDAN","SUD"]
["SURINAME","SUR"]
["SWAZILAND","SWA"]
["SWEDEN","SWE"]
["SWITZERLAND","SWI"]
["SYRIA","SYR"]
["TAIWAN","TAI"]
["TANZANIA","TAN"]
["THAILAND","THA"]
["TOGO","TOG"]
["TONGA","TON"]
["TUNISIA","TUN"]
["TURKEY","TUR"]
["TURKS AND CAICOS ISLANDS","TAC"]
["UGANDA","UGA"]
["UKRAINE","UKR"]
["UNITED ARAB EMIRATES","UAE"]
["UNITED KINGDOM","UNK"]
["URUGUAY","URU"]
["USA","USA"]
["VANUATU","VAN"]
["VENEZUELA","VEN"]
["VIET NAM","VIN"]
["VIRGIN ISLANDS, U.S.","VIU"]
["WESTERN SAMOA","WSA"]
["YEMEN","YEM"]
["ZAIRE","ZAI"]
["ZAMBIA","ZAM"]
["ZIMBABWE","ZIM"]

{"sheet":"Income","index":1,"n_rows":31,"n_cols":2,"rows_kept":31,"cut":false,"hidden":true,"merged":[]}
["Payment Type","Abbreviation"]
["Alimony Payment","PAL"]
["Branch Profit","BRP"]
["Commercial Debt - Claims","PCD"]
["Director's Fees Payment","PDF"]
["Dividends (Preference)","DPR"]
["Dividends paid to Individual","DID"]
["Dividends to Co.owning 10%","D10"]
["Dividends to Co.owning 25%","D25"]
["Dividends to Co.owning 50%","D50"]
["Dividends to Company","DCO"]
["Dividends to Parent Company","DPC"]
["Interest paid to Banks","PIB"]
["Interest paid to Bks-Germany","PIG"]
["Interest paid to Company","PIC"]
["Interest paid to Financial Ist","PIF"]
["Interest paid to Individual","PII"]
["Other Payments","POT"]
["Payment Mgt. fees - Company","PMC"]
["Payment Mgt. fees - Individual","PMI"]
["Payment Mgt. fees - US Corp.","PMU"]
["Pensions from Government","PPG"]
["Pensions from Private Company","PPP"]
["Pro. Ser. Artiste/Athlete","PPA"]
["Professional Services","PPS"]
["Rental of Equipment","PRE"]
["Rents on Immovable Property","PRT"]
["Royalties paid on Film","PRF"]
["Royalties paid on Literary","PRL"]
["Royalties paid to Company","PRC"]
["Royalties paid to Individual","PRI"]

{"sheet":"Rate","index":2,"n_rows":32,"n_cols":34,"rows_kept":32,"cut":false,"hidden":true,"merged":[[0,2,0,33],[2,0,31,0]]}
[null,null,"Country"]
[null,null,"ANB","BAH","BAR","BEZ","BRA","CAN","CAR","CHI","DEN","DOM","FRA","GER","GRA","GUY","HA","IND","ITA","JAM","LUX","MON","NOR","OTH","SKN","SPA","STA","SUR","SVG","SWE","SWI","UNK","USA","VEN"]
["Income Code","BRP",0.03,0.03,0.03,0.03,0.03,0.03,0.03,0.03,0.03,0.03,0.03,0.03,0.03,0.03,0.03,0.03,0.03,0.03,0.03,0.03,0.03,0.03,0.03,0,0.03,0.03,0.03,0.03,0.03,0.03,0.03,0.03]
[null,"D10",0,0.08,0,0,0.08,0.05,0.08,0.08,0.08,0,0.08,0.08,0,0,0.08,0.08,0.08,0,0.05,0.08,0.08,0.08,0,0.08,0,0.08,0,0.08,0.08,0.08,0.08,0.08]
[null,"D25",0,0.08,0,0,0.08,0.05,0.08,0.05,0.08,0,0.08,0.08,0,0,0.08,0.08,0.08,0,0.05,0.08,0.08,0.08,0,0.05,0,0.08,0,0.08,0.08,0.08,0.08,0.05]
[null,"D50",0,0.08,0,0,0.03,0.03,0.08,0.03,0.03,0,0.03,0.03,0,0,0.08,0.03,0.03,0,0.03,0.08,0.03,0.03,0,0,0,0.08,0,0.03,0.03,0.03,0.03,0.03]
[null,"DCO",0,0.08,0,0,0.08,0.08,0.08,0.08,0.08,0,0.08,0.08,0,0,0.08,0.08,0.08,0,0.08,0.08,0.08,0.08,0,0.08,0,0.08,0,0.08,0.08,0.08,0.08,0.08]
[null,"DID",0,0.08,0,0,0.08,0.08,0.08,0.08,0.08,0,0.08,0.08,0,0,0.08,0.08,0.08,0,0.08,0.08,0.08,0.08,0,0.08,0,0.08,0,0.08,0.08,0.08,0.08,0.08]
[null,"DPC",0.03,0.03,0.03,0.03,0.03,0.03,0.03,0.03,0.03,0.03,0.03,0.03,0.03,0.03,0.03,0.03,0.03,0.03,0.03,0.03,0.03,0.03,0.03,0,0.03,0.03,0.03,0.03,0.03,0.03,0.03,0.03]
[null,"DPR",0.08,0.08,0.08,0.08,0.08,0.08,0.08,0.08,0.08,0.08,0.08,0.08,0.08,0.08,0.08,0.08,0.08,0.08,0.08,0.08,0.08,0.08,0.08,0.08,0.08,0.08,0.08,0.08,0.08,0.08,0.08,0.08]
[null,"PAL",0.15,0.15,0.15,0.15,0.15,0,0.15,0.15,0.15,0.15,0.15,0.15,0.15,0.15,0.15,0.15,0.15,0.15,0.15,0.15,0.15,0.15,0.15,0.15,0.15,0.15,0.15,0.15,0.15,0.15,0,0.15]
[null,"PCD",0,0,0,0,0,0,0,0,0,0,0,0,0,0,0,0,0,0,7.4999999999999997E-2,0,0,0,0,0,0,0,0,0,0,0,0,0]
[null,"PDF",0,0,0,0,0,0,0,0,0,0,0,0,0,0,0,0,0,0,0,0,0,0,0,0,0,0,0,0,0,0,0,0]
[null,"PIB",0.15,0.15,0.15,0.15,0.15,0.1,0.15,0.1,0.15,0.15,0.1,0.1,0.15,0.15,0.15,0.1,0.1,0.15,7.4999999999999997E-2,0.15,0.15,0.15,0.15,0.08,0.15,0.15,0.15,0.1,0.1,0.1,0.15,0.15]
[null,"PIC",0.15,0.15,0.15,0.15,0.15,0.1,0.15,0.1,0.15,0.15,0.1,0.15,0.15,0.15,0.15,0.1,0.1,0.15,0.1,0.15,0.15,0.15,0.15,0.08,0.15,0.15,0.15,0.15,0.1,0.1,0.15,0.15]
[null,"PIF",0.15,0.15,0.15,0.15,0.15,0.1,0.15,0.1,0.15,0.15,0.1,0.15,0.15,0.15,0.15,0.1,0.1,0.15,0.1,0.15,0.15,0.15,0.15,0.08,0.15,0.15,0.15,0.15,0.1,0.1,0.15,0.15]
[null,"PIG",0,0,0,0,0,0,0,0,0,0,0,0,0,0,0,0,0,0,0,0,0,0,0,0,0,0,0,0,0,0,0,0]
[null,"PII",0.15,0.15,0.15,0.15,0.15,0.1,0.15,0.1,0.15,0.15,0.1,0.1,0.15,0.15,0.15,0.1,0.1,0.15,0.1,0.15,0.15,0.15,0.15,0.08,0.15,0.15,0.15,0.1,0.1,0.1,0.15,0.15]
[null,"PMC",0.15,0.15,0.15,0.15,0.15,0.1,0.15,0.15,0.15,0.15,0.1,0.05,0.15,0.15,0.15,0.1,0.05,0.15,0.05,0.15,0.15,0.15,0.15,0.05,0.15,0.15,0.15,0.125,0.05,0.1,0.15,0.1]
[null,"PMI",0.15,0.15,0.15,0.15,0.15,0.1,0.15,0.15,0.15,0.15,0.1,0.05,0.15,0.15,0.15,0.1,0.05,0.15,0.05,0.15,0.15,0.15,0.15,0.05,0.15,0.15,0.15,0.125,0.05,0.1,0.15,0.1]
[null,"PMU",0,0,0,0,0,0,0,0,0,0,0,0,0,0,0,0,0,0,0,0,0,0,0,0,0,0,0,0,0,0,0,0]
[null,"POT",0.15,0.15,0.15,0.15,0.15,0.15,0.15,0.15,0.15,0.15,0.15,0.15,0.15,0.15,0.15,0.15,0.15,0.15,0.15,0.15,0.15,0.15,0.15,0.15,0.15,0.15,0.15,0.15,0.15,0.15,0.15,0.15]
[null,"PPA",0.15,0.15,0.15,0.15,0.15,0.15,0.15,0.15,0.15,0.15,0.15,0.15,0.15,0.15,0.15,0.15,0.15,0.15,0.15,0.15,0.15,0.15,0.15,0.15,0.15,0.15,0.15,0.15,0.15,0.15,0.15,0.15]
[null,"PPG",0,0,0,0,0,0.15,0,0,0,0,0,0,0,0,0,0,0,0,0,0,0,0,0,0,0,0,0,0,0,0,0,0]
[null,"PPP",0,0,0,0,0,0.15,0,0,0,0,0,0,0,0,0,0,0,0,0,0,0,0,0,0,0,0,0,0,0,0,0,0]
[null,"PPS",0.15,0.15,0.15,0.15,0.15,0.15,0.15,0.15,0.15,0,0.15,0.05,0.15,0.15,0.15,0.15,0.15,0.15,0.15,0.15,0.15,0.15,0.15,0.05,0.15,0.15,0.15,0.15,0.15,0.15,0.15,0.15]
[null,"PRC",0.15,0.15,0.15,0.15,0.15,0.1,0.15,0.1,0.15,0.15,0.1,0.1,0.15,0.15,0.15,0.1,0.05,0.15,0.1,0.15,0.15,0.15,0.15,0.05,0.15,0.15,0.15,0.15,0.1,0.1,0.15,0.1]
[null,"PRE",0.15,0.15,0.15,0.15,0.15,0.1,0.15,0.1,0.15,0.15,0.1,0.1,0.15,0.15,0.15,0.1,0.05,0.15,0.1,0.15,0.15,0.15,0.15,0.05,0.15,0.15,0.15,0.15,0.1,0.1,0,0.1]
[null,"PRF",0.15,0.15,0.15,0.15,0.15,0.1,0.15,0.1,0.15,0.15,0.1,0.1,0.15,0.15,0.15,0.1,0.05,0.15,0.1,0.15,0.15,0.15,0.15,0.05,0.15,0.15,0.15,0.15,0.1,0.1,0.15,0.1]
[null,"PRI",0.15,0.15,0.15,0.15,0.15,0.1,0.15,0.1,0.15,0.15,0.1,0.1,0.15,0.15,0.15,0.1,0.05,0.15,0.1,0.15,0.15,0.15,0.15,0.05,0.15,0.15,0.15,0.15,0.1,0.1,0.15,0.1]
[null,"PRL",0.15,0.15,0.15,0.15,0.15,0,0.15,0.1,0.15,0.15,0,0,0.15,0.15,0.15,0.1,0,0.15,0.1,0.15,0.15,0.15,0.15,0.05,0.15,0.15,0.15,0,0,0,0,0.1]
[null,"PRT",0.15,0.15,0.15,0.15,0.15,0.15,0.15,0.15,0.15,0.15,0.15,0.15,0.15,0.15,0.15,0.15,0.15,0.15,0.15,0.15,0.15,0.15,0.15,0.15,0.15,0.15,0.15,0.15,0.15,0.15,0.15,0.15]

{"sheet":"WHTWorksheet","index":3,"n_rows":1482,"n_cols":13,"rows_kept":1482,"cut":false,"hidden":false,"merged":[]}
[null,"Taxpayer Account Number",null,"Transaction Date",null,null,"Total Gross Payments","Total WHT Tax","Total Net Payments","Count of Entries"]
[null,null,null,null,null,{"$f":"DATE(YEAR(D2),12,31)","v":"1900-12-31"},{"$f":"SUM(G5:G1482)","v":0},{"$f":"SUM(H5:H1482)","v":0},{"$f":"SUM(I5:I1482)","v":0},{"$f":"COUNTIF(G5:G1482,\">0\")","v":0}]
[null,null,null,{"$f":"IF(AND(ISERROR(DATEVALUE(TEXT(D2,\"dd-mmm-yyyy\"))),D2<>\"\"), \"INVALID DATE\",\"\")","v":""}]
["Payee Name","Payee Domicile Country",null,"Payment Type",null,"WHT Rate","Gross Payment","WHT TAX","Net Payment","Payee Address:Street","Payee Address:City","Payee Address:County/State/Region","Payee Post Code"]
[null,null,{"$f":"IF(ISBLANK(B5),\"\",VLOOKUP(B5,Country!A:B,2))","v":""},null,{"$f":"IF(ISBLANK(D5),\"\",VLOOKUP(D5,Income!A:B,2))","v":""},{"$f":"IF(OR(C5=\"\",E5=\"\"),\"\",IF(ISNA(INDEX(RateRange,INDEX(RateRange,MATCH(E5,IncomeTypes,0),MATCH(C5,Countries,0)))),INDEX(RateRange,MATCH(E5,IncomeTypes,0),MATCH(\"OTH\",Countries,0)),INDEX(RateRange,MATCH(E5,IncomeTypes,0),MATCH(C5,Countries,0))))","v":""},null,{"$f":"IF(F5=\"\",\"\",ROUND(G5*F5,2))","v":""},{"$f":"IF(H5=\"\",\"\",G5-H5)","v":""}]
[null,null,{"$f":"IF(ISBLANK(B6),\"\",VLOOKUP(B6,Country!A:B,2))","v":""},null,{"$f":"IF(ISBLANK(D6),\"\",VLOOKUP(D6,Income!A:B,2))","v":""},"",null,"",""]
[null,null,{"$f":"IF(ISBLANK(B7),\"\",VLOOKUP(B7,Country!A:B,2))","v":""},null,{"$f":"IF(ISBLANK(D7),\"\",VLOOKUP(D7,Income!A:B,2))","v":""},"",null,"",""]
[null,null,{"$f":"IF(ISBLANK(B8),\"\",VLOOKUP(B8,Country!A:B,2))","v":""},null,{"$f":"IF(ISBLANK(D8),\"\",VLOOKUP(D8,Income!A:B,2))","v":""},"",null,"",""]
[null,null,{"$f":"IF(ISBLANK(B9),\"\",VLOOKUP(B9,Country!A:B,2))","v":""},null,{"$f":"IF(ISBLANK(D9),\"\",VLOOKUP(D9,Income!A:B,2))","v":""},"",null,"",""]
[null,null,{"$f":"IF(ISBLANK(B10),\"\",VLOOKUP(B10,Country!A:B,2))","v":""},null,{"$f":"IF(ISBLANK(D10),\"\",VLOOKUP(D10,Income!A:B,2))","v":""},"",null,"",""]
[null,null,{"$f":"IF(ISBLANK(B11),\"\",VLOOKUP(B11,Country!A:B,2))","v":""},null,{"$f":"IF(ISBLANK(D11),\"\",VLOOKUP(D11,Income!A:B,2))","v":""},"",null,"",""]
[null,null,{"$f":"IF(ISBLANK(B12),\"\",VLOOKUP(B12,Country!A:B,2))","v":""},null,{"$f":"IF(ISBLANK(D12),\"\",VLOOKUP(D12,Income!A:B,2))","v":""},"",null,"",{"$f":"IF(H12=\"\",\"\",G12-H12)","v":""}]
[null,null,{"$f":"IF(ISBLANK(B13),\"\",VLOOKUP(B13,Country!A:B,2))","v":""},null,{"$f":"IF(ISBLANK(D13),\"\",VLOOKUP(D13,Income!A:B,2))","v":""},"",null,"",""]
[null,null,{"$f":"IF(ISBLANK(B14),\"\",VLOOKUP(B14,Country!A:B,2))","v":""},null,{"$f":"IF(ISBLANK(D14),\"\",VLOOKUP(D14,Income!A:B,2))","v":""},"",null,"",""]
[null,null,{"$f":"IF(ISBLANK(B15),\"\",VLOOKUP(B15,Country!A:B,2))","v":""},null,{"$f":"IF(ISBLANK(D15),\"\",VLOOKUP(D15,Income!A:B,2))","v":""},"",null,"",""]
[null,null,{"$f":"IF(ISBLANK(B16),\"\",VLOOKUP(B16,Country!A:B,2))","v":""},null,{"$f":"IF(ISBLANK(D16),\"\",VLOOKUP(D16,Income!A:B,2))","v":""},"",null,"",""]
[null,null,{"$f":"IF(ISBLANK(B17),\"\",VLOOKUP(B17,Country!A:B,2))","v":""},null,{"$f":"IF(ISBLANK(D17),\"\",VLOOKUP(D17,Income!A:B,2))","v":""},"",null,"",""]
[null,null,{"$f":"IF(ISBLANK(B18),\"\",VLOOKUP(B18,Country!A:B,2))","v":""},null,{"$f":"IF(ISBLANK(D18),\"\",VLOOKUP(D18,Income!A:B,2))","v":""},"",null,"",""]
[null,null,{"$f":"IF(ISBLANK(B19),\"\",VLOOKUP(B19,Country!A:B,2))","v":""},null,{"$f":"IF(ISBLANK(D19),\"\",VLOOKUP(D19,Income!A:B,2))","v":""},"",null,"",""]
[null,null,{"$f":"IF(ISBLANK(B20),\"\",VLOOKUP(B20,Country!A:B,2))","v":""},null,{"$f":"IF(ISBLANK(D20),\"\",VLOOKUP(D20,Income!A:B,2))","v":""},"",null,"",""]
[null,null,{"$f":"IF(ISBLANK(B21),\"\",VLOOKUP(B21,Country!A:B,2))","v":""},null,{"$f":"IF(ISBLANK(D21),\"\",VLOOKUP(D21,Income!A:B,2))","v":""},"",null,"",""]
[null,null,{"$f":"IF(ISBLANK(B22),\"\",VLOOKUP(B22,Country!A:B,2))","v":""},null,{"$f":"IF(ISBLANK(D22),\"\",VLOOKUP(D22,Income!A:B,2))","v":""},"",null,"",""]
[null,null,{"$f":"IF(ISBLANK(B23),\"\",VLOOKUP(B23,Country!A:B,2))","v":""},null,{"$f":"IF(ISBLANK(D23),\"\",VLOOKUP(D23,Income!A:B,2))","v":""},"",null,"",""]
[null,null,{"$f":"IF(ISBLANK(B24),\"\",VLOOKUP(B24,Country!A:B,2))","v":""},null,{"$f":"IF(ISBLANK(D24),\"\",VLOOKUP(D24,Income!A:B,2))","v":""},"",null,"",""]
[null,null,{"$f":"IF(ISBLANK(B25),\"\",VLOOKUP(B25,Country!A:B,2))","v":""},null,{"$f":"IF(ISBLANK(D25),\"\",VLOOKUP(D25,Income!A:B,2))","v":""},"",null,"",""]
[null,null,{"$f":"IF(ISBLANK(B26),\"\",VLOOKUP(B26,Country!A:B,2))","v":""},null,{"$f":"IF(ISBLANK(D26),\"\",VLOOKUP(D26,Income!A:B,2))","v":""},"",null,"",""]
[null,null,{"$f":"IF(ISBLANK(B27),\"\",VLOOKUP(B27,Country!A:B,2))","v":""},null,{"$f":"IF(ISBLANK(D27),\"\",VLOOKUP(D27,Income!A:B,2))","v":""},"",null,"",""]
[null,null,{"$f":"IF(ISBLANK(B28),\"\",VLOOKUP(B28,Country!A:B,2))","v":""},null,{"$f":"IF(ISBLANK(D28),\"\",VLOOKUP(D28,Income!A:B,2))","v":""},"",null,"",""]
[null,null,{"$f":"IF(ISBLANK(B29),\"\",VLOOKUP(B29,Country!A:B,2))","v":""},null,{"$f":"IF(ISBLANK(D29),\"\",VLOOKUP(D29,Income!A:B,2))","v":""},"",null,"",""]
[null,null,{"$f":"IF(ISBLANK(B30),\"\",VLOOKUP(B30,Country!A:B,2))","v":""},null,{"$f":"IF(ISBLANK(D30),\"\",VLOOKUP(D30,Income!A:B,2))","v":""},"",null,"",""]
[null,null,{"$f":"IF(ISBLANK(B31),\"\",VLOOKUP(B31,Country!A:B,2))","v":""},null,{"$f":"IF(ISBLANK(D31),\"\",VLOOKUP(D31,Income!A:B,2))","v":""},"",null,"",""]
[null,null,{"$f":"IF(ISBLANK(B32),\"\",VLOOKUP(B32,Country!A:B,2))","v":""},null,{"$f":"IF(ISBLANK(D32),\"\",VLOOKUP(D32,Income!A:B,2))","v":""},"",null,"",""]
[null,null,{"$f":"IF(ISBLANK(B33),\"\",VLOOKUP(B33,Country!A:B,2))","v":""},null,{"$f":"IF(ISBLANK(D33),\"\",VLOOKUP(D33,Income!A:B,2))","v":""},"",null,"",""]
[null,null,{"$f":"IF(ISBLANK(B34),\"\",VLOOKUP(B34,Country!A:B,2))","v":""},null,{"$f":"IF(ISBLANK(D34),\"\",VLOOKUP(D34,Income!A:B,2))","v":""},"",null,"",""]
[null,null,{"$f":"IF(ISBLANK(B35),\"\",VLOOKUP(B35,Country!A:B,2))","v":""},null,{"$f":"IF(ISBLANK(D35),\"\",VLOOKUP(D35,Income!A:B,2))","v":""},"",null,"",""]
[null,null,{"$f":"IF(ISBLANK(B36),\"\",VLOOKUP(B36,Country!A:B,2))","v":""},null,{"$f":"IF(ISBLANK(D36),\"\",VLOOKUP(D36,Income!A:B,2))","v":""},"",null,"",""]
[null,null,{"$f":"IF(ISBLANK(B37),\"\",VLOOKUP(B37,Country!A:B,2))","v":""},null,{"$f":"IF(ISBLANK(D37),\"\",VLOOKUP(D37,Income!A:B,2))","v":""},"",null,"",""]
[null,null,{"$f":"IF(ISBLANK(B38),\"\",VLOOKUP(B38,Country!A:B,2))","v":""},null,{"$f":"IF(ISBLANK(D38),\"\",VLOOKUP(D38,Income!A:B,2))","v":""},"",null,"",""]
[null,null,{"$f":"IF(ISBLANK(B39),\"\",VLOOKUP(B39,Country!A:B,2))","v":""},null,{"$f":"IF(ISBLANK(D39),\"\",VLOOKUP(D39,Income!A:B,2))","v":""},"",null,"",""]
[null,null,{"$f":"IF(ISBLANK(B40),\"\",VLOOKUP(B40,Country!A:B,2))","v":""},null,{"$f":"IF(ISBLANK(D40),\"\",VLOOKUP(D40,Income!A:B,2))","v":""},"",null,"",""]
[null,null,{"$f":"IF(ISBLANK(B41),\"\",VLOOKUP(B41,Country!A:B,2))","v":""},null,{"$f":"IF(ISBLANK(D41),\"\",VLOOKUP(D41,Income!A:B,2))","v":""},"",null,"",""]
[null,null,{"$f":"IF(ISBLANK(B42),\"\",VLOOKUP(B42,Country!A:B,2))","v":""},null,{"$f":"IF(ISBLANK(D42),\"\",VLOOKUP(D42,Income!A:B,2))","v":""},"",null,"",""]
[null,null,{"$f":"IF(ISBLANK(B43),\"\",VLOOKUP(B43,Country!A:B,2))","v":""},null,{"$f":"IF(ISBLANK(D43),\"\",VLOOKUP(D43,Income!A:B,2))","v":""},"",null,"",""]
[null,null,{"$f":"IF(ISBLANK(B44),\"\",VLOOKUP(B44,Country!A:B,2))","v":""},null,{"$f":"IF(ISBLANK(D44),\"\",VLOOKUP(D44,Income!A:B,2))","v":""},"",null,"",""]
[null,null,{"$f":"IF(ISBLANK(B45),\"\",VLOOKUP(B45,Country!A:B,2))","v":""},null,{"$f":"IF(ISBLANK(D45),\"\",VLOOKUP(D45,Income!A:B,2))","v":""},"",null,"",""]
[null,null,{"$f":"IF(ISBLANK(B46),\"\",VLOOKUP(B46,Country!A:B,2))","v":""},null,{"$f":"IF(ISBLANK(D46),\"\",VLOOKUP(D46,Income!A:B,2))","v":""},"",null,"",""]
[null,null,{"$f":"IF(ISBLANK(B47),\"\",VLOOKUP(B47,Country!A:B,2))","v":""},null,{"$f":"IF(ISBLANK(D47),\"\",VLOOKUP(D47,Income!A:B,2))","v":""},{"$f":"IF(OR(C47=\"\",E47=\"\"),\"\",IF(ISNA(INDEX(RateRange,INDEX(RateRange,MATCH(E47,IncomeTypes,0),MATCH(C47,Countries,0)))),INDEX(RateRange,MATCH(E47,IncomeTypes,0),MATCH(\"OTH\",Countries,0)),INDEX(RateRange,MATCH(E47,IncomeTypes,0),MATCH(C47,Countries,0))))","v":""},null,"",""]
[null,null,{"$f":"IF(ISBLANK(B48),\"\",VLOOKUP(B48,Country!A:B,2))","v":""},null,{"$f":"IF(ISBLANK(D48),\"\",VLOOKUP(D48,Income!A:B,2))","v":""},"",null,"",""]
[null,null,{"$f":"IF(ISBLANK(B49),\"\",VLOOKUP(B49,Country!A:B,2))","v":""},null,{"$f":"IF(ISBLANK(D49),\"\",VLOOKUP(D49,Income!A:B,2))","v":""},"",null,"",""]
[null,null,{"$f":"IF(ISBLANK(B50),\"\",VLOOKUP(B50,Country!A:B,2))","v":""},null,{"$f":"IF(ISBLANK(D50),\"\",VLOOKUP(D50,Income!A:B,2))","v":""},"",null,"",""]
[null,null,{"$f":"IF(ISBLANK(B51),\"\",VLOOKUP(B51,Country!A:B,2))","v":""},null,{"$f":"IF(ISBLANK(D51),\"\",VLOOKUP(D51,Income!A:B,2))","v":""},"",null,"",""]
[null,null,{"$f":"IF(ISBLANK(B52),\"\",VLOOKUP(B52,Country!A:B,2))","v":""},null,{"$f":"IF(ISBLANK(D52),\"\",VLOOKUP(D52,Income!A:B,2))","v":""},"",null,"",""]
[null,null,{"$f":"IF(ISBLANK(B53),\"\",VLOOKUP(B53,Country!A:B,2))","v":""},null,{"$f":"IF(ISBLANK(D53),\"\",VLOOKUP(D53,Income!A:B,2))","v":""},"",null,"",""]
[null,null,{"$f":"IF(ISBLANK(B54),\"\",VLOOKUP(B54,Country!A:B,2))","v":""},null,{"$f":"IF(ISBLANK(D54),\"\",VLOOKUP(D54,Income!A:B,2))","v":""},"",null,"",""]
[null,null,{"$f":"IF(ISBLANK(B55),\"\",VLOOKUP(B55,Country!A:B,2))","v":""},null,{"$f":"IF(ISBLANK(D55),\"\",VLOOKUP(D55,Income!A:B,2))","v":""},"",null,"",""]
[null,null,{"$f":"IF(ISBLANK(B56),\"\",VLOOKUP(B56,Country!A:B,2))","v":""},null,{"$f":"IF(ISBLANK(D56),\"\",VLOOKUP(D56,Income!A:B,2))","v":""},"",null,"",""]
[null,null,{"$f":"IF(ISBLANK(B57),\"\",VLOOKUP(B57,Country!A:B,2))","v":""},null,{"$f":"IF(ISBLANK(D57),\"\",VLOOKUP(D57,Income!A:B,2))","v":""},"",null,"",""]
[null,null,{"$f":"IF(ISBLANK(B58),\"\",VLOOKUP(B58,Country!A:B,2))","v":""},null,{"$f":"IF(ISBLANK(D58),\"\",VLOOKUP(D58,Income!A:B,2))","v":""},"",null,"",""]
[null,null,{"$f":"IF(ISBLANK(B59),\"\",VLOOKUP(B59,Country!A:B,2))","v":""},null,{"$f":"IF(ISBLANK(D59),\"\",VLOOKUP(D59,Income!A:B,2))","v":""},"",null,"",""]
[null,null,{"$f":"IF(ISBLANK(B60),\"\",VLOOKUP(B60,Country!A:B,2))","v":""},null,{"$f":"IF(ISBLANK(D60),\"\",VLOOKUP(D60,Income!A:B,2))","v":""},"",null,"",""]
[null,null,{"$f":"IF(ISBLANK(B61),\"\",VLOOKUP(B61,Country!A:B,2))","v":""},null,{"$f":"IF(ISBLANK(D61),\"\",VLOOKUP(D61,Income!A:B,2))","v":""},"",null,"",""]
[null,null,{"$f":"IF(ISBLANK(B62),\"\",VLOOKUP(B62,Country!A:B,2))","v":""},null,{"$f":"IF(ISBLANK(D62),\"\",VLOOKUP(D62,Income!A:B,2))","v":""},"",null,"",""]
[null,null,{"$f":"IF(ISBLANK(B63),\"\",VLOOKUP(B63,Country!A:B,2))","v":""},null,{"$f":"IF(ISBLANK(D63),\"\",VLOOKUP(D63,Income!A:B,2))","v":""},"",null,"",""]
[null,null,{"$f":"IF(ISBLANK(B64),\"\",VLOOKUP(B64,Country!A:B,2))","v":""},null,{"$f":"IF(ISBLANK(D64),\"\",VLOOKUP(D64,Income!A:B,2))","v":""},"",null,"",""]
[null,null,{"$f":"IF(ISBLANK(B65),\"\",VLOOKUP(B65,Country!A:B,2))","v":""},null,{"$f":"IF(ISBLANK(D65),\"\",VLOOKUP(D65,Income!A:B,2))","v":""},"",null,"",""]
[null,null,{"$f":"IF(ISBLANK(B66),\"\",VLOOKUP(B66,Country!A:B,2))","v":""},null,{"$f":"IF(ISBLANK(D66),\"\",VLOOKUP(D66,Income!A:B,2))","v":""},"",null,"",""]
[null,null,{"$f":"IF(ISBLANK(B67),\"\",VLOOKUP(B67,Country!A:B,2))","v":""},null,{"$f":"IF(ISBLANK(D67),\"\",VLOOKUP(D67,Income!A:B,2))","v":""},"",null,"",""]
[null,null,{"$f":"IF(ISBLANK(B68),\"\",VLOOKUP(B68,Country!A:B,2))","v":""},null,{"$f":"IF(ISBLANK(D68),\"\",VLOOKUP(D68,Income!A:B,2))","v":""},"",null,"",""]
[null,null,{"$f":"IF(ISBLANK(B69),\"\",VLOOKUP(B69,Country!A:B,2))","v":""},null,{"$f":"IF(ISBLANK(D69),\"\",VLOOKUP(D69,Income!A:B,2))","v":""},"",null,{"$f":"IF(F69=\"\",\"\",ROUND(G69*F69,2))","v":""},""]
[null,null,{"$f":"IF(ISBLANK(B70),\"\",VLOOKUP(B70,Country!A:B,2))","v":""},null,{"$f":"IF(ISBLANK(D70),\"\",VLOOKUP(D70,Income!A:B,2))","v":""},"",null,"",""]
[null,null,{"$f":"IF(ISBLANK(B71),\"\",VLOOKUP(B71,Country!A:B,2))","v":""},null,{"$f":"IF(ISBLANK(D71),\"\",VLOOKUP(D71,Income!A:B,2))","v":""},"",null,"",""]
[null,null,{"$f":"IF(ISBLANK(B72),\"\",VLOOKUP(B72,Country!A:B,2))","v":""},null,{"$f":"IF(ISBLANK(D72),\"\",VLOOKUP(D72,Income!A:B,2))","v":""},"",null,"",""]
[null,null,{"$f":"IF(ISBLANK(B73),\"\",VLOOKUP(B73,Country!A:B,2))","v":""},null,{"$f":"IF(ISBLANK(D73),\"\",VLOOKUP(D73,Income!A:B,2))","v":""},"",null,"",""]
[null,null,{"$f":"IF(ISBLANK(B74),\"\",VLOOKUP(B74,Country!A:B,2))","v":""},null,{"$f":"IF(ISBLANK(D74),\"\",VLOOKUP(D74,Income!A:B,2))","v":""},"",null,"",""]
[null,null,{"$f":"IF(ISBLANK(B75),\"\",VLOOKUP(B75,Country!A:B,2))","v":""},null,{"$f":"IF(ISBLANK(D75),\"\",VLOOKUP(D75,Income!A:B,2))","v":""},"",null,"",""]
[null,null,{"$f":"IF(ISBLANK(B76),\"\",VLOOKUP(B76,Country!A:B,2))","v":""},null,{"$f":"IF(ISBLANK(D76),\"\",VLOOKUP(D76,Income!A:B,2))","v":""},"",null,"",{"$f":"IF(H76=\"\",\"\",G76-H76)","v":""}]
[null,null,{"$f":"IF(ISBLANK(B77),\"\",VLOOKUP(B77,Country!A:B,2))","v":""},null,{"$f":"IF(ISBLANK(D77),\"\",VLOOKUP(D77,Income!A:B,2))","v":""},"",null,"",""]
[null,null,{"$f":"IF(ISBLANK(B78),\"\",VLOOKUP(B78,Country!A:B,2))","v":""},null,{"$f":"IF(ISBLANK(D78),\"\",VLOOKUP(D78,Income!A:B,2))","v":""},"",null,"",""]
[null,null,{"$f":"IF(ISBLANK(B79),\"\",VLOOKUP(B79,Country!A:B,2))","v":""},null,{"$f":"IF(ISBLANK(D79),\"\",VLOOKUP(D79,Income!A:B,2))","v":""},"",null,"",""]
[null,null,{"$f":"IF(ISBLANK(B80),\"\",VLOOKUP(B80,Country!A:B,2))","v":""},null,{"$f":"IF(ISBLANK(D80),\"\",VLOOKUP(D80,Income!A:B,2))","v":""},"",null,"",""]
[null,null,{"$f":"IF(ISBLANK(B81),\"\",VLOOKUP(B81,Country!A:B,2))","v":""},null,{"$f":"IF(ISBLANK(D81),\"\",VLOOKUP(D81,Income!A:B,2))","v":""},"",null,"",""]
[null,null,{"$f":"IF(ISBLANK(B82),\"\",VLOOKUP(B82,Country!A:B,2))","v":""},null,{"$f":"IF(ISBLANK(D82),\"\",VLOOKUP(D82,Income!A:B,2))","v":""},"",null,"",""]
[null,null,{"$f":"IF(ISBLANK(B83),\"\",VLOOKUP(B83,Country!A:B,2))","v":""},null,{"$f":"IF(ISBLANK(D83),\"\",VLOOKUP(D83,Income!A:B,2))","v":""},"",null,"",""]
[null,null,{"$f":"IF(ISBLANK(B84),\"\",VLOOKUP(B84,Country!A:B,2))","v":""},null,{"$f":"IF(ISBLANK(D84),\"\",VLOOKUP(D84,Income!A:B,2))","v":""},"",null,"",""]
[null,null,{"$f":"IF(ISBLANK(B85),\"\",VLOOKUP(B85,Country!A:B,2))","v":""},null,{"$f":"IF(ISBLANK(D85),\"\",VLOOKUP(D85,Income!A:B,2))","v":""},"",null,"",""]
[null,null,{"$f":"IF(ISBLANK(B86),\"\",VLOOKUP(B86,Country!A:B,2))","v":""},null,{"$f":"IF(ISBLANK(D86),\"\",VLOOKUP(D86,Income!A:B,2))","v":""},"",null,"",""]
[null,null,{"$f":"IF(ISBLANK(B87),\"\",VLOOKUP(B87,Country!A:B,2))","v":""},null,{"$f":"IF(ISBLANK(D87),\"\",VLOOKUP(D87,Income!A:B,2))","v":""},"",null,"",""]
[null,null,{"$f":"IF(ISBLANK(B88),\"\",VLOOKUP(B88,Country!A:B,2))","v":""},null,{"$f":"IF(ISBLANK(D88),\"\",VLOOKUP(D88,Income!A:B,2))","v":""},"",null,"",""]
[null,null,{"$f":"IF(ISBLANK(B89),\"\",VLOOKUP(B89,Country!A:B,2))","v":""},null,{"$f":"IF(ISBLANK(D89),\"\",VLOOKUP(D89,Income!A:B,2))","v":""},"",null,"",""]
[null,null,{"$f":"IF(ISBLANK(B90),\"\",VLOOKUP(B90,Country!A:B,2))","v":""},null,{"$f":"IF(ISBLANK(D90),\"\",VLOOKUP(D90,Income!A:B,2))","v":""},"",null,"",""]
[null,null,{"$f":"IF(ISBLANK(B91),\"\",VLOOKUP(B91,Country!A:B,2))","v":""},null,{"$f":"IF(ISBLANK(D91),\"\",VLOOKUP(D91,Income!A:B,2))","v":""},"",null,"",""]
[null,null,{"$f":"IF(ISBLANK(B92),\"\",VLOOKUP(B92,Country!A:B,2))","v":""},null,{"$f":"IF(ISBLANK(D92),\"\",VLOOKUP(D92,Income!A:B,2))","v":""},"",null,"",""]
[null,null,{"$f":"IF(ISBLANK(B93),\"\",VLOOKUP(B93,Country!A:B,2))","v":""},null,{"$f":"IF(ISBLANK(D93),\"\",VLOOKUP(D93,Income!A:B,2))","v":""},"",null,"",""]
[null,null,{"$f":"IF(ISBLANK(B94),\"\",VLOOKUP(B94,Country!A:B,2))","v":""},null,{"$f":"IF(ISBLANK(D94),\"\",VLOOKUP(D94,Income!A:B,2))","v":""},"",null,"",""]
[null,null,{"$f":"IF(ISBLANK(B95),\"\",VLOOKUP(B95,Country!A:B,2))","v":""},null,{"$f":"IF(ISBLANK(D95),\"\",VLOOKUP(D95,Income!A:B,2))","v":""},"",null,"",""]
[null,null,{"$f":"IF(ISBLANK(B96),\"\",VLOOKUP(B96,Country!A:B,2))","v":""},null,{"$f":"IF(ISBLANK(D96),\"\",VLOOKUP(D96,Income!A:B,2))","v":""},"",null,"",""]
[null,null,{"$f":"IF(ISBLANK(B97),\"\",VLOOKUP(B97,Country!A:B,2))","v":""},null,{"$f":"IF(ISBLANK(D97),\"\",VLOOKUP(D97,Income!A:B,2))","v":""},"",null,"",""]
[null,null,{"$f":"IF(ISBLANK(B98),\"\",VLOOKUP(B98,Country!A:B,2))","v":""},null,{"$f":"IF(ISBLANK(D98),\"\",VLOOKUP(D98,Income!A:B,2))","v":""},"",null,"",""]
[null,null,{"$f":"IF(ISBLANK(B99),\"\",VLOOKUP(B99,Country!A:B,2))","v":""},null,{"$f":"IF(ISBLANK(D99),\"\",VLOOKUP(D99,Income!A:B,2))","v":""},"",null,"",""]
[null,null,{"$f":"IF(ISBLANK(B100),\"\",VLOOKUP(B100,Country!A:B,2))","v":""},null,{"$f":"IF(ISBLANK(D100),\"\",VLOOKUP(D100,Income!A:B,2))","v":""},"",null,"",""]
[null,null,{"$f":"IF(ISBLANK(B101),\"\",VLOOKUP(B101,Country!A:B,2))","v":""},null,{"$f":"IF(ISBLANK(D101),\"\",VLOOKUP(D101,Income!A:B,2))","v":""},"",null,"",""]
[null,null,{"$f":"IF(ISBLANK(B102),\"\",VLOOKUP(B102,Country!A:B,2))","v":""},null,{"$f":"IF(ISBLANK(D102),\"\",VLOOKUP(D102,Income!A:B,2))","v":""},"",null,"",""]
[null,null,{"$f":"IF(ISBLANK(B103),\"\",VLOOKUP(B103,Country!A:B,2))","v":""},null,{"$f":"IF(ISBLANK(D103),\"\",VLOOKUP(D103,Income!A:B,2))","v":""},"",null,"",""]
[null,null,{"$f":"IF(ISBLANK(B104),\"\",VLOOKUP(B104,Country!A:B,2))","v":""},null,{"$f":"IF(ISBLANK(D104),\"\",VLOOKUP(D104,Income!A:B,2))","v":""},"",null,"",""]
[null,null,{"$f":"IF(ISBLANK(B105),\"\",VLOOKUP(B105,Country!A:B,2))","v":""},null,{"$f":"IF(ISBLANK(D105),\"\",VLOOKUP(D105,Income!A:B,2))","v":""},"",null,"",""]
[null,null,{"$f":"IF(ISBLANK(B106),\"\",VLOOKUP(B106,Country!A:B,2))","v":""},null,{"$f":"IF(ISBLANK(D106),\"\",VLOOKUP(D106,Income!A:B,2))","v":""},"",null,"",""]
[null,null,{"$f":"IF(ISBLANK(B107),\"\",VLOOKUP(B107,Country!A:B,2))","v":""},null,{"$f":"IF(ISBLANK(D107),\"\",VLOOKUP(D107,Income!A:B,2))","v":""},"",null,"",""]
[null,null,{"$f":"IF(ISBLANK(B108),\"\",VLOOKUP(B108,Country!A:B,2))","v":""},null,{"$f":"IF(ISBLANK(D108),\"\",VLOOKUP(D108,Income!A:B,2))","v":""},"",null,"",""]
[null,null,{"$f":"IF(ISBLANK(B109),\"\",VLOOKUP(B109,Country!A:B,2))","v":""},null,{"$f":"IF(ISBLANK(D109),\"\",VLOOKUP(D109,Income!A:B,2))","v":""},"",null,"",""]
[null,null,{"$f":"IF(ISBLANK(B110),\"\",VLOOKUP(B110,Country!A:B,2))","v":""},null,{"$f":"IF(ISBLANK(D110),\"\",VLOOKUP(D110,Income!A:B,2))","v":""},"",null,"",""]
[null,null,{"$f":"IF(ISBLANK(B111),\"\",VLOOKUP(B111,Country!A:B,2))","v":""},null,{"$f":"IF(ISBLANK(D111),\"\",VLOOKUP(D111,Income!A:B,2))","v":""},{"$f":"IF(OR(C111=\"\",E111=\"\"),\"\",IF(ISNA(INDEX(RateRange,INDEX(RateRange,MATCH(E111,IncomeTypes,0),MATCH(C111,Countries,0)))),INDEX(RateRange,MATCH(E111,IncomeTypes,0),MATCH(\"OTH\",Countries,0)),INDEX(RateRange,MATCH(E111,IncomeTypes,0),MATCH(C111,Countries,0))))","v":""},null,"",""]
[null,null,{"$f":"IF(ISBLANK(B112),\"\",VLOOKUP(B112,Country!A:B,2))","v":""},null,{"$f":"IF(ISBLANK(D112),\"\",VLOOKUP(D112,Income!A:B,2))","v":""},"",null,"",""]
[null,null,{"$f":"IF(ISBLANK(B113),\"\",VLOOKUP(B113,Country!A:B,2))","v":""},null,{"$f":"IF(ISBLANK(D113),\"\",VLOOKUP(D113,Income!A:B,2))","v":""},"",null,"",""]
[null,null,{"$f":"IF(ISBLANK(B114),\"\",VLOOKUP(B114,Country!A:B,2))","v":""},null,{"$f":"IF(ISBLANK(D114),\"\",VLOOKUP(D114,Income!A:B,2))","v":""},"",null,"",""]
[null,null,{"$f":"IF(ISBLANK(B115),\"\",VLOOKUP(B115,Country!A:B,2))","v":""},null,{"$f":"IF(ISBLANK(D115),\"\",VLOOKUP(D115,Income!A:B,2))","v":""},"",null,"",""]
[null,null,{"$f":"IF(ISBLANK(B116),\"\",VLOOKUP(B116,Country!A:B,2))","v":""},null,{"$f":"IF(ISBLANK(D116),\"\",VLOOKUP(D116,Income!A:B,2))","v":""},"",null,"",""]
[null,null,{"$f":"IF(ISBLANK(B117),\"\",VLOOKUP(B117,Country!A:B,2))","v":""},null,{"$f":"IF(ISBLANK(D117),\"\",VLOOKUP(D117,Income!A:B,2))","v":""},"",null,"",""]
[null,null,{"$f":"IF(ISBLANK(B118),\"\",VLOOKUP(B118,Country!A:B,2))","v":""},null,{"$f":"IF(ISBLANK(D118),\"\",VLOOKUP(D118,Income!A:B,2))","v":""},"",null,"",""]
[null,null,{"$f":"IF(ISBLANK(B119),\"\",VLOOKUP(B119,Country!A:B,2))","v":""},null,{"$f":"IF(ISBLANK(D119),\"\",VLOOKUP(D119,Income!A:B,2))","v":""},"",null,"",""]
[null,null,{"$f":"IF(ISBLANK(B120),\"\",VLOOKUP(B120,Country!A:B,2))","v":""},null,{"$f":"IF(ISBLANK(D120),\"\",VLOOKUP(D120,Income!A:B,2))","v":""},"",null,"",""]
[null,null,{"$f":"IF(ISBLANK(B121),\"\",VLOOKUP(B121,Country!A:B,2))","v":""},null,{"$f":"IF(ISBLANK(D121),\"\",VLOOKUP(D121,Income!A:B,2))","v":""},"",null,"",""]
[null,null,{"$f":"IF(ISBLANK(B122),\"\",VLOOKUP(B122,Country!A:B,2))","v":""},null,{"$f":"IF(ISBLANK(D122),\"\",VLOOKUP(D122,Income!A:B,2))","v":""},"",null,"",""]
[null,null,{"$f":"IF(ISBLANK(B123),\"\",VLOOKUP(B123,Country!A:B,2))","v":""},null,{"$f":"IF(ISBLANK(D123),\"\",VLOOKUP(D123,Income!A:B,2))","v":""},"",null,"",""]
[null,null,{"$f":"IF(ISBLANK(B124),\"\",VLOOKUP(B124,Country!A:B,2))","v":""},null,{"$f":"IF(ISBLANK(D124),\"\",VLOOKUP(D124,Income!A:B,2))","v":""},"",null,"",""]
[null,null,{"$f":"IF(ISBLANK(B125),\"\",VLOOKUP(B125,Country!A:B,2))","v":""},null,{"$f":"IF(ISBLANK(D125),\"\",VLOOKUP(D125,Income!A:B,2))","v":""},"",null,"",""]
[null,null,{"$f":"IF(ISBLANK(B126),\"\",VLOOKUP(B126,Country!A:B,2))","v":""},null,{"$f":"IF(ISBLANK(D126),\"\",VLOOKUP(D126,Income!A:B,2))","v":""},"",null,"",""]
[null,null,{"$f":"IF(ISBLANK(B127),\"\",VLOOKUP(B127,Country!A:B,2))","v":""},null,{"$f":"IF(ISBLANK(D127),\"\",VLOOKUP(D127,Income!A:B,2))","v":""},"",null,"",""]
[null,null,{"$f":"IF(ISBLANK(B128),\"\",VLOOKUP(B128,Country!A:B,2))","v":""},null,{"$f":"IF(ISBLANK(D128),\"\",VLOOKUP(D128,Income!A:B,2))","v":""},"",null,"",""]
[null,null,{"$f":"IF(ISBLANK(B129),\"\",VLOOKUP(B129,Country!A:B,2))","v":""},null,{"$f":"IF(ISBLANK(D129),\"\",VLOOKUP(D129,Income!A:B,2))","v":""},"",null,"",""]
[null,null,{"$f":"IF(ISBLANK(B130),\"\",VLOOKUP(B130,Country!A:B,2))","v":""},null,{"$f":"IF(ISBLANK(D130),\"\",VLOOKUP(D130,Income!A:B,2))","v":""},"",null,"",""]
[null,null,{"$f":"IF(ISBLANK(B131),\"\",VLOOKUP(B131,Country!A:B,2))","v":""},null,{"$f":"IF(ISBLANK(D131),\"\",VLOOKUP(D131,Income!A:B,2))","v":""},"",null,"",""]
[null,null,{"$f":"IF(ISBLANK(B132),\"\",VLOOKUP(B132,Country!A:B,2))","v":""},null,{"$f":"IF(ISBLANK(D132),\"\",VLOOKUP(D132,Income!A:B,2))","v":""},"",null,"",""]
[null,null,{"$f":"IF(ISBLANK(B133),\"\",VLOOKUP(B133,Country!A:B,2))","v":""},null,{"$f":"IF(ISBLANK(D133),\"\",VLOOKUP(D133,Income!A:B,2))","v":""},"",null,{"$f":"IF(F133=\"\",\"\",ROUND(G133*F133,2))","v":""},""]
[null,null,{"$f":"IF(ISBLANK(B134),\"\",VLOOKUP(B134,Country!A:B,2))","v":""},null,{"$f":"IF(ISBLANK(D134),\"\",VLOOKUP(D134,Income!A:B,2))","v":""},"",null,"",""]
[null,null,{"$f":"IF(ISBLANK(B135),\"\",VLOOKUP(B135,Country!A:B,2))","v":""},null,{"$f":"IF(ISBLANK(D135),\"\",VLOOKUP(D135,Income!A:B,2))","v":""},"",null,"",""]
[null,null,{"$f":"IF(ISBLANK(B136),\"\",VLOOKUP(B136,Country!A:B,2))","v":""},null,{"$f":"IF(ISBLANK(D136),\"\",VLOOKUP(D136,Income!A:B,2))","v":""},"",null,"",""]
[null,null,{"$f":"IF(ISBLANK(B137),\"\",VLOOKUP(B137,Country!A:B,2))","v":""},null,{"$f":"IF(ISBLANK(D137),\"\",VLOOKUP(D137,Income!A:B,2))","v":""},"",null,"",""]
[null,null,{"$f":"IF(ISBLANK(B138),\"\",VLOOKUP(B138,Country!A:B,2))","v":""},null,{"$f":"IF(ISBLANK(D138),\"\",VLOOKUP(D138,Income!A:B,2))","v":""},"",null,"",""]
[null,null,{"$f":"IF(ISBLANK(B139),\"\",VLOOKUP(B139,Country!A:B,2))","v":""},null,{"$f":"IF(ISBLANK(D139),\"\",VLOOKUP(D139,Income!A:B,2))","v":""},"",null,"",""]
[null,null,{"$f":"IF(ISBLANK(B140),\"\",VLOOKUP(B140,Country!A:B,2))","v":""},null,{"$f":"IF(ISBLANK(D140),\"\",VLOOKUP(D140,Income!A:B,2))","v":""},"",null,"",{"$f":"IF(H140=\"\",\"\",G140-H140)","v":""}]
[null,null,{"$f":"IF(ISBLANK(B141),\"\",VLOOKUP(B141,Country!A:B,2))","v":""},null,{"$f":"IF(ISBLANK(D141),\"\",VLOOKUP(D141,Income!A:B,2))","v":""},"",null,"",""]
[null,null,{"$f":"IF(ISBLANK(B142),\"\",VLOOKUP(B142,Country!A:B,2))","v":""},null,{"$f":"IF(ISBLANK(D142),\"\",VLOOKUP(D142,Income!A:B,2))","v":""},"",null,"",""]
[null,null,{"$f":"IF(ISBLANK(B143),\"\",VLOOKUP(B143,Country!A:B,2))","v":""},null,{"$f":"IF(ISBLANK(D143),\"\",VLOOKUP(D143,Income!A:B,2))","v":""},"",null,"",""]
[null,null,{"$f":"IF(ISBLANK(B144),\"\",VLOOKUP(B144,Country!A:B,2))","v":""},null,{"$f":"IF(ISBLANK(D144),\"\",VLOOKUP(D144,Income!A:B,2))","v":""},"",null,"",""]
[null,null,{"$f":"IF(ISBLANK(B145),\"\",VLOOKUP(B145,Country!A:B,2))","v":""},null,{"$f":"IF(ISBLANK(D145),\"\",VLOOKUP(D145,Income!A:B,2))","v":""},"",null,"",""]
[null,null,{"$f":"IF(ISBLANK(B146),\"\",VLOOKUP(B146,Country!A:B,2))","v":""},null,{"$f":"IF(ISBLANK(D146),\"\",VLOOKUP(D146,Income!A:B,2))","v":""},"",null,"",""]
[null,null,{"$f":"IF(ISBLANK(B147),\"\",VLOOKUP(B147,Country!A:B,2))","v":""},null,{"$f":"IF(ISBLANK(D147),\"\",VLOOKUP(D147,Income!A:B,2))","v":""},"",null,"",""]
[null,null,{"$f":"IF(ISBLANK(B148),\"\",VLOOKUP(B148,Country!A:B,2))","v":""},null,{"$f":"IF(ISBLANK(D148),\"\",VLOOKUP(D148,Income!A:B,2))","v":""},"",null,"",""]
[null,null,{"$f":"IF(ISBLANK(B149),\"\",VLOOKUP(B149,Country!A:B,2))","v":""},null,{"$f":"IF(ISBLANK(D149),\"\",VLOOKUP(D149,Income!A:B,2))","v":""},"",null,"",""]
[null,null,{"$f":"IF(ISBLANK(B150),\"\",VLOOKUP(B150,Country!A:B,2))","v":""},null,{"$f":"IF(ISBLANK(D150),\"\",VLOOKUP(D150,Income!A:B,2))","v":""},"",null,"",""]
[null,null,{"$f":"IF(ISBLANK(B151),\"\",VLOOKUP(B151,Country!A:B,2))","v":""},null,{"$f":"IF(ISBLANK(D151),\"\",VLOOKUP(D151,Income!A:B,2))","v":""},"",null,"",""]
[null,null,{"$f":"IF(ISBLANK(B152),\"\",VLOOKUP(B152,Country!A:B,2))","v":""},null,{"$f":"IF(ISBLANK(D152),\"\",VLOOKUP(D152,Income!A:B,2))","v":""},"",null,"",""]
[null,null,{"$f":"IF(ISBLANK(B153),\"\",VLOOKUP(B153,Country!A:B,2))","v":""},null,{"$f":"IF(ISBLANK(D153),\"\",VLOOKUP(D153,Income!A:B,2))","v":""},"",null,"",""]
[null,null,{"$f":"IF(ISBLANK(B154),\"\",VLOOKUP(B154,Country!A:B,2))","v":""},null,{"$f":"IF(ISBLANK(D154),\"\",VLOOKUP(D154,Income!A:B,2))","v":""},"",null,"",""]
[null,null,{"$f":"IF(ISBLANK(B155),\"\",VLOOKUP(B155,Country!A:B,2))","v":""},null,{"$f":"IF(ISBLANK(D155),\"\",VLOOKUP(D155,Income!A:B,2))","v":""},"",null,"",""]
[null,null,{"$f":"IF(ISBLANK(B156),\"\",VLOOKUP(B156,Country!A:B,2))","v":""},null,{"$f":"IF(ISBLANK(D156),\"\",VLOOKUP(D156,Income!A:B,2))","v":""},"",null,"",""]
[null,null,{"$f":"IF(ISBLANK(B157),\"\",VLOOKUP(B157,Country!A:B,2))","v":""},null,{"$f":"IF(ISBLANK(D157),\"\",VLOOKUP(D157,Income!A:B,2))","v":""},"",null,"",""]
[null,null,{"$f":"IF(ISBLANK(B158),\"\",VLOOKUP(B158,Country!A:B,2))","v":""},null,{"$f":"IF(ISBLANK(D158),\"\",VLOOKUP(D158,Income!A:B,2))","v":""},"",null,"",""]
[null,null,{"$f":"IF(ISBLANK(B159),\"\",VLOOKUP(B159,Country!A:B,2))","v":""},null,{"$f":"IF(ISBLANK(D159),\"\",VLOOKUP(D159,Income!A:B,2))","v":""},"",null,"",""]
[null,null,{"$f":"IF(ISBLANK(B160),\"\",VLOOKUP(B160,Country!A:B,2))","v":""},null,{"$f":"IF(ISBLANK(D160),\"\",VLOOKUP(D160,Income!A:B,2))","v":""},"",null,"",""]
[null,null,{"$f":"IF(ISBLANK(B161),\"\",VLOOKUP(B161,Country!A:B,2))","v":""},null,{"$f":"IF(ISBLANK(D161),\"\",VLOOKUP(D161,Income!A:B,2))","v":""},"",null,"",""]
[null,null,{"$f":"IF(ISBLANK(B162),\"\",VLOOKUP(B162,Country!A:B,2))","v":""},null,{"$f":"IF(ISBLANK(D162),\"\",VLOOKUP(D162,Income!A:B,2))","v":""},"",null,"",""]
[null,null,{"$f":"IF(ISBLANK(B163),\"\",VLOOKUP(B163,Country!A:B,2))","v":""},null,{"$f":"IF(ISBLANK(D163),\"\",VLOOKUP(D163,Income!A:B,2))","v":""},"",null,"",""]
[null,null,{"$f":"IF(ISBLANK(B164),\"\",VLOOKUP(B164,Country!A:B,2))","v":""},null,{"$f":"IF(ISBLANK(D164),\"\",VLOOKUP(D164,Income!A:B,2))","v":""},"",null,"",""]
[null,null,{"$f":"IF(ISBLANK(B165),\"\",VLOOKUP(B165,Country!A:B,2))","v":""},null,{"$f":"IF(ISBLANK(D165),\"\",VLOOKUP(D165,Income!A:B,2))","v":""},"",null,"",""]
[null,null,{"$f":"IF(ISBLANK(B166),\"\",VLOOKUP(B166,Country!A:B,2))","v":""},null,{"$f":"IF(ISBLANK(D166),\"\",VLOOKUP(D166,Income!A:B,2))","v":""},"",null,"",""]
[null,null,{"$f":"IF(ISBLANK(B167),\"\",VLOOKUP(B167,Country!A:B,2))","v":""},null,{"$f":"IF(ISBLANK(D167),\"\",VLOOKUP(D167,Income!A:B,2))","v":""},"",null,"",""]
[null,null,{"$f":"IF(ISBLANK(B168),\"\",VLOOKUP(B168,Country!A:B,2))","v":""},null,{"$f":"IF(ISBLANK(D168),\"\",VLOOKUP(D168,Income!A:B,2))","v":""},"",null,"",""]
[null,null,{"$f":"IF(ISBLANK(B169),\"\",VLOOKUP(B169,Country!A:B,2))","v":""},null,{"$f":"IF(ISBLANK(D169),\"\",VLOOKUP(D169,Income!A:B,2))","v":""},"",null,"",""]
[null,null,{"$f":"IF(ISBLANK(B170),\"\",VLOOKUP(B170,Country!A:B,2))","v":""},null,{"$f":"IF(ISBLANK(D170),\"\",VLOOKUP(D170,Income!A:B,2))","v":""},"",null,"",""]
[null,null,{"$f":"IF(ISBLANK(B171),\"\",VLOOKUP(B171,Country!A:B,2))","v":""},null,{"$f":"IF(ISBLANK(D171),\"\",VLOOKUP(D171,Income!A:B,2))","v":""},"",null,"",""]
[null,null,{"$f":"IF(ISBLANK(B172),\"\",VLOOKUP(B172,Country!A:B,2))","v":""},null,{"$f":"IF(ISBLANK(D172),\"\",VLOOKUP(D172,Income!A:B,2))","v":""},"",null,"",""]
[null,null,{"$f":"IF(ISBLANK(B173),\"\",VLOOKUP(B173,Country!A:B,2))","v":""},null,{"$f":"IF(ISBLANK(D173),\"\",VLOOKUP(D173,Income!A:B,2))","v":""},"",null,"",""]
[null,null,{"$f":"IF(ISBLANK(B174),\"\",VLOOKUP(B174,Country!A:B,2))","v":""},null,{"$f":"IF(ISBLANK(D174),\"\",VLOOKUP(D174,Income!A:B,2))","v":""},"",null,"",""]
[null,null,{"$f":"IF(ISBLANK(B175),\"\",VLOOKUP(B175,Country!A:B,2))","v":""},null,{"$f":"IF(ISBLANK(D175),\"\",VLOOKUP(D175,Income!A:B,2))","v":""},{"$f":"IF(OR(C175=\"\",E175=\"\"),\"\",IF(ISNA(INDEX(RateRange,INDEX(RateRange,MATCH(E175,IncomeTypes,0),MATCH(C175,Countries,0)))),INDEX(RateRange,MATCH(E175,IncomeTypes,0),MATCH(\"OTH\",Countries,0)),INDEX(RateRange,MATCH(E175,IncomeTypes,0),MATCH(C175,Countries,0))))","v":""},null,"",""]
[null,null,{"$f":"IF(ISBLANK(B176),\"\",VLOOKUP(B176,Country!A:B,2))","v":""},null,{"$f":"IF(ISBLANK(D176),\"\",VLOOKUP(D176,Income!A:B,2))","v":""},"",null,"",""]
[null,null,{"$f":"IF(ISBLANK(B177),\"\",VLOOKUP(B177,Country!A:B,2))","v":""},null,{"$f":"IF(ISBLANK(D177),\"\",VLOOKUP(D177,Income!A:B,2))","v":""},"",null,"",""]
[null,null,{"$f":"IF(ISBLANK(B178),\"\",VLOOKUP(B178,Country!A:B,2))","v":""},null,{"$f":"IF(ISBLANK(D178),\"\",VLOOKUP(D178,Income!A:B,2))","v":""},"",null,"",""]
[null,null,{"$f":"IF(ISBLANK(B179),\"\",VLOOKUP(B179,Country!A:B,2))","v":""},null,{"$f":"IF(ISBLANK(D179),\"\",VLOOKUP(D179,Income!A:B,2))","v":""},"",null,"",""]
[null,null,{"$f":"IF(ISBLANK(B180),\"\",VLOOKUP(B180,Country!A:B,2))","v":""},null,{"$f":"IF(ISBLANK(D180),\"\",VLOOKUP(D180,Income!A:B,2))","v":""},"",null,"",""]
[null,null,{"$f":"IF(ISBLANK(B181),\"\",VLOOKUP(B181,Country!A:B,2))","v":""},null,{"$f":"IF(ISBLANK(D181),\"\",VLOOKUP(D181,Income!A:B,2))","v":""},"",null,"",""]
[null,null,{"$f":"IF(ISBLANK(B182),\"\",VLOOKUP(B182,Country!A:B,2))","v":""},null,{"$f":"IF(ISBLANK(D182),\"\",VLOOKUP(D182,Income!A:B,2))","v":""},"",null,"",""]
[null,null,{"$f":"IF(ISBLANK(B183),\"\",VLOOKUP(B183,Country!A:B,2))","v":""},null,{"$f":"IF(ISBLANK(D183),\"\",VLOOKUP(D183,Income!A:B,2))","v":""},"",null,"",""]
[null,null,{"$f":"IF(ISBLANK(B184),\"\",VLOOKUP(B184,Country!A:B,2))","v":""},null,{"$f":"IF(ISBLANK(D184),\"\",VLOOKUP(D184,Income!A:B,2))","v":""},"",null,"",""]
[null,null,{"$f":"IF(ISBLANK(B185),\"\",VLOOKUP(B185,Country!A:B,2))","v":""},null,{"$f":"IF(ISBLANK(D185),\"\",VLOOKUP(D185,Income!A:B,2))","v":""},"",null,"",""]
[null,null,{"$f":"IF(ISBLANK(B186),\"\",VLOOKUP(B186,Country!A:B,2))","v":""},null,{"$f":"IF(ISBLANK(D186),\"\",VLOOKUP(D186,Income!A:B,2))","v":""},"",null,"",""]
[null,null,{"$f":"IF(ISBLANK(B187),\"\",VLOOKUP(B187,Country!A:B,2))","v":""},null,{"$f":"IF(ISBLANK(D187),\"\",VLOOKUP(D187,Income!A:B,2))","v":""},"",null,"",""]
[null,null,{"$f":"IF(ISBLANK(B188),\"\",VLOOKUP(B188,Country!A:B,2))","v":""},null,{"$f":"IF(ISBLANK(D188),\"\",VLOOKUP(D188,Income!A:B,2))","v":""},"",null,"",""]
[null,null,{"$f":"IF(ISBLANK(B189),\"\",VLOOKUP(B189,Country!A:B,2))","v":""},null,{"$f":"IF(ISBLANK(D189),\"\",VLOOKUP(D189,Income!A:B,2))","v":""},"",null,"",""]
[null,null,{"$f":"IF(ISBLANK(B190),\"\",VLOOKUP(B190,Country!A:B,2))","v":""},null,{"$f":"IF(ISBLANK(D190),\"\",VLOOKUP(D190,Income!A:B,2))","v":""},"",null,"",""]
[null,null,{"$f":"IF(ISBLANK(B191),\"\",VLOOKUP(B191,Country!A:B,2))","v":""},null,{"$f":"IF(ISBLANK(D191),\"\",VLOOKUP(D191,Income!A:B,2))","v":""},"",null,"",""]
[null,null,{"$f":"IF(ISBLANK(B192),\"\",VLOOKUP(B192,Country!A:B,2))","v":""},null,{"$f":"IF(ISBLANK(D192),\"\",VLOOKUP(D192,Income!A:B,2))","v":""},"",null,"",""]
[null,null,{"$f":"IF(ISBLANK(B193),\"\",VLOOKUP(B193,Country!A:B,2))","v":""},null,{"$f":"IF(ISBLANK(D193),\"\",VLOOKUP(D193,Income!A:B,2))","v":""},"",null,"",""]
[null,null,{"$f":"IF(ISBLANK(B194),\"\",VLOOKUP(B194,Country!A:B,2))","v":""},null,{"$f":"IF(ISBLANK(D194),\"\",VLOOKUP(D194,Income!A:B,2))","v":""},"",null,"",""]
[null,null,{"$f":"IF(ISBLANK(B195),\"\",VLOOKUP(B195,Country!A:B,2))","v":""},null,{"$f":"IF(ISBLANK(D195),\"\",VLOOKUP(D195,Income!A:B,2))","v":""},"",null,"",""]
[null,null,{"$f":"IF(ISBLANK(B196),\"\",VLOOKUP(B196,Country!A:B,2))","v":""},null,{"$f":"IF(ISBLANK(D196),\"\",VLOOKUP(D196,Income!A:B,2))","v":""},"",null,"",""]
[null,null,{"$f":"IF(ISBLANK(B197),\"\",VLOOKUP(B197,Country!A:B,2))","v":""},null,{"$f":"IF(ISBLANK(D197),\"\",VLOOKUP(D197,Income!A:B,2))","v":""},"",null,{"$f":"IF(F197=\"\",\"\",ROUND(G197*F197,2))","v":""},""]
[null,null,{"$f":"IF(ISBLANK(B198),\"\",VLOOKUP(B198,Country!A:B,2))","v":""},null,{"$f":"IF(ISBLANK(D198),\"\",VLOOKUP(D198,Income!A:B,2))","v":""},"",null,"",""]
[null,null,{"$f":"IF(ISBLANK(B199),\"\",VLOOKUP(B199,Country!A:B,2))","v":""},null,{"$f":"IF(ISBLANK(D199),\"\",VLOOKUP(D199,Income!A:B,2))","v":""},"",null,"",""]
[null,null,{"$f":"IF(ISBLANK(B200),\"\",VLOOKUP(B200,Country!A:B,2))","v":""},null,{"$f":"IF(ISBLANK(D200),\"\",VLOOKUP(D200,Income!A:B,2))","v":""},"",null,"",""]
[null,null,{"$f":"IF(ISBLANK(B201),\"\",VLOOKUP(B201,Country!A:B,2))","v":""},null,{"$f":"IF(ISBLANK(D201),\"\",VLOOKUP(D201,Income!A:B,2))","v":""},"",null,"",""]
[null,null,{"$f":"IF(ISBLANK(B202),\"\",VLOOKUP(B202,Country!A:B,2))","v":""},null,{"$f":"IF(ISBLANK(D202),\"\",VLOOKUP(D202,Income!A:B,2))","v":""},"",null,"",""]
[null,null,{"$f":"IF(ISBLANK(B203),\"\",VLOOKUP(B203,Country!A:B,2))","v":""},null,{"$f":"IF(ISBLANK(D203),\"\",VLOOKUP(D203,Income!A:B,2))","v":""},"",null,"",""]
[null,null,{"$f":"IF(ISBLANK(B204),\"\",VLOOKUP(B204,Country!A:B,2))","v":""},null,{"$f":"IF(ISBLANK(D204),\"\",VLOOKUP(D204,Income!A:B,2))","v":""},"",null,"",{"$f":"IF(H204=\"\",\"\",G204-H204)","v":""}]
[null,null,{"$f":"IF(ISBLANK(B205),\"\",VLOOKUP(B205,Country!A:B,2))","v":""},null,{"$f":"IF(ISBLANK(D205),\"\",VLOOKUP(D205,Income!A:B,2))","v":""},"",null,"",""]
[null,null,{"$f":"IF(ISBLANK(B206),\"\",VLOOKUP(B206,Country!A:B,2))","v":""},null,{"$f":"IF(ISBLANK(D206),\"\",VLOOKUP(D206,Income!A:B,2))","v":""},"",null,"",""]
[null,null,{"$f":"IF(ISBLANK(B207),\"\",VLOOKUP(B207,Country!A:B,2))","v":""},null,{"$f":"IF(ISBLANK(D207),\"\",VLOOKUP(D207,Income!A:B,2))","v":""},"",null,"",""]
[null,null,{"$f":"IF(ISBLANK(B208),\"\",VLOOKUP(B208,Country!A:B,2))","v":""},null,{"$f":"IF(ISBLANK(D208),\"\",VLOOKUP(D208,Income!A:B,2))","v":""},"",null,"",""]
[null,null,{"$f":"IF(ISBLANK(B209),\"\",VLOOKUP(B209,Country!A:B,2))","v":""},null,{"$f":"IF(ISBLANK(D209),\"\",VLOOKUP(D209,Income!A:B,2))","v":""},"",null,"",""]
[null,null,{"$f":"IF(ISBLANK(B210),\"\",VLOOKUP(B210,Country!A:B,2))","v":""},null,{"$f":"IF(ISBLANK(D210),\"\",VLOOKUP(D210,Income!A:B,2))","v":""},"",null,"",""]
[null,null,{"$f":"IF(ISBLANK(B211),\"\",VLOOKUP(B211,Country!A:B,2))","v":""},null,{"$f":"IF(ISBLANK(D211),\"\",VLOOKUP(D211,Income!A:B,2))","v":""},"",null,"",""]
[null,null,{"$f":"IF(ISBLANK(B212),\"\",VLOOKUP(B212,Country!A:B,2))","v":""},null,{"$f":"IF(ISBLANK(D212),\"\",VLOOKUP(D212,Income!A:B,2))","v":""},"",null,"",""]
[null,null,{"$f":"IF(ISBLANK(B213),\"\",VLOOKUP(B213,Country!A:B,2))","v":""},null,{"$f":"IF(ISBLANK(D213),\"\",VLOOKUP(D213,Income!A:B,2))","v":""},"",null,"",""]
[null,null,{"$f":"IF(ISBLANK(B214),\"\",VLOOKUP(B214,Country!A:B,2))","v":""},null,{"$f":"IF(ISBLANK(D214),\"\",VLOOKUP(D214,Income!A:B,2))","v":""},"",null,"",""]
[null,null,{"$f":"IF(ISBLANK(B215),\"\",VLOOKUP(B215,Country!A:B,2))","v":""},null,{"$f":"IF(ISBLANK(D215),\"\",VLOOKUP(D215,Income!A:B,2))","v":""},"",null,"",""]
[null,null,{"$f":"IF(ISBLANK(B216),\"\",VLOOKUP(B216,Country!A:B,2))","v":""},null,{"$f":"IF(ISBLANK(D216),\"\",VLOOKUP(D216,Income!A:B,2))","v":""},"",null,"",""]
[null,null,{"$f":"IF(ISBLANK(B217),\"\",VLOOKUP(B217,Country!A:B,2))","v":""},null,{"$f":"IF(ISBLANK(D217),\"\",VLOOKUP(D217,Income!A:B,2))","v":""},"",null,"",""]
[null,null,{"$f":"IF(ISBLANK(B218),\"\",VLOOKUP(B218,Country!A:B,2))","v":""},null,{"$f":"IF(ISBLANK(D218),\"\",VLOOKUP(D218,Income!A:B,2))","v":""},"",null,"",""]
[null,null,{"$f":"IF(ISBLANK(B219),\"\",VLOOKUP(B219,Country!A:B,2))","v":""},null,{"$f":"IF(ISBLANK(D219),\"\",VLOOKUP(D219,Income!A:B,2))","v":""},"",null,"",""]
[null,null,{"$f":"IF(ISBLANK(B220),\"\",VLOOKUP(B220,Country!A:B,2))","v":""},null,{"$f":"IF(ISBLANK(D220),\"\",VLOOKUP(D220,Income!A:B,2))","v":""},"",null,"",""]
[null,null,{"$f":"IF(ISBLANK(B221),\"\",VLOOKUP(B221,Country!A:B,2))","v":""},null,{"$f":"IF(ISBLANK(D221),\"\",VLOOKUP(D221,Income!A:B,2))","v":""},"",null,"",""]
[null,null,{"$f":"IF(ISBLANK(B222),\"\",VLOOKUP(B222,Country!A:B,2))","v":""},null,{"$f":"IF(ISBLANK(D222),\"\",VLOOKUP(D222,Income!A:B,2))","v":""},"",null,"",""]
[null,null,{"$f":"IF(ISBLANK(B223),\"\",VLOOKUP(B223,Country!A:B,2))","v":""},null,{"$f":"IF(ISBLANK(D223),\"\",VLOOKUP(D223,Income!A:B,2))","v":""},"",null,"",""]
[null,null,{"$f":"IF(ISBLANK(B224),\"\",VLOOKUP(B224,Country!A:B,2))","v":""},null,{"$f":"IF(ISBLANK(D224),\"\",VLOOKUP(D224,Income!A:B,2))","v":""},"",null,"",""]
[null,null,{"$f":"IF(ISBLANK(B225),\"\",VLOOKUP(B225,Country!A:B,2))","v":""},null,{"$f":"IF(ISBLANK(D225),\"\",VLOOKUP(D225,Income!A:B,2))","v":""},"",null,"",""]
[null,null,{"$f":"IF(ISBLANK(B226),\"\",VLOOKUP(B226,Country!A:B,2))","v":""},null,{"$f":"IF(ISBLANK(D226),\"\",VLOOKUP(D226,Income!A:B,2))","v":""},"",null,"",""]
[null,null,{"$f":"IF(ISBLANK(B227),\"\",VLOOKUP(B227,Country!A:B,2))","v":""},null,{"$f":"IF(ISBLANK(D227),\"\",VLOOKUP(D227,Income!A:B,2))","v":""},"",null,"",""]
[null,null,{"$f":"IF(ISBLANK(B228),\"\",VLOOKUP(B228,Country!A:B,2))","v":""},null,{"$f":"IF(ISBLANK(D228),\"\",VLOOKUP(D228,Income!A:B,2))","v":""},"",null,"",""]
[null,null,{"$f":"IF(ISBLANK(B229),\"\",VLOOKUP(B229,Country!A:B,2))","v":""},null,{"$f":"IF(ISBLANK(D229),\"\",VLOOKUP(D229,Income!A:B,2))","v":""},"",null,"",""]
[null,null,{"$f":"IF(ISBLANK(B230),\"\",VLOOKUP(B230,Country!A:B,2))","v":""},null,{"$f":"IF(ISBLANK(D230),\"\",VLOOKUP(D230,Income!A:B,2))","v":""},"",null,"",""]
[null,null,{"$f":"IF(ISBLANK(B231),\"\",VLOOKUP(B231,Country!A:B,2))","v":""},null,{"$f":"IF(ISBLANK(D231),\"\",VLOOKUP(D231,Income!A:B,2))","v":""},"",null,"",""]
[null,null,{"$f":"IF(ISBLANK(B232),\"\",VLOOKUP(B232,Country!A:B,2))","v":""},null,{"$f":"IF(ISBLANK(D232),\"\",VLOOKUP(D232,Income!A:B,2))","v":""},"",null,"",""]
[null,null,{"$f":"IF(ISBLANK(B233),\"\",VLOOKUP(B233,Country!A:B,2))","v":""},null,{"$f":"IF(ISBLANK(D233),\"\",VLOOKUP(D233,Income!A:B,2))","v":""},"",null,"",""]
[null,null,{"$f":"IF(ISBLANK(B234),\"\",VLOOKUP(B234,Country!A:B,2))","v":""},null,{"$f":"IF(ISBLANK(D234),\"\",VLOOKUP(D234,Income!A:B,2))","v":""},"",null,"",""]
[null,null,{"$f":"IF(ISBLANK(B235),\"\",VLOOKUP(B235,Country!A:B,2))","v":""},null,{"$f":"IF(ISBLANK(D235),\"\",VLOOKUP(D235,Income!A:B,2))","v":""},"",null,"",""]
[null,null,{"$f":"IF(ISBLANK(B236),\"\",VLOOKUP(B236,Country!A:B,2))","v":""},null,{"$f":"IF(ISBLANK(D236),\"\",VLOOKUP(D236,Income!A:B,2))","v":""},"",null,"",""]
[null,null,{"$f":"IF(ISBLANK(B237),\"\",VLOOKUP(B237,Country!A:B,2))","v":""},null,{"$f":"IF(ISBLANK(D237),\"\",VLOOKUP(D237,Income!A:B,2))","v":""},"",null,"",""]
[null,null,{"$f":"IF(ISBLANK(B238),\"\",VLOOKUP(B238,Country!A:B,2))","v":""},null,{"$f":"IF(ISBLANK(D238),\"\",VLOOKUP(D238,Income!A:B,2))","v":""},"",null,"",""]
[null,null,{"$f":"IF(ISBLANK(B239),\"\",VLOOKUP(B239,Country!A:B,2))","v":""},null,{"$f":"IF(ISBLANK(D239),\"\",VLOOKUP(D239,Income!A:B,2))","v":""},{"$f":"IF(OR(C239=\"\",E239=\"\"),\"\",IF(ISNA(INDEX(RateRange,INDEX(RateRange,MATCH(E239,IncomeTypes,0),MATCH(C239,Countries,0)))),INDEX(RateRange,MATCH(E239,IncomeTypes,0),MATCH(\"OTH\",Countries,0)),INDEX(RateRange,MATCH(E239,IncomeTypes,0),MATCH(C239,Countries,0))))","v":""},null,"",""]
[null,null,{"$f":"IF(ISBLANK(B240),\"\",VLOOKUP(B240,Country!A:B,2))","v":""},null,{"$f":"IF(ISBLANK(D240),\"\",VLOOKUP(D240,Income!A:B,2))","v":""},"",null,"",""]
[null,null,{"$f":"IF(ISBLANK(B241),\"\",VLOOKUP(B241,Country!A:B,2))","v":""},null,{"$f":"IF(ISBLANK(D241),\"\",VLOOKUP(D241,Income!A:B,2))","v":""},"",null,"",""]
[null,null,{"$f":"IF(ISBLANK(B242),\"\",VLOOKUP(B242,Country!A:B,2))","v":""},null,{"$f":"IF(ISBLANK(D242),\"\",VLOOKUP(D242,Income!A:B,2))","v":""},"",null,"",""]
[null,null,{"$f":"IF(ISBLANK(B243),\"\",VLOOKUP(B243,Country!A:B,2))","v":""},null,{"$f":"IF(ISBLANK(D243),\"\",VLOOKUP(D243,Income!A:B,2))","v":""},"",null,"",""]
[null,null,{"$f":"IF(ISBLANK(B244),\"\",VLOOKUP(B244,Country!A:B,2))","v":""},null,{"$f":"IF(ISBLANK(D244),\"\",VLOOKUP(D244,Income!A:B,2))","v":""},"",null,"",""]
[null,null,{"$f":"IF(ISBLANK(B245),\"\",VLOOKUP(B245,Country!A:B,2))","v":""},null,{"$f":"IF(ISBLANK(D245),\"\",VLOOKUP(D245,Income!A:B,2))","v":""},"",null,"",""]
[null,null,{"$f":"IF(ISBLANK(B246),\"\",VLOOKUP(B246,Country!A:B,2))","v":""},null,{"$f":"IF(ISBLANK(D246),\"\",VLOOKUP(D246,Income!A:B,2))","v":""},"",null,"",""]
[null,null,{"$f":"IF(ISBLANK(B247),\"\",VLOOKUP(B247,Country!A:B,2))","v":""},null,{"$f":"IF(ISBLANK(D247),\"\",VLOOKUP(D247,Income!A:B,2))","v":""},"",null,"",""]
[null,null,{"$f":"IF(ISBLANK(B248),\"\",VLOOKUP(B248,Country!A:B,2))","v":""},null,{"$f":"IF(ISBLANK(D248),\"\",VLOOKUP(D248,Income!A:B,2))","v":""},"",null,"",""]
[null,null,{"$f":"IF(ISBLANK(B249),\"\",VLOOKUP(B249,Country!A:B,2))","v":""},null,{"$f":"IF(ISBLANK(D249),\"\",VLOOKUP(D249,Income!A:B,2))","v":""},"",null,"",""]
[null,null,{"$f":"IF(ISBLANK(B250),\"\",VLOOKUP(B250,Country!A:B,2))","v":""},null,{"$f":"IF(ISBLANK(D250),\"\",VLOOKUP(D250,Income!A:B,2))","v":""},"",null,"",""]
[null,null,{"$f":"IF(ISBLANK(B251),\"\",VLOOKUP(B251,Country!A:B,2))","v":""},null,{"$f":"IF(ISBLANK(D251),\"\",VLOOKUP(D251,Income!A:B,2))","v":""},"",null,"",""]
[null,null,{"$f":"IF(ISBLANK(B252),\"\",VLOOKUP(B252,Country!A:B,2))","v":""},null,{"$f":"IF(ISBLANK(D252),\"\",VLOOKUP(D252,Income!A:B,2))","v":""},"",null,"",""]
[null,null,{"$f":"IF(ISBLANK(B253),\"\",VLOOKUP(B253,Country!A:B,2))","v":""},null,{"$f":"IF(ISBLANK(D253),\"\",VLOOKUP(D253,Income!A:B,2))","v":""},"",null,"",""]
[null,null,{"$f":"IF(ISBLANK(B254),\"\",VLOOKUP(B254,Country!A:B,2))","v":""},null,{"$f":"IF(ISBLANK(D254),\"\",VLOOKUP(D254,Income!A:B,2))","v":""},"",null,"",""]
[null,null,{"$f":"IF(ISBLANK(B255),\"\",VLOOKUP(B255,Country!A:B,2))","v":""},null,{"$f":"IF(ISBLANK(D255),\"\",VLOOKUP(D255,Income!A:B,2))","v":""},"",null,"",""]
[null,null,{"$f":"IF(ISBLANK(B256),\"\",VLOOKUP(B256,Country!A:B,2))","v":""},null,{"$f":"IF(ISBLANK(D256),\"\",VLOOKUP(D256,Income!A:B,2))","v":""},"",null,"",""]
[null,null,{"$f":"IF(ISBLANK(B257),\"\",VLOOKUP(B257,Country!A:B,2))","v":""},null,{"$f":"IF(ISBLANK(D257),\"\",VLOOKUP(D257,Income!A:B,2))","v":""},"",null,"",""]
[null,null,{"$f":"IF(ISBLANK(B258),\"\",VLOOKUP(B258,Country!A:B,2))","v":""},null,{"$f":"IF(ISBLANK(D258),\"\",VLOOKUP(D258,Income!A:B,2))","v":""},"",null,"",""]
[null,null,{"$f":"IF(ISBLANK(B259),\"\",VLOOKUP(B259,Country!A:B,2))","v":""},null,{"$f":"IF(ISBLANK(D259),\"\",VLOOKUP(D259,Income!A:B,2))","v":""},"",null,"",""]
[null,null,{"$f":"IF(ISBLANK(B260),\"\",VLOOKUP(B260,Country!A:B,2))","v":""},null,{"$f":"IF(ISBLANK(D260),\"\",VLOOKUP(D260,Income!A:B,2))","v":""},"",null,"",""]
[null,null,{"$f":"IF(ISBLANK(B261),\"\",VLOOKUP(B261,Country!A:B,2))","v":""},null,{"$f":"IF(ISBLANK(D261),\"\",VLOOKUP(D261,Income!A:B,2))","v":""},"",null,{"$f":"IF(F261=\"\",\"\",ROUND(G261*F261,2))","v":""},""]
[null,null,{"$f":"IF(ISBLANK(B262),\"\",VLOOKUP(B262,Country!A:B,2))","v":""},null,{"$f":"IF(ISBLANK(D262),\"\",VLOOKUP(D262,Income!A:B,2))","v":""},"",null,"",""]
[null,null,{"$f":"IF(ISBLANK(B263),\"\",VLOOKUP(B263,Country!A:B,2))","v":""},null,{"$f":"IF(ISBLANK(D263),\"\",VLOOKUP(D263,Income!A:B,2))","v":""},"",null,"",""]
[null,null,{"$f":"IF(ISBLANK(B264),\"\",VLOOKUP(B264,Country!A:B,2))","v":""},null,{"$f":"IF(ISBLANK(D264),\"\",VLOOKUP(D264,Income!A:B,2))","v":""},"",null,"",""]
[null,null,{"$f":"IF(ISBLANK(B265),\"\",VLOOKUP(B265,Country!A:B,2))","v":""},null,{"$f":"IF(ISBLANK(D265),\"\",VLOOKUP(D265,Income!A:B,2))","v":""},"",null,"",""]
[null,null,{"$f":"IF(ISBLANK(B266),\"\",VLOOKUP(B266,Country!A:B,2))","v":""},null,{"$f":"IF(ISBLANK(D266),\"\",VLOOKUP(D266,Income!A:B,2))","v":""},"",null,"",""]
[null,null,{"$f":"IF(ISBLANK(B267),\"\",VLOOKUP(B267,Country!A:B,2))","v":""},null,{"$f":"IF(ISBLANK(D267),\"\",VLOOKUP(D267,Income!A:B,2))","v":""},"",null,"",""]
[null,null,{"$f":"IF(ISBLANK(B268),\"\",VLOOKUP(B268,Country!A:B,2))","v":""},null,{"$f":"IF(ISBLANK(D268),\"\",VLOOKUP(D268,Income!A:B,2))","v":""},"",null,"",{"$f":"IF(H268=\"\",\"\",G268-H268)","v":""}]
[null,null,{"$f":"IF(ISBLANK(B269),\"\",VLOOKUP(B269,Country!A:B,2))","v":""},null,{"$f":"IF(ISBLANK(D269),\"\",VLOOKUP(D269,Income!A:B,2))","v":""},"",null,"",""]
[null,null,{"$f":"IF(ISBLANK(B270),\"\",VLOOKUP(B270,Country!A:B,2))","v":""},null,{"$f":"IF(ISBLANK(D270),\"\",VLOOKUP(D270,Income!A:B,2))","v":""},"",null,"",""]
[null,null,{"$f":"IF(ISBLANK(B271),\"\",VLOOKUP(B271,Country!A:B,2))","v":""},null,{"$f":"IF(ISBLANK(D271),\"\",VLOOKUP(D271,Income!A:B,2))","v":""},"",null,"",""]
[null,null,{"$f":"IF(ISBLANK(B272),\"\",VLOOKUP(B272,Country!A:B,2))","v":""},null,{"$f":"IF(ISBLANK(D272),\"\",VLOOKUP(D272,Income!A:B,2))","v":""},"",null,"",""]
[null,null,{"$f":"IF(ISBLANK(B273),\"\",VLOOKUP(B273,Country!A:B,2))","v":""},null,{"$f":"IF(ISBLANK(D273),\"\",VLOOKUP(D273,Income!A:B,2))","v":""},"",null,"",""]
[null,null,{"$f":"IF(ISBLANK(B274),\"\",VLOOKUP(B274,Country!A:B,2))","v":""},null,{"$f":"IF(ISBLANK(D274),\"\",VLOOKUP(D274,Income!A:B,2))","v":""},"",null,"",""]
[null,null,{"$f":"IF(ISBLANK(B275),\"\",VLOOKUP(B275,Country!A:B,2))","v":""},null,{"$f":"IF(ISBLANK(D275),\"\",VLOOKUP(D275,Income!A:B,2))","v":""},"",null,"",""]
[null,null,{"$f":"IF(ISBLANK(B276),\"\",VLOOKUP(B276,Country!A:B,2))","v":""},null,{"$f":"IF(ISBLANK(D276),\"\",VLOOKUP(D276,Income!A:B,2))","v":""},"",null,"",""]
[null,null,{"$f":"IF(ISBLANK(B277),\"\",VLOOKUP(B277,Country!A:B,2))","v":""},null,{"$f":"IF(ISBLANK(D277),\"\",VLOOKUP(D277,Income!A:B,2))","v":""},"",null,"",""]
[null,null,{"$f":"IF(ISBLANK(B278),\"\",VLOOKUP(B278,Country!A:B,2))","v":""},null,{"$f":"IF(ISBLANK(D278),\"\",VLOOKUP(D278,Income!A:B,2))","v":""},"",null,"",""]
[null,null,{"$f":"IF(ISBLANK(B279),\"\",VLOOKUP(B279,Country!A:B,2))","v":""},null,{"$f":"IF(ISBLANK(D279),\"\",VLOOKUP(D279,Income!A:B,2))","v":""},"",null,"",""]
[null,null,{"$f":"IF(ISBLANK(B280),\"\",VLOOKUP(B280,Country!A:B,2))","v":""},null,{"$f":"IF(ISBLANK(D280),\"\",VLOOKUP(D280,Income!A:B,2))","v":""},"",null,"",""]
[null,null,{"$f":"IF(ISBLANK(B281),\"\",VLOOKUP(B281,Country!A:B,2))","v":""},null,{"$f":"IF(ISBLANK(D281),\"\",VLOOKUP(D281,Income!A:B,2))","v":""},"",null,"",""]
[null,null,{"$f":"IF(ISBLANK(B282),\"\",VLOOKUP(B282,Country!A:B,2))","v":""},null,{"$f":"IF(ISBLANK(D282),\"\",VLOOKUP(D282,Income!A:B,2))","v":""},"",null,"",""]
[null,null,{"$f":"IF(ISBLANK(B283),\"\",VLOOKUP(B283,Country!A:B,2))","v":""},null,{"$f":"IF(ISBLANK(D283),\"\",VLOOKUP(D283,Income!A:B,2))","v":""},"",null,"",""]
[null,null,{"$f":"IF(ISBLANK(B284),\"\",VLOOKUP(B284,Country!A:B,2))","v":""},null,{"$f":"IF(ISBLANK(D284),\"\",VLOOKUP(D284,Income!A:B,2))","v":""},"",null,"",""]
[null,null,{"$f":"IF(ISBLANK(B285),\"\",VLOOKUP(B285,Country!A:B,2))","v":""},null,{"$f":"IF(ISBLANK(D285),\"\",VLOOKUP(D285,Income!A:B,2))","v":""},"",null,"",""]
[null,null,{"$f":"IF(ISBLANK(B286),\"\",VLOOKUP(B286,Country!A:B,2))","v":""},null,{"$f":"IF(ISBLANK(D286),\"\",VLOOKUP(D286,Income!A:B,2))","v":""},"",null,"",""]
[null,null,{"$f":"IF(ISBLANK(B287),\"\",VLOOKUP(B287,Country!A:B,2))","v":""},null,{"$f":"IF(ISBLANK(D287),\"\",VLOOKUP(D287,Income!A:B,2))","v":""},"",null,"",""]
[null,null,{"$f":"IF(ISBLANK(B288),\"\",VLOOKUP(B288,Country!A:B,2))","v":""},null,{"$f":"IF(ISBLANK(D288),\"\",VLOOKUP(D288,Income!A:B,2))","v":""},"",null,"",""]
[null,null,{"$f":"IF(ISBLANK(B289),\"\",VLOOKUP(B289,Country!A:B,2))","v":""},null,{"$f":"IF(ISBLANK(D289),\"\",VLOOKUP(D289,Income!A:B,2))","v":""},"",null,"",""]
[null,null,{"$f":"IF(ISBLANK(B290),\"\",VLOOKUP(B290,Country!A:B,2))","v":""},null,{"$f":"IF(ISBLANK(D290),\"\",VLOOKUP(D290,Income!A:B,2))","v":""},"",null,"",""]
[null,null,{"$f":"IF(ISBLANK(B291),\"\",VLOOKUP(B291,Country!A:B,2))","v":""},null,{"$f":"IF(ISBLANK(D291),\"\",VLOOKUP(D291,Income!A:B,2))","v":""},"",null,"",""]
[null,null,{"$f":"IF(ISBLANK(B292),\"\",VLOOKUP(B292,Country!A:B,2))","v":""},null,{"$f":"IF(ISBLANK(D292),\"\",VLOOKUP(D292,Income!A:B,2))","v":""},"",null,"",""]
[null,null,{"$f":"IF(ISBLANK(B293),\"\",VLOOKUP(B293,Country!A:B,2))","v":""},null,{"$f":"IF(ISBLANK(D293),\"\",VLOOKUP(D293,Income!A:B,2))","v":""},"",null,"",""]
[null,null,{"$f":"IF(ISBLANK(B294),\"\",VLOOKUP(B294,Country!A:B,2))","v":""},null,{"$f":"IF(ISBLANK(D294),\"\",VLOOKUP(D294,Income!A:B,2))","v":""},"",null,"",""]
[null,null,{"$f":"IF(ISBLANK(B295),\"\",VLOOKUP(B295,Country!A:B,2))","v":""},null,{"$f":"IF(ISBLANK(D295),\"\",VLOOKUP(D295,Income!A:B,2))","v":""},"",null,"",""]
[null,null,{"$f":"IF(ISBLANK(B296),\"\",VLOOKUP(B296,Country!A:B,2))","v":""},null,{"$f":"IF(ISBLANK(D296),\"\",VLOOKUP(D296,Income!A:B,2))","v":""},"",null,"",""]
[null,null,{"$f":"IF(ISBLANK(B297),\"\",VLOOKUP(B297,Country!A:B,2))","v":""},null,{"$f":"IF(ISBLANK(D297),\"\",VLOOKUP(D297,Income!A:B,2))","v":""},"",null,"",""]
[null,null,{"$f":"IF(ISBLANK(B298),\"\",VLOOKUP(B298,Country!A:B,2))","v":""},null,{"$f":"IF(ISBLANK(D298),\"\",VLOOKUP(D298,Income!A:B,2))","v":""},"",null,"",""]
[null,null,{"$f":"IF(ISBLANK(B299),\"\",VLOOKUP(B299,Country!A:B,2))","v":""},null,{"$f":"IF(ISBLANK(D299),\"\",VLOOKUP(D299,Income!A:B,2))","v":""},"",null,"",""]
[null,null,{"$f":"IF(ISBLANK(B300),\"\",VLOOKUP(B300,Country!A:B,2))","v":""},null,{"$f":"IF(ISBLANK(D300),\"\",VLOOKUP(D300,Income!A:B,2))","v":""},"",null,"",""]
[null,null,{"$f":"IF(ISBLANK(B301),\"\",VLOOKUP(B301,Country!A:B,2))","v":""},null,{"$f":"IF(ISBLANK(D301),\"\",VLOOKUP(D301,Income!A:B,2))","v":""},"",null,"",""]
[null,null,{"$f":"IF(ISBLANK(B302),\"\",VLOOKUP(B302,Country!A:B,2))","v":""},null,{"$f":"IF(ISBLANK(D302),\"\",VLOOKUP(D302,Income!A:B,2))","v":""},"",null,"",""]
[null,null,{"$f":"IF(ISBLANK(B303),\"\",VLOOKUP(B303,Country!A:B,2))","v":""},null,{"$f":"IF(ISBLANK(D303),\"\",VLOOKUP(D303,Income!A:B,2))","v":""},{"$f":"IF(OR(C303=\"\",E303=\"\"),\"\",IF(ISNA(INDEX(RateRange,INDEX(RateRange,MATCH(E303,IncomeTypes,0),MATCH(C303,Countries,0)))),INDEX(RateRange,MATCH(E303,IncomeTypes,0),MATCH(\"OTH\",Countries,0)),INDEX(RateRange,MATCH(E303,IncomeTypes,0),MATCH(C303,Countries,0))))","v":""},null,"",""]
[null,null,{"$f":"IF(ISBLANK(B304),\"\",VLOOKUP(B304,Country!A:B,2))","v":""},null,{"$f":"IF(ISBLANK(D304),\"\",VLOOKUP(D304,Income!A:B,2))","v":""},"",null,"",""]
[null,null,{"$f":"IF(ISBLANK(B305),\"\",VLOOKUP(B305,Country!A:B,2))","v":""},null,{"$f":"IF(ISBLANK(D305),\"\",VLOOKUP(D305,Income!A:B,2))","v":""},"",null,"",""]
[null,null,{"$f":"IF(ISBLANK(B306),\"\",VLOOKUP(B306,Country!A:B,2))","v":""},null,{"$f":"IF(ISBLANK(D306),\"\",VLOOKUP(D306,Income!A:B,2))","v":""},"",null,"",""]
[null,null,{"$f":"IF(ISBLANK(B307),\"\",VLOOKUP(B307,Country!A:B,2))","v":""},null,{"$f":"IF(ISBLANK(D307),\"\",VLOOKUP(D307,Income!A:B,2))","v":""},"",null,"",""]
[null,null,{"$f":"IF(ISBLANK(B308),\"\",VLOOKUP(B308,Country!A:B,2))","v":""},null,{"$f":"IF(ISBLANK(D308),\"\",VLOOKUP(D308,Income!A:B,2))","v":""},"",null,"",""]
[null,null,{"$f":"IF(ISBLANK(B309),\"\",VLOOKUP(B309,Country!A:B,2))","v":""},null,{"$f":"IF(ISBLANK(D309),\"\",VLOOKUP(D309,Income!A:B,2))","v":""},"",null,"",""]
[null,null,{"$f":"IF(ISBLANK(B310),\"\",VLOOKUP(B310,Country!A:B,2))","v":""},null,{"$f":"IF(ISBLANK(D310),\"\",VLOOKUP(D310,Income!A:B,2))","v":""},"",null,"",""]
[null,null,{"$f":"IF(ISBLANK(B311),\"\",VLOOKUP(B311,Country!A:B,2))","v":""},null,{"$f":"IF(ISBLANK(D311),\"\",VLOOKUP(D311,Income!A:B,2))","v":""},"",null,"",""]
[null,null,{"$f":"IF(ISBLANK(B312),\"\",VLOOKUP(B312,Country!A:B,2))","v":""},null,{"$f":"IF(ISBLANK(D312),\"\",VLOOKUP(D312,Income!A:B,2))","v":""},"",null,"",""]
[null,null,{"$f":"IF(ISBLANK(B313),\"\",VLOOKUP(B313,Country!A:B,2))","v":""},null,{"$f":"IF(ISBLANK(D313),\"\",VLOOKUP(D313,Income!A:B,2))","v":""},"",null,"",""]
[null,null,{"$f":"IF(ISBLANK(B314),\"\",VLOOKUP(B314,Country!A:B,2))","v":""},null,{"$f":"IF(ISBLANK(D314),\"\",VLOOKUP(D314,Income!A:B,2))","v":""},"",null,"",""]
[null,null,{"$f":"IF(ISBLANK(B315),\"\",VLOOKUP(B315,Country!A:B,2))","v":""},null,{"$f":"IF(ISBLANK(D315),\"\",VLOOKUP(D315,Income!A:B,2))","v":""},"",null,"",""]
[null,null,{"$f":"IF(ISBLANK(B316),\"\",VLOOKUP(B316,Country!A:B,2))","v":""},null,{"$f":"IF(ISBLANK(D316),\"\",VLOOKUP(D316,Income!A:B,2))","v":""},"",null,"",""]
[null,null,{"$f":"IF(ISBLANK(B317),\"\",VLOOKUP(B317,Country!A:B,2))","v":""},null,{"$f":"IF(ISBLANK(D317),\"\",VLOOKUP(D317,Income!A:B,2))","v":""},"",null,"",""]
[null,null,{"$f":"IF(ISBLANK(B318),\"\",VLOOKUP(B318,Country!A:B,2))","v":""},null,{"$f":"IF(ISBLANK(D318),\"\",VLOOKUP(D318,Income!A:B,2))","v":""},"",null,"",""]
[null,null,{"$f":"IF(ISBLANK(B319),\"\",VLOOKUP(B319,Country!A:B,2))","v":""},null,{"$f":"IF(ISBLANK(D319),\"\",VLOOKUP(D319,Income!A:B,2))","v":""},"",null,"",""]
[null,null,{"$f":"IF(ISBLANK(B320),\"\",VLOOKUP(B320,Country!A:B,2))","v":""},null,{"$f":"IF(ISBLANK(D320),\"\",VLOOKUP(D320,Income!A:B,2))","v":""},"",null,"",""]
[null,null,{"$f":"IF(ISBLANK(B321),\"\",VLOOKUP(B321,Country!A:B,2))","v":""},null,{"$f":"IF(ISBLANK(D321),\"\",VLOOKUP(D321,Income!A:B,2))","v":""},"",null,"",""]
[null,null,{"$f":"IF(ISBLANK(B322),\"\",VLOOKUP(B322,Country!A:B,2))","v":""},null,{"$f":"IF(ISBLANK(D322),\"\",VLOOKUP(D322,Income!A:B,2))","v":""},"",null,"",""]
[null,null,{"$f":"IF(ISBLANK(B323),\"\",VLOOKUP(B323,Country!A:B,2))","v":""},null,{"$f":"IF(ISBLANK(D323),\"\",VLOOKUP(D323,Income!A:B,2))","v":""},"",null,"",""]
[null,null,{"$f":"IF(ISBLANK(B324),\"\",VLOOKUP(B324,Country!A:B,2))","v":""},null,{"$f":"IF(ISBLANK(D324),\"\",VLOOKUP(D324,Income!A:B,2))","v":""},"",null,"",""]
[null,null,{"$f":"IF(ISBLANK(B325),\"\",VLOOKUP(B325,Country!A:B,2))","v":""},null,{"$f":"IF(ISBLANK(D325),\"\",VLOOKUP(D325,Income!A:B,2))","v":""},"",null,{"$f":"IF(F325=\"\",\"\",ROUND(G325*F325,2))","v":""},""]
[null,null,{"$f":"IF(ISBLANK(B326),\"\",VLOOKUP(B326,Country!A:B,2))","v":""},null,{"$f":"IF(ISBLANK(D326),\"\",VLOOKUP(D326,Income!A:B,2))","v":""},"",null,"",""]
[null,null,{"$f":"IF(ISBLANK(B327),\"\",VLOOKUP(B327,Country!A:B,2))","v":""},null,{"$f":"IF(ISBLANK(D327),\"\",VLOOKUP(D327,Income!A:B,2))","v":""},"",null,"",""]
[null,null,{"$f":"IF(ISBLANK(B328),\"\",VLOOKUP(B328,Country!A:B,2))","v":""},null,{"$f":"IF(ISBLANK(D328),\"\",VLOOKUP(D328,Income!A:B,2))","v":""},"",null,"",""]
[null,null,{"$f":"IF(ISBLANK(B329),\"\",VLOOKUP(B329,Country!A:B,2))","v":""},null,{"$f":"IF(ISBLANK(D329),\"\",VLOOKUP(D329,Income!A:B,2))","v":""},"",null,"",""]
[null,null,{"$f":"IF(ISBLANK(B330),\"\",VLOOKUP(B330,Country!A:B,2))","v":""},null,{"$f":"IF(ISBLANK(D330),\"\",VLOOKUP(D330,Income!A:B,2))","v":""},"",null,"",""]
[null,null,{"$f":"IF(ISBLANK(B331),\"\",VLOOKUP(B331,Country!A:B,2))","v":""},null,{"$f":"IF(ISBLANK(D331),\"\",VLOOKUP(D331,Income!A:B,2))","v":""},"",null,"",""]
[null,null,{"$f":"IF(ISBLANK(B332),\"\",VLOOKUP(B332,Country!A:B,2))","v":""},null,{"$f":"IF(ISBLANK(D332),\"\",VLOOKUP(D332,Income!A:B,2))","v":""},"",null,"",{"$f":"IF(H332=\"\",\"\",G332-H332)","v":""}]
[null,null,{"$f":"IF(ISBLANK(B333),\"\",VLOOKUP(B333,Country!A:B,2))","v":""},null,{"$f":"IF(ISBLANK(D333),\"\",VLOOKUP(D333,Income!A:B,2))","v":""},"",null,"",""]
[null,null,{"$f":"IF(ISBLANK(B334),\"\",VLOOKUP(B334,Country!A:B,2))","v":""},null,{"$f":"IF(ISBLANK(D334),\"\",VLOOKUP(D334,Income!A:B,2))","v":""},"",null,"",""]
[null,null,{"$f":"IF(ISBLANK(B335),\"\",VLOOKUP(B335,Country!A:B,2))","v":""},null,{"$f":"IF(ISBLANK(D335),\"\",VLOOKUP(D335,Income!A:B,2))","v":""},"",null,"",""]
[null,null,{"$f":"IF(ISBLANK(B336),\"\",VLOOKUP(B336,Country!A:B,2))","v":""},null,{"$f":"IF(ISBLANK(D336),\"\",VLOOKUP(D336,Income!A:B,2))","v":""},"",null,"",""]
[null,null,{"$f":"IF(ISBLANK(B337),\"\",VLOOKUP(B337,Country!A:B,2))","v":""},null,{"$f":"IF(ISBLANK(D337),\"\",VLOOKUP(D337,Income!A:B,2))","v":""},"",null,"",""]
[null,null,{"$f":"IF(ISBLANK(B338),\"\",VLOOKUP(B338,Country!A:B,2))","v":""},null,{"$f":"IF(ISBLANK(D338),\"\",VLOOKUP(D338,Income!A:B,2))","v":""},"",null,"",""]
[null,null,{"$f":"IF(ISBLANK(B339),\"\",VLOOKUP(B339,Country!A:B,2))","v":""},null,{"$f":"IF(ISBLANK(D339),\"\",VLOOKUP(D339,Income!A:B,2))","v":""},"",null,"",""]
[null,null,{"$f":"IF(ISBLANK(B340),\"\",VLOOKUP(B340,Country!A:B,2))","v":""},null,{"$f":"IF(ISBLANK(D340),\"\",VLOOKUP(D340,Income!A:B,2))","v":""},"",null,"",""]
[null,null,{"$f":"IF(ISBLANK(B341),\"\",VLOOKUP(B341,Country!A:B,2))","v":""},null,{"$f":"IF(ISBLANK(D341),\"\",VLOOKUP(D341,Income!A:B,2))","v":""},"",null,"",""]
[null,null,{"$f":"IF(ISBLANK(B342),\"\",VLOOKUP(B342,Country!A:B,2))","v":""},null,{"$f":"IF(ISBLANK(D342),\"\",VLOOKUP(D342,Income!A:B,2))","v":""},"",null,"",""]
[null,null,{"$f":"IF(ISBLANK(B343),\"\",VLOOKUP(B343,Country!A:B,2))","v":""},null,{"$f":"IF(ISBLANK(D343),\"\",VLOOKUP(D343,Income!A:B,2))","v":""},"",null,"",""]
[null,null,{"$f":"IF(ISBLANK(B344),\"\",VLOOKUP(B344,Country!A:B,2))","v":""},null,{"$f":"IF(ISBLANK(D344),\"\",VLOOKUP(D344,Income!A:B,2))","v":""},"",null,"",""]
[null,null,{"$f":"IF(ISBLANK(B345),\"\",VLOOKUP(B345,Country!A:B,2))","v":""},null,{"$f":"IF(ISBLANK(D345),\"\",VLOOKUP(D345,Income!A:B,2))","v":""},"",null,"",""]
[null,null,{"$f":"IF(ISBLANK(B346),\"\",VLOOKUP(B346,Country!A:B,2))","v":""},null,{"$f":"IF(ISBLANK(D346),\"\",VLOOKUP(D346,Income!A:B,2))","v":""},"",null,"",""]
[null,null,{"$f":"IF(ISBLANK(B347),\"\",VLOOKUP(B347,Country!A:B,2))","v":""},null,{"$f":"IF(ISBLANK(D347),\"\",VLOOKUP(D347,Income!A:B,2))","v":""},"",null,"",""]
[null,null,{"$f":"IF(ISBLANK(B348),\"\",VLOOKUP(B348,Country!A:B,2))","v":""},null,{"$f":"IF(ISBLANK(D348),\"\",VLOOKUP(D348,Income!A:B,2))","v":""},"",null,"",""]
[null,null,{"$f":"IF(ISBLANK(B349),\"\",VLOOKUP(B349,Country!A:B,2))","v":""},null,{"$f":"IF(ISBLANK(D349),\"\",VLOOKUP(D349,Income!A:B,2))","v":""},"",null,"",""]
[null,null,{"$f":"IF(ISBLANK(B350),\"\",VLOOKUP(B350,Country!A:B,2))","v":""},null,{"$f":"IF(ISBLANK(D350),\"\",VLOOKUP(D350,Income!A:B,2))","v":""},"",null,"",""]
[null,null,{"$f":"IF(ISBLANK(B351),\"\",VLOOKUP(B351,Country!A:B,2))","v":""},null,{"$f":"IF(ISBLANK(D351),\"\",VLOOKUP(D351,Income!A:B,2))","v":""},"",null,"",""]
[null,null,{"$f":"IF(ISBLANK(B352),\"\",VLOOKUP(B352,Country!A:B,2))","v":""},null,{"$f":"IF(ISBLANK(D352),\"\",VLOOKUP(D352,Income!A:B,2))","v":""},"",null,"",""]
[null,null,{"$f":"IF(ISBLANK(B353),\"\",VLOOKUP(B353,Country!A:B,2))","v":""},null,{"$f":"IF(ISBLANK(D353),\"\",VLOOKUP(D353,Income!A:B,2))","v":""},"",null,"",""]
[null,null,{"$f":"IF(ISBLANK(B354),\"\",VLOOKUP(B354,Country!A:B,2))","v":""},null,{"$f":"IF(ISBLANK(D354),\"\",VLOOKUP(D354,Income!A:B,2))","v":""},"",null,"",""]
[null,null,{"$f":"IF(ISBLANK(B355),\"\",VLOOKUP(B355,Country!A:B,2))","v":""},null,{"$f":"IF(ISBLANK(D355),\"\",VLOOKUP(D355,Income!A:B,2))","v":""},"",null,"",""]
[null,null,{"$f":"IF(ISBLANK(B356),\"\",VLOOKUP(B356,Country!A:B,2))","v":""},null,{"$f":"IF(ISBLANK(D356),\"\",VLOOKUP(D356,Income!A:B,2))","v":""},"",null,"",""]
[null,null,{"$f":"IF(ISBLANK(B357),\"\",VLOOKUP(B357,Country!A:B,2))","v":""},null,{"$f":"IF(ISBLANK(D357),\"\",VLOOKUP(D357,Income!A:B,2))","v":""},"",null,"",""]
[null,null,{"$f":"IF(ISBLANK(B358),\"\",VLOOKUP(B358,Country!A:B,2))","v":""},null,{"$f":"IF(ISBLANK(D358),\"\",VLOOKUP(D358,Income!A:B,2))","v":""},"",null,"",""]
[null,null,{"$f":"IF(ISBLANK(B359),\"\",VLOOKUP(B359,Country!A:B,2))","v":""},null,{"$f":"IF(ISBLANK(D359),\"\",VLOOKUP(D359,Income!A:B,2))","v":""},"",null,"",""]
[null,null,{"$f":"IF(ISBLANK(B360),\"\",VLOOKUP(B360,Country!A:B,2))","v":""},null,{"$f":"IF(ISBLANK(D360),\"\",VLOOKUP(D360,Income!A:B,2))","v":""},"",null,"",""]
[null,null,{"$f":"IF(ISBLANK(B361),\"\",VLOOKUP(B361,Country!A:B,2))","v":""},null,{"$f":"IF(ISBLANK(D361),\"\",VLOOKUP(D361,Income!A:B,2))","v":""},"",null,"",""]
[null,null,{"$f":"IF(ISBLANK(B362),\"\",VLOOKUP(B362,Country!A:B,2))","v":""},null,{"$f":"IF(ISBLANK(D362),\"\",VLOOKUP(D362,Income!A:B,2))","v":""},"",null,"",""]
[null,null,{"$f":"IF(ISBLANK(B363),\"\",VLOOKUP(B363,Country!A:B,2))","v":""},null,{"$f":"IF(ISBLANK(D363),\"\",VLOOKUP(D363,Income!A:B,2))","v":""},"",null,"",""]
[null,null,{"$f":"IF(ISBLANK(B364),\"\",VLOOKUP(B364,Country!A:B,2))","v":""},null,{"$f":"IF(ISBLANK(D364),\"\",VLOOKUP(D364,Income!A:B,2))","v":""},"",null,"",""]
[null,null,{"$f":"IF(ISBLANK(B365),\"\",VLOOKUP(B365,Country!A:B,2))","v":""},null,{"$f":"IF(ISBLANK(D365),\"\",VLOOKUP(D365,Income!A:B,2))","v":""},"",null,"",""]
[null,null,{"$f":"IF(ISBLANK(B366),\"\",VLOOKUP(B366,Country!A:B,2))","v":""},null,{"$f":"IF(ISBLANK(D366),\"\",VLOOKUP(D366,Income!A:B,2))","v":""},"",null,"",""]
[null,null,{"$f":"IF(ISBLANK(B367),\"\",VLOOKUP(B367,Country!A:B,2))","v":""},null,{"$f":"IF(ISBLANK(D367),\"\",VLOOKUP(D367,Income!A:B,2))","v":""},{"$f":"IF(OR(C367=\"\",E367=\"\"),\"\",IF(ISNA(INDEX(RateRange,INDEX(RateRange,MATCH(E367,IncomeTypes,0),MATCH(C367,Countries,0)))),INDEX(RateRange,MATCH(E367,IncomeTypes,0),MATCH(\"OTH\",Countries,0)),INDEX(RateRange,MATCH(E367,IncomeTypes,0),MATCH(C367,Countries,0))))","v":""},null,"",""]
[null,null,{"$f":"IF(ISBLANK(B368),\"\",VLOOKUP(B368,Country!A:B,2))","v":""},null,{"$f":"IF(ISBLANK(D368),\"\",VLOOKUP(D368,Income!A:B,2))","v":""},"",null,"",""]
[null,null,{"$f":"IF(ISBLANK(B369),\"\",VLOOKUP(B369,Country!A:B,2))","v":""},null,{"$f":"IF(ISBLANK(D369),\"\",VLOOKUP(D369,Income!A:B,2))","v":""},"",null,"",""]
[null,null,{"$f":"IF(ISBLANK(B370),\"\",VLOOKUP(B370,Country!A:B,2))","v":""},null,{"$f":"IF(ISBLANK(D370),\"\",VLOOKUP(D370,Income!A:B,2))","v":""},"",null,"",""]
[null,null,{"$f":"IF(ISBLANK(B371),\"\",VLOOKUP(B371,Country!A:B,2))","v":""},null,{"$f":"IF(ISBLANK(D371),\"\",VLOOKUP(D371,Income!A:B,2))","v":""},"",null,"",""]
[null,null,{"$f":"IF(ISBLANK(B372),\"\",VLOOKUP(B372,Country!A:B,2))","v":""},null,{"$f":"IF(ISBLANK(D372),\"\",VLOOKUP(D372,Income!A:B,2))","v":""},"",null,"",""]
[null,null,{"$f":"IF(ISBLANK(B373),\"\",VLOOKUP(B373,Country!A:B,2))","v":""},null,{"$f":"IF(ISBLANK(D373),\"\",VLOOKUP(D373,Income!A:B,2))","v":""},"",null,"",""]
[null,null,{"$f":"IF(ISBLANK(B374),\"\",VLOOKUP(B374,Country!A:B,2))","v":""},null,{"$f":"IF(ISBLANK(D374),\"\",VLOOKUP(D374,Income!A:B,2))","v":""},"",null,"",""]
[null,null,{"$f":"IF(ISBLANK(B375),\"\",VLOOKUP(B375,Country!A:B,2))","v":""},null,{"$f":"IF(ISBLANK(D375),\"\",VLOOKUP(D375,Income!A:B,2))","v":""},"",null,"",""]
[null,null,{"$f":"IF(ISBLANK(B376),\"\",VLOOKUP(B376,Country!A:B,2))","v":""},null,{"$f":"IF(ISBLANK(D376),\"\",VLOOKUP(D376,Income!A:B,2))","v":""},"",null,"",""]
[null,null,{"$f":"IF(ISBLANK(B377),\"\",VLOOKUP(B377,Country!A:B,2))","v":""},null,{"$f":"IF(ISBLANK(D377),\"\",VLOOKUP(D377,Income!A:B,2))","v":""},"",null,"",""]
[null,null,{"$f":"IF(ISBLANK(B378),\"\",VLOOKUP(B378,Country!A:B,2))","v":""},null,{"$f":"IF(ISBLANK(D378),\"\",VLOOKUP(D378,Income!A:B,2))","v":""},"",null,"",""]
[null,null,{"$f":"IF(ISBLANK(B379),\"\",VLOOKUP(B379,Country!A:B,2))","v":""},null,{"$f":"IF(ISBLANK(D379),\"\",VLOOKUP(D379,Income!A:B,2))","v":""},"",null,"",""]
[null,null,{"$f":"IF(ISBLANK(B380),\"\",VLOOKUP(B380,Country!A:B,2))","v":""},null,{"$f":"IF(ISBLANK(D380),\"\",VLOOKUP(D380,Income!A:B,2))","v":""},"",null,"",""]
[null,null,{"$f":"IF(ISBLANK(B381),\"\",VLOOKUP(B381,Country!A:B,2))","v":""},null,{"$f":"IF(ISBLANK(D381),\"\",VLOOKUP(D381,Income!A:B,2))","v":""},"",null,"",""]
[null,null,{"$f":"IF(ISBLANK(B382),\"\",VLOOKUP(B382,Country!A:B,2))","v":""},null,{"$f":"IF(ISBLANK(D382),\"\",VLOOKUP(D382,Income!A:B,2))","v":""},"",null,"",""]
[null,null,{"$f":"IF(ISBLANK(B383),\"\",VLOOKUP(B383,Country!A:B,2))","v":""},null,{"$f":"IF(ISBLANK(D383),\"\",VLOOKUP(D383,Income!A:B,2))","v":""},"",null,"",""]
[null,null,{"$f":"IF(ISBLANK(B384),\"\",VLOOKUP(B384,Country!A:B,2))","v":""},null,{"$f":"IF(ISBLANK(D384),\"\",VLOOKUP(D384,Income!A:B,2))","v":""},"",null,"",""]
[null,null,{"$f":"IF(ISBLANK(B385),\"\",VLOOKUP(B385,Country!A:B,2))","v":""},null,{"$f":"IF(ISBLANK(D385),\"\",VLOOKUP(D385,Income!A:B,2))","v":""},"",null,"",""]
[null,null,{"$f":"IF(ISBLANK(B386),\"\",VLOOKUP(B386,Country!A:B,2))","v":""},null,{"$f":"IF(ISBLANK(D386),\"\",VLOOKUP(D386,Income!A:B,2))","v":""},"",null,"",""]
[null,null,{"$f":"IF(ISBLANK(B387),\"\",VLOOKUP(B387,Country!A:B,2))","v":""},null,{"$f":"IF(ISBLANK(D387),\"\",VLOOKUP(D387,Income!A:B,2))","v":""},"",null,"",""]
[null,null,{"$f":"IF(ISBLANK(B388),\"\",VLOOKUP(B388,Country!A:B,2))","v":""},null,{"$f":"IF(ISBLANK(D388),\"\",VLOOKUP(D388,Income!A:B,2))","v":""},"",null,"",""]
[null,null,{"$f":"IF(ISBLANK(B389),\"\",VLOOKUP(B389,Country!A:B,2))","v":""},null,{"$f":"IF(ISBLANK(D389),\"\",VLOOKUP(D389,Income!A:B,2))","v":""},"",null,{"$f":"IF(F389=\"\",\"\",ROUND(G389*F389,2))","v":""},""]
[null,null,{"$f":"IF(ISBLANK(B390),\"\",VLOOKUP(B390,Country!A:B,2))","v":""},null,{"$f":"IF(ISBLANK(D390),\"\",VLOOKUP(D390,Income!A:B,2))","v":""},"",null,"",""]
[null,null,{"$f":"IF(ISBLANK(B391),\"\",VLOOKUP(B391,Country!A:B,2))","v":""},null,{"$f":"IF(ISBLANK(D391),\"\",VLOOKUP(D391,Income!A:B,2))","v":""},"",null,"",""]
[null,null,{"$f":"IF(ISBLANK(B392),\"\",VLOOKUP(B392,Country!A:B,2))","v":""},null,{"$f":"IF(ISBLANK(D392),\"\",VLOOKUP(D392,Income!A:B,2))","v":""},"",null,"",""]
[null,null,{"$f":"IF(ISBLANK(B393),\"\",VLOOKUP(B393,Country!A:B,2))","v":""},null,{"$f":"IF(ISBLANK(D393),\"\",VLOOKUP(D393,Income!A:B,2))","v":""},"",null,"",""]
[null,null,{"$f":"IF(ISBLANK(B394),\"\",VLOOKUP(B394,Country!A:B,2))","v":""},null,{"$f":"IF(ISBLANK(D394),\"\",VLOOKUP(D394,Income!A:B,2))","v":""},"",null,"",""]
[null,null,{"$f":"IF(ISBLANK(B395),\"\",VLOOKUP(B395,Country!A:B,2))","v":""},null,{"$f":"IF(ISBLANK(D395),\"\",VLOOKUP(D395,Income!A:B,2))","v":""},"",null,"",""]
[null,null,{"$f":"IF(ISBLANK(B396),\"\",VLOOKUP(B396,Country!A:B,2))","v":""},null,{"$f":"IF(ISBLANK(D396),\"\",VLOOKUP(D396,Income!A:B,2))","v":""},"",null,"",{"$f":"IF(H396=\"\",\"\",G396-H396)","v":""}]
[null,null,{"$f":"IF(ISBLANK(B397),\"\",VLOOKUP(B397,Country!A:B,2))","v":""},null,{"$f":"IF(ISBLANK(D397),\"\",VLOOKUP(D397,Income!A:B,2))","v":""},"",null,"",""]
[null,null,{"$f":"IF(ISBLANK(B398),\"\",VLOOKUP(B398,Country!A:B,2))","v":""},null,{"$f":"IF(ISBLANK(D398),\"\",VLOOKUP(D398,Income!A:B,2))","v":""},"",null,"",""]
[null,null,{"$f":"IF(ISBLANK(B399),\"\",VLOOKUP(B399,Country!A:B,2))","v":""},null,{"$f":"IF(ISBLANK(D399),\"\",VLOOKUP(D399,Income!A:B,2))","v":""},"",null,"",""]
[null,null,{"$f":"IF(ISBLANK(B400),\"\",VLOOKUP(B400,Country!A:B,2))","v":""},null,{"$f":"IF(ISBLANK(D400),\"\",VLOOKUP(D400,Income!A:B,2))","v":""},"",null,"",""]
[null,null,{"$f":"IF(ISBLANK(B401),\"\",VLOOKUP(B401,Country!A:B,2))","v":""},null,{"$f":"IF(ISBLANK(D401),\"\",VLOOKUP(D401,Income!A:B,2))","v":""},"",null,"",""]
[null,null,{"$f":"IF(ISBLANK(B402),\"\",VLOOKUP(B402,Country!A:B,2))","v":""},null,{"$f":"IF(ISBLANK(D402),\"\",VLOOKUP(D402,Income!A:B,2))","v":""},"",null,"",""]
[null,null,{"$f":"IF(ISBLANK(B403),\"\",VLOOKUP(B403,Country!A:B,2))","v":""},null,{"$f":"IF(ISBLANK(D403),\"\",VLOOKUP(D403,Income!A:B,2))","v":""},"",null,"",""]
[null,null,{"$f":"IF(ISBLANK(B404),\"\",VLOOKUP(B404,Country!A:B,2))","v":""},null,{"$f":"IF(ISBLANK(D404),\"\",VLOOKUP(D404,Income!A:B,2))","v":""},"",null,"",""]
[null,null,{"$f":"IF(ISBLANK(B405),\"\",VLOOKUP(B405,Country!A:B,2))","v":""},null,{"$f":"IF(ISBLANK(D405),\"\",VLOOKUP(D405,Income!A:B,2))","v":""},"",null,"",""]
[null,null,{"$f":"IF(ISBLANK(B406),\"\",VLOOKUP(B406,Country!A:B,2))","v":""},null,{"$f":"IF(ISBLANK(D406),\"\",VLOOKUP(D406,Income!A:B,2))","v":""},"",null,"",""]
[null,null,{"$f":"IF(ISBLANK(B407),\"\",VLOOKUP(B407,Country!A:B,2))","v":""},null,{"$f":"IF(ISBLANK(D407),\"\",VLOOKUP(D407,Income!A:B,2))","v":""},"",null,"",""]
[null,null,{"$f":"IF(ISBLANK(B408),\"\",VLOOKUP(B408,Country!A:B,2))","v":""},null,{"$f":"IF(ISBLANK(D408),\"\",VLOOKUP(D408,Income!A:B,2))","v":""},"",null,"",""]
[null,null,{"$f":"IF(ISBLANK(B409),\"\",VLOOKUP(B409,Country!A:B,2))","v":""},null,{"$f":"IF(ISBLANK(D409),\"\",VLOOKUP(D409,Income!A:B,2))","v":""},"",null,"",""]
[null,null,{"$f":"IF(ISBLANK(B410),\"\",VLOOKUP(B410,Country!A:B,2))","v":""},null,{"$f":"IF(ISBLANK(D410),\"\",VLOOKUP(D410,Income!A:B,2))","v":""},"",null,"",""]
[null,null,{"$f":"IF(ISBLANK(B411),\"\",VLOOKUP(B411,Country!A:B,2))","v":""},null,{"$f":"IF(ISBLANK(D411),\"\",VLOOKUP(D411,Income!A:B,2))","v":""},"",null,"",""]
[null,null,{"$f":"IF(ISBLANK(B412),\"\",VLOOKUP(B412,Country!A:B,2))","v":""},null,{"$f":"IF(ISBLANK(D412),\"\",VLOOKUP(D412,Income!A:B,2))","v":""},"",null,"",""]
[null,null,{"$f":"IF(ISBLANK(B413),\"\",VLOOKUP(B413,Country!A:B,2))","v":""},null,{"$f":"IF(ISBLANK(D413),\"\",VLOOKUP(D413,Income!A:B,2))","v":""},"",null,"",""]
[null,null,{"$f":"IF(ISBLANK(B414),\"\",VLOOKUP(B414,Country!A:B,2))","v":""},null,{"$f":"IF(ISBLANK(D414),\"\",VLOOKUP(D414,Income!A:B,2))","v":""},"",null,"",""]
[null,null,{"$f":"IF(ISBLANK(B415),\"\",VLOOKUP(B415,Country!A:B,2))","v":""},null,{"$f":"IF(ISBLANK(D415),\"\",VLOOKUP(D415,Income!A:B,2))","v":""},"",null,"",""]
[null,null,{"$f":"IF(ISBLANK(B416),\"\",VLOOKUP(B416,Country!A:B,2))","v":""},null,{"$f":"IF(ISBLANK(D416),\"\",VLOOKUP(D416,Income!A:B,2))","v":""},"",null,"",""]
[null,null,{"$f":"IF(ISBLANK(B417),\"\",VLOOKUP(B417,Country!A:B,2))","v":""},null,{"$f":"IF(ISBLANK(D417),\"\",VLOOKUP(D417,Income!A:B,2))","v":""},"",null,"",""]
[null,null,{"$f":"IF(ISBLANK(B418),\"\",VLOOKUP(B418,Country!A:B,2))","v":""},null,{"$f":"IF(ISBLANK(D418),\"\",VLOOKUP(D418,Income!A:B,2))","v":""},"",null,"",""]
[null,null,{"$f":"IF(ISBLANK(B419),\"\",VLOOKUP(B419,Country!A:B,2))","v":""},null,{"$f":"IF(ISBLANK(D419),\"\",VLOOKUP(D419,Income!A:B,2))","v":""},"",null,"",""]
[null,null,{"$f":"IF(ISBLANK(B420),\"\",VLOOKUP(B420,Country!A:B,2))","v":""},null,{"$f":"IF(ISBLANK(D420),\"\",VLOOKUP(D420,Income!A:B,2))","v":""},"",null,"",""]
[null,null,{"$f":"IF(ISBLANK(B421),\"\",VLOOKUP(B421,Country!A:B,2))","v":""},null,{"$f":"IF(ISBLANK(D421),\"\",VLOOKUP(D421,Income!A:B,2))","v":""},"",null,"",""]
[null,null,{"$f":"IF(ISBLANK(B422),\"\",VLOOKUP(B422,Country!A:B,2))","v":""},null,{"$f":"IF(ISBLANK(D422),\"\",VLOOKUP(D422,Income!A:B,2))","v":""},"",null,"",""]
[null,null,{"$f":"IF(ISBLANK(B423),\"\",VLOOKUP(B423,Country!A:B,2))","v":""},null,{"$f":"IF(ISBLANK(D423),\"\",VLOOKUP(D423,Income!A:B,2))","v":""},"",null,"",""]
[null,null,{"$f":"IF(ISBLANK(B424),\"\",VLOOKUP(B424,Country!A:B,2))","v":""},null,{"$f":"IF(ISBLANK(D424),\"\",VLOOKUP(D424,Income!A:B,2))","v":""},"",null,"",""]
[null,null,{"$f":"IF(ISBLANK(B425),\"\",VLOOKUP(B425,Country!A:B,2))","v":""},null,{"$f":"IF(ISBLANK(D425),\"\",VLOOKUP(D425,Income!A:B,2))","v":""},"",null,"",""]
[null,null,{"$f":"IF(ISBLANK(B426),\"\",VLOOKUP(B426,Country!A:B,2))","v":""},null,{"$f":"IF(ISBLANK(D426),\"\",VLOOKUP(D426,Income!A:B,2))","v":""},"",null,"",""]
[null,null,{"$f":"IF(ISBLANK(B427),\"\",VLOOKUP(B427,Country!A:B,2))","v":""},null,{"$f":"IF(ISBLANK(D427),\"\",VLOOKUP(D427,Income!A:B,2))","v":""},"",null,"",""]
[null,null,{"$f":"IF(ISBLANK(B428),\"\",VLOOKUP(B428,Country!A:B,2))","v":""},null,{"$f":"IF(ISBLANK(D428),\"\",VLOOKUP(D428,Income!A:B,2))","v":""},"",null,"",""]
[null,null,{"$f":"IF(ISBLANK(B429),\"\",VLOOKUP(B429,Country!A:B,2))","v":""},null,{"$f":"IF(ISBLANK(D429),\"\",VLOOKUP(D429,Income!A:B,2))","v":""},"",null,"",""]
[null,null,{"$f":"IF(ISBLANK(B430),\"\",VLOOKUP(B430,Country!A:B,2))","v":""},null,{"$f":"IF(ISBLANK(D430),\"\",VLOOKUP(D430,Income!A:B,2))","v":""},"",null,"",""]
[null,null,{"$f":"IF(ISBLANK(B431),\"\",VLOOKUP(B431,Country!A:B,2))","v":""},null,{"$f":"IF(ISBLANK(D431),\"\",VLOOKUP(D431,Income!A:B,2))","v":""},{"$f":"IF(OR(C431=\"\",E431=\"\"),\"\",IF(ISNA(INDEX(RateRange,INDEX(RateRange,MATCH(E431,IncomeTypes,0),MATCH(C431,Countries,0)))),INDEX(RateRange,MATCH(E431,IncomeTypes,0),MATCH(\"OTH\",Countries,0)),INDEX(RateRange,MATCH(E431,IncomeTypes,0),MATCH(C431,Countries,0))))","v":""},null,"",""]
[null,null,{"$f":"IF(ISBLANK(B432),\"\",VLOOKUP(B432,Country!A:B,2))","v":""},null,{"$f":"IF(ISBLANK(D432),\"\",VLOOKUP(D432,Income!A:B,2))","v":""},"",null,"",""]
[null,null,{"$f":"IF(ISBLANK(B433),\"\",VLOOKUP(B433,Country!A:B,2))","v":""},null,{"$f":"IF(ISBLANK(D433),\"\",VLOOKUP(D433,Income!A:B,2))","v":""},"",null,"",""]
[null,null,{"$f":"IF(ISBLANK(B434),\"\",VLOOKUP(B434,Country!A:B,2))","v":""},null,{"$f":"IF(ISBLANK(D434),\"\",VLOOKUP(D434,Income!A:B,2))","v":""},"",null,"",""]
[null,null,{"$f":"IF(ISBLANK(B435),\"\",VLOOKUP(B435,Country!A:B,2))","v":""},null,{"$f":"IF(ISBLANK(D435),\"\",VLOOKUP(D435,Income!A:B,2))","v":""},"",null,"",""]
[null,null,{"$f":"IF(ISBLANK(B436),\"\",VLOOKUP(B436,Country!A:B,2))","v":""},null,{"$f":"IF(ISBLANK(D436),\"\",VLOOKUP(D436,Income!A:B,2))","v":""},"",null,"",""]
[null,null,{"$f":"IF(ISBLANK(B437),\"\",VLOOKUP(B437,Country!A:B,2))","v":""},null,{"$f":"IF(ISBLANK(D437),\"\",VLOOKUP(D437,Income!A:B,2))","v":""},"",null,"",""]
[null,null,{"$f":"IF(ISBLANK(B438),\"\",VLOOKUP(B438,Country!A:B,2))","v":""},null,{"$f":"IF(ISBLANK(D438),\"\",VLOOKUP(D438,Income!A:B,2))","v":""},"",null,"",""]
[null,null,{"$f":"IF(ISBLANK(B439),\"\",VLOOKUP(B439,Country!A:B,2))","v":""},null,{"$f":"IF(ISBLANK(D439),\"\",VLOOKUP(D439,Income!A:B,2))","v":""},"",null,"",""]
[null,null,{"$f":"IF(ISBLANK(B440),\"\",VLOOKUP(B440,Country!A:B,2))","v":""},null,{"$f":"IF(ISBLANK(D440),\"\",VLOOKUP(D440,Income!A:B,2))","v":""},"",null,"",""]
[null,null,{"$f":"IF(ISBLANK(B441),\"\",VLOOKUP(B441,Country!A:B,2))","v":""},null,{"$f":"IF(ISBLANK(D441),\"\",VLOOKUP(D441,Income!A:B,2))","v":""},"",null,"",""]
[null,null,{"$f":"IF(ISBLANK(B442),\"\",VLOOKUP(B442,Country!A:B,2))","v":""},null,{"$f":"IF(ISBLANK(D442),\"\",VLOOKUP(D442,Income!A:B,2))","v":""},"",null,"",""]
[null,null,{"$f":"IF(ISBLANK(B443),\"\",VLOOKUP(B443,Country!A:B,2))","v":""},null,{"$f":"IF(ISBLANK(D443),\"\",VLOOKUP(D443,Income!A:B,2))","v":""},"",null,"",""]
[null,null,{"$f":"IF(ISBLANK(B444),\"\",VLOOKUP(B444,Country!A:B,2))","v":""},null,{"$f":"IF(ISBLANK(D444),\"\",VLOOKUP(D444,Income!A:B,2))","v":""},"",null,"",""]
[null,null,{"$f":"IF(ISBLANK(B445),\"\",VLOOKUP(B445,Country!A:B,2))","v":""},null,{"$f":"IF(ISBLANK(D445),\"\",VLOOKUP(D445,Income!A:B,2))","v":""},"",null,"",""]
[null,null,{"$f":"IF(ISBLANK(B446),\"\",VLOOKUP(B446,Country!A:B,2))","v":""},null,{"$f":"IF(ISBLANK(D446),\"\",VLOOKUP(D446,Income!A:B,2))","v":""},"",null,"",""]
[null,null,{"$f":"IF(ISBLANK(B447),\"\",VLOOKUP(B447,Country!A:B,2))","v":""},null,{"$f":"IF(ISBLANK(D447),\"\",VLOOKUP(D447,Income!A:B,2))","v":""},"",null,"",""]
[null,null,{"$f":"IF(ISBLANK(B448),\"\",VLOOKUP(B448,Country!A:B,2))","v":""},null,{"$f":"IF(ISBLANK(D448),\"\",VLOOKUP(D448,Income!A:B,2))","v":""},"",null,"",""]
[null,null,{"$f":"IF(ISBLANK(B449),\"\",VLOOKUP(B449,Country!A:B,2))","v":""},null,{"$f":"IF(ISBLANK(D449),\"\",VLOOKUP(D449,Income!A:B,2))","v":""},"",null,"",""]
[null,null,{"$f":"IF(ISBLANK(B450),\"\",VLOOKUP(B450,Country!A:B,2))","v":""},null,{"$f":"IF(ISBLANK(D450),\"\",VLOOKUP(D450,Income!A:B,2))","v":""},"",null,"",""]
[null,null,{"$f":"IF(ISBLANK(B451),\"\",VLOOKUP(B451,Country!A:B,2))","v":""},null,{"$f":"IF(ISBLANK(D451),\"\",VLOOKUP(D451,Income!A:B,2))","v":""},"",null,"",""]
[null,null,{"$f":"IF(ISBLANK(B452),\"\",VLOOKUP(B452,Country!A:B,2))","v":""},null,{"$f":"IF(ISBLANK(D452),\"\",VLOOKUP(D452,Income!A:B,2))","v":""},"",null,"",""]
[null,null,{"$f":"IF(ISBLANK(B453),\"\",VLOOKUP(B453,Country!A:B,2))","v":""},null,{"$f":"IF(ISBLANK(D453),\"\",VLOOKUP(D453,Income!A:B,2))","v":""},"",null,{"$f":"IF(F453=\"\",\"\",ROUND(G453*F453,2))","v":""},""]
[null,null,{"$f":"IF(ISBLANK(B454),\"\",VLOOKUP(B454,Country!A:B,2))","v":""},null,{"$f":"IF(ISBLANK(D454),\"\",VLOOKUP(D454,Income!A:B,2))","v":""},"",null,"",""]
[null,null,{"$f":"IF(ISBLANK(B455),\"\",VLOOKUP(B455,Country!A:B,2))","v":""},null,{"$f":"IF(ISBLANK(D455),\"\",VLOOKUP(D455,Income!A:B,2))","v":""},"",null,"",""]
[null,null,{"$f":"IF(ISBLANK(B456),\"\",VLOOKUP(B456,Country!A:B,2))","v":""},null,{"$f":"IF(ISBLANK(D456),\"\",VLOOKUP(D456,Income!A:B,2))","v":""},"",null,"",""]
[null,null,{"$f":"IF(ISBLANK(B457),\"\",VLOOKUP(B457,Country!A:B,2))","v":""},null,{"$f":"IF(ISBLANK(D457),\"\",VLOOKUP(D457,Income!A:B,2))","v":""},"",null,"",""]
[null,null,{"$f":"IF(ISBLANK(B458),\"\",VLOOKUP(B458,Country!A:B,2))","v":""},null,{"$f":"IF(ISBLANK(D458),\"\",VLOOKUP(D458,Income!A:B,2))","v":""},"",null,"",""]
[null,null,{"$f":"IF(ISBLANK(B459),\"\",VLOOKUP(B459,Country!A:B,2))","v":""},null,{"$f":"IF(ISBLANK(D459),\"\",VLOOKUP(D459,Income!A:B,2))","v":""},"",null,"",""]
[null,null,{"$f":"IF(ISBLANK(B460),\"\",VLOOKUP(B460,Country!A:B,2))","v":""},null,{"$f":"IF(ISBLANK(D460),\"\",VLOOKUP(D460,Income!A:B,2))","v":""},"",null,"",{"$f":"IF(H460=\"\",\"\",G460-H460)","v":""}]
[null,null,{"$f":"IF(ISBLANK(B461),\"\",VLOOKUP(B461,Country!A:B,2))","v":""},null,{"$f":"IF(ISBLANK(D461),\"\",VLOOKUP(D461,Income!A:B,2))","v":""},"",null,"",""]
[null,null,{"$f":"IF(ISBLANK(B462),\"\",VLOOKUP(B462,Country!A:B,2))","v":""},null,{"$f":"IF(ISBLANK(D462),\"\",VLOOKUP(D462,Income!A:B,2))","v":""},"",null,"",""]
[null,null,{"$f":"IF(ISBLANK(B463),\"\",VLOOKUP(B463,Country!A:B,2))","v":""},null,{"$f":"IF(ISBLANK(D463),\"\",VLOOKUP(D463,Income!A:B,2))","v":""},"",null,"",""]
[null,null,{"$f":"IF(ISBLANK(B464),\"\",VLOOKUP(B464,Country!A:B,2))","v":""},null,{"$f":"IF(ISBLANK(D464),\"\",VLOOKUP(D464,Income!A:B,2))","v":""},"",null,"",""]
[null,null,{"$f":"IF(ISBLANK(B465),\"\",VLOOKUP(B465,Country!A:B,2))","v":""},null,{"$f":"IF(ISBLANK(D465),\"\",VLOOKUP(D465,Income!A:B,2))","v":""},"",null,"",""]
[null,null,{"$f":"IF(ISBLANK(B466),\"\",VLOOKUP(B466,Country!A:B,2))","v":""},null,{"$f":"IF(ISBLANK(D466),\"\",VLOOKUP(D466,Income!A:B,2))","v":""},"",null,"",""]
[null,null,{"$f":"IF(ISBLANK(B467),\"\",VLOOKUP(B467,Country!A:B,2))","v":""},null,{"$f":"IF(ISBLANK(D467),\"\",VLOOKUP(D467,Income!A:B,2))","v":""},"",null,"",""]
[null,null,{"$f":"IF(ISBLANK(B468),\"\",VLOOKUP(B468,Country!A:B,2))","v":""},null,{"$f":"IF(ISBLANK(D468),\"\",VLOOKUP(D468,Income!A:B,2))","v":""},"",null,"",""]
[null,null,{"$f":"IF(ISBLANK(B469),\"\",VLOOKUP(B469,Country!A:B,2))","v":""},null,{"$f":"IF(ISBLANK(D469),\"\",VLOOKUP(D469,Income!A:B,2))","v":""},"",null,"",""]
[null,null,{"$f":"IF(ISBLANK(B470),\"\",VLOOKUP(B470,Country!A:B,2))","v":""},null,{"$f":"IF(ISBLANK(D470),\"\",VLOOKUP(D470,Income!A:B,2))","v":""},"",null,"",""]
[null,null,{"$f":"IF(ISBLANK(B471),\"\",VLOOKUP(B471,Country!A:B,2))","v":""},null,{"$f":"IF(ISBLANK(D471),\"\",VLOOKUP(D471,Income!A:B,2))","v":""},"",null,"",""]
[null,null,{"$f":"IF(ISBLANK(B472),\"\",VLOOKUP(B472,Country!A:B,2))","v":""},null,{"$f":"IF(ISBLANK(D472),\"\",VLOOKUP(D472,Income!A:B,2))","v":""},"",null,"",""]
[null,null,{"$f":"IF(ISBLANK(B473),\"\",VLOOKUP(B473,Country!A:B,2))","v":""},null,{"$f":"IF(ISBLANK(D473),\"\",VLOOKUP(D473,Income!A:B,2))","v":""},"",null,"",""]
[null,null,{"$f":"IF(ISBLANK(B474),\"\",VLOOKUP(B474,Country!A:B,2))","v":""},null,{"$f":"IF(ISBLANK(D474),\"\",VLOOKUP(D474,Income!A:B,2))","v":""},"",null,"",""]
[null,null,{"$f":"IF(ISBLANK(B475),\"\",VLOOKUP(B475,Country!A:B,2))","v":""},null,{"$f":"IF(ISBLANK(D475),\"\",VLOOKUP(D475,Income!A:B,2))","v":""},"",null,"",""]
[null,null,{"$f":"IF(ISBLANK(B476),\"\",VLOOKUP(B476,Country!A:B,2))","v":""},null,{"$f":"IF(ISBLANK(D476),\"\",VLOOKUP(D476,Income!A:B,2))","v":""},"",null,"",""]
[null,null,{"$f":"IF(ISBLANK(B477),\"\",VLOOKUP(B477,Country!A:B,2))","v":""},null,{"$f":"IF(ISBLANK(D477),\"\",VLOOKUP(D477,Income!A:B,2))","v":""},"",null,"",""]
[null,null,{"$f":"IF(ISBLANK(B478),\"\",VLOOKUP(B478,Country!A:B,2))","v":""},null,{"$f":"IF(ISBLANK(D478),\"\",VLOOKUP(D478,Income!A:B,2))","v":""},"",null,"",""]
[null,null,{"$f":"IF(ISBLANK(B479),\"\",VLOOKUP(B479,Country!A:B,2))","v":""},null,{"$f":"IF(ISBLANK(D479),\"\",VLOOKUP(D479,Income!A:B,2))","v":""},"",null,"",""]
[null,null,{"$f":"IF(ISBLANK(B480),\"\",VLOOKUP(B480,Country!A:B,2))","v":""},null,{"$f":"IF(ISBLANK(D480),\"\",VLOOKUP(D480,Income!A:B,2))","v":""},"",null,"",""]
[null,null,{"$f":"IF(ISBLANK(B481),\"\",VLOOKUP(B481,Country!A:B,2))","v":""},null,{"$f":"IF(ISBLANK(D481),\"\",VLOOKUP(D481,Income!A:B,2))","v":""},"",null,"",""]
[null,null,{"$f":"IF(ISBLANK(B482),\"\",VLOOKUP(B482,Country!A:B,2))","v":""},null,{"$f":"IF(ISBLANK(D482),\"\",VLOOKUP(D482,Income!A:B,2))","v":""},"",null,"",""]
[null,null,{"$f":"IF(ISBLANK(B483),\"\",VLOOKUP(B483,Country!A:B,2))","v":""},null,{"$f":"IF(ISBLANK(D483),\"\",VLOOKUP(D483,Income!A:B,2))","v":""},"",null,"",""]
[null,null,{"$f":"IF(ISBLANK(B484),\"\",VLOOKUP(B484,Country!A:B,2))","v":""},null,{"$f":"IF(ISBLANK(D484),\"\",VLOOKUP(D484,Income!A:B,2))","v":""},"",null,"",""]
[null,null,{"$f":"IF(ISBLANK(B485),\"\",VLOOKUP(B485,Country!A:B,2))","v":""},null,{"$f":"IF(ISBLANK(D485),\"\",VLOOKUP(D485,Income!A:B,2))","v":""},"",null,"",""]
[null,null,{"$f":"IF(ISBLANK(B486),\"\",VLOOKUP(B486,Country!A:B,2))","v":""},null,{"$f":"IF(ISBLANK(D486),\"\",VLOOKUP(D486,Income!A:B,2))","v":""},"",null,"",""]
[null,null,{"$f":"IF(ISBLANK(B487),\"\",VLOOKUP(B487,Country!A:B,2))","v":""},null,{"$f":"IF(ISBLANK(D487),\"\",VLOOKUP(D487,Income!A:B,2))","v":""},"",null,"",""]
[null,null,{"$f":"IF(ISBLANK(B488),\"\",VLOOKUP(B488,Country!A:B,2))","v":""},null,{"$f":"IF(ISBLANK(D488),\"\",VLOOKUP(D488,Income!A:B,2))","v":""},"",null,"",""]
[null,null,{"$f":"IF(ISBLANK(B489),\"\",VLOOKUP(B489,Country!A:B,2))","v":""},null,{"$f":"IF(ISBLANK(D489),\"\",VLOOKUP(D489,Income!A:B,2))","v":""},"",null,"",""]
[null,null,{"$f":"IF(ISBLANK(B490),\"\",VLOOKUP(B490,Country!A:B,2))","v":""},null,{"$f":"IF(ISBLANK(D490),\"\",VLOOKUP(D490,Income!A:B,2))","v":""},"",null,"",""]
[null,null,{"$f":"IF(ISBLANK(B491),\"\",VLOOKUP(B491,Country!A:B,2))","v":""},null,{"$f":"IF(ISBLANK(D491),\"\",VLOOKUP(D491,Income!A:B,2))","v":""},"",null,"",""]
[null,null,{"$f":"IF(ISBLANK(B492),\"\",VLOOKUP(B492,Country!A:B,2))","v":""},null,{"$f":"IF(ISBLANK(D492),\"\",VLOOKUP(D492,Income!A:B,2))","v":""},"",null,"",""]
[null,null,{"$f":"IF(ISBLANK(B493),\"\",VLOOKUP(B493,Country!A:B,2))","v":""},null,{"$f":"IF(ISBLANK(D493),\"\",VLOOKUP(D493,Income!A:B,2))","v":""},"",null,"",""]
[null,null,{"$f":"IF(ISBLANK(B494),\"\",VLOOKUP(B494,Country!A:B,2))","v":""},null,{"$f":"IF(ISBLANK(D494),\"\",VLOOKUP(D494,Income!A:B,2))","v":""},"",null,"",""]
[null,null,{"$f":"IF(ISBLANK(B495),\"\",VLOOKUP(B495,Country!A:B,2))","v":""},null,{"$f":"IF(ISBLANK(D495),\"\",VLOOKUP(D495,Income!A:B,2))","v":""},{"$f":"IF(OR(C495=\"\",E495=\"\"),\"\",IF(ISNA(INDEX(RateRange,INDEX(RateRange,MATCH(E495,IncomeTypes,0),MATCH(C495,Countries,0)))),INDEX(RateRange,MATCH(E495,IncomeTypes,0),MATCH(\"OTH\",Countries,0)),INDEX(RateRange,MATCH(E495,IncomeTypes,0),MATCH(C495,Countries,0))))","v":""},null,"",""]
[null,null,{"$f":"IF(ISBLANK(B496),\"\",VLOOKUP(B496,Country!A:B,2))","v":""},null,{"$f":"IF(ISBLANK(D496),\"\",VLOOKUP(D496,Income!A:B,2))","v":""},"",null,"",""]
[null,null,{"$f":"IF(ISBLANK(B497),\"\",VLOOKUP(B497,Country!A:B,2))","v":""},null,{"$f":"IF(ISBLANK(D497),\"\",VLOOKUP(D497,Income!A:B,2))","v":""},"",null,"",""]
[null,null,{"$f":"IF(ISBLANK(B498),\"\",VLOOKUP(B498,Country!A:B,2))","v":""},null,{"$f":"IF(ISBLANK(D498),\"\",VLOOKUP(D498,Income!A:B,2))","v":""},"",null,"",""]
[null,null,{"$f":"IF(ISBLANK(B499),\"\",VLOOKUP(B499,Country!A:B,2))","v":""},null,{"$f":"IF(ISBLANK(D499),\"\",VLOOKUP(D499,Income!A:B,2))","v":""},"",null,"",""]
[null,null,{"$f":"IF(ISBLANK(B500),\"\",VLOOKUP(B500,Country!A:B,2))","v":""},null,{"$f":"IF(ISBLANK(D500),\"\",VLOOKUP(D500,Income!A:B,2))","v":""},"",null,"",""]
[null,null,{"$f":"IF(ISBLANK(B501),\"\",VLOOKUP(B501,Country!A:B,2))","v":""},null,{"$f":"IF(ISBLANK(D501),\"\",VLOOKUP(D501,Income!A:B,2))","v":""},"",null,"",""]
[null,null,{"$f":"IF(ISBLANK(B502),\"\",VLOOKUP(B502,Country!A:B,2))","v":""},null,{"$f":"IF(ISBLANK(D502),\"\",VLOOKUP(D502,Income!A:B,2))","v":""},"",null,"",""]
[null,null,{"$f":"IF(ISBLANK(B503),\"\",VLOOKUP(B503,Country!A:B,2))","v":""},null,{"$f":"IF(ISBLANK(D503),\"\",VLOOKUP(D503,Income!A:B,2))","v":""},"",null,"",""]
[null,null,{"$f":"IF(ISBLANK(B504),\"\",VLOOKUP(B504,Country!A:B,2))","v":""},null,{"$f":"IF(ISBLANK(D504),\"\",VLOOKUP(D504,Income!A:B,2))","v":""},"",null,"",""]
[null,null,{"$f":"IF(ISBLANK(B505),\"\",VLOOKUP(B505,Country!A:B,2))","v":""},null,{"$f":"IF(ISBLANK(D505),\"\",VLOOKUP(D505,Income!A:B,2))","v":""},"",null,"",""]
[null,null,{"$f":"IF(ISBLANK(B506),\"\",VLOOKUP(B506,Country!A:B,2))","v":""},null,{"$f":"IF(ISBLANK(D506),\"\",VLOOKUP(D506,Income!A:B,2))","v":""},"",null,"",""]
[null,null,{"$f":"IF(ISBLANK(B507),\"\",VLOOKUP(B507,Country!A:B,2))","v":""},null,{"$f":"IF(ISBLANK(D507),\"\",VLOOKUP(D507,Income!A:B,2))","v":""},"",null,"",""]
[null,null,{"$f":"IF(ISBLANK(B508),\"\",VLOOKUP(B508,Country!A:B,2))","v":""},null,{"$f":"IF(ISBLANK(D508),\"\",VLOOKUP(D508,Income!A:B,2))","v":""},"",null,"",""]
[null,null,{"$f":"IF(ISBLANK(B509),\"\",VLOOKUP(B509,Country!A:B,2))","v":""},null,{"$f":"IF(ISBLANK(D509),\"\",VLOOKUP(D509,Income!A:B,2))","v":""},"",null,"",""]
[null,null,{"$f":"IF(ISBLANK(B510),\"\",VLOOKUP(B510,Country!A:B,2))","v":""},null,{"$f":"IF(ISBLANK(D510),\"\",VLOOKUP(D510,Income!A:B,2))","v":""},"",null,"",""]
[null,null,{"$f":"IF(ISBLANK(B511),\"\",VLOOKUP(B511,Country!A:B,2))","v":""},null,{"$f":"IF(ISBLANK(D511),\"\",VLOOKUP(D511,Income!A:B,2))","v":""},"",null,"",""]
[null,null,{"$f":"IF(ISBLANK(B512),\"\",VLOOKUP(B512,Country!A:B,2))","v":""},null,{"$f":"IF(ISBLANK(D512),\"\",VLOOKUP(D512,Income!A:B,2))","v":""},"",null,"",""]
[null,null,{"$f":"IF(ISBLANK(B513),\"\",VLOOKUP(B513,Country!A:B,2))","v":""},null,{"$f":"IF(ISBLANK(D513),\"\",VLOOKUP(D513,Income!A:B,2))","v":""},"",null,"",""]
[null,null,{"$f":"IF(ISBLANK(B514),\"\",VLOOKUP(B514,Country!A:B,2))","v":""},null,{"$f":"IF(ISBLANK(D514),\"\",VLOOKUP(D514,Income!A:B,2))","v":""},"",null,"",""]
[null,null,{"$f":"IF(ISBLANK(B515),\"\",VLOOKUP(B515,Country!A:B,2))","v":""},null,{"$f":"IF(ISBLANK(D515),\"\",VLOOKUP(D515,Income!A:B,2))","v":""},"",null,"",""]
[null,null,{"$f":"IF(ISBLANK(B516),\"\",VLOOKUP(B516,Country!A:B,2))","v":""},null,{"$f":"IF(ISBLANK(D516),\"\",VLOOKUP(D516,Income!A:B,2))","v":""},"",null,"",""]
[null,null,{"$f":"IF(ISBLANK(B517),\"\",VLOOKUP(B517,Country!A:B,2))","v":""},null,{"$f":"IF(ISBLANK(D517),\"\",VLOOKUP(D517,Income!A:B,2))","v":""},"",null,{"$f":"IF(F517=\"\",\"\",ROUND(G517*F517,2))","v":""},""]
[null,null,{"$f":"IF(ISBLANK(B518),\"\",VLOOKUP(B518,Country!A:B,2))","v":""},null,{"$f":"IF(ISBLANK(D518),\"\",VLOOKUP(D518,Income!A:B,2))","v":""},"",null,"",""]
[null,null,{"$f":"IF(ISBLANK(B519),\"\",VLOOKUP(B519,Country!A:B,2))","v":""},null,{"$f":"IF(ISBLANK(D519),\"\",VLOOKUP(D519,Income!A:B,2))","v":""},"",null,"",""]
[null,null,{"$f":"IF(ISBLANK(B520),\"\",VLOOKUP(B520,Country!A:B,2))","v":""},null,{"$f":"IF(ISBLANK(D520),\"\",VLOOKUP(D520,Income!A:B,2))","v":""},"",null,"",""]
[null,null,{"$f":"IF(ISBLANK(B521),\"\",VLOOKUP(B521,Country!A:B,2))","v":""},null,{"$f":"IF(ISBLANK(D521),\"\",VLOOKUP(D521,Income!A:B,2))","v":""},"",null,"",""]
[null,null,{"$f":"IF(ISBLANK(B522),\"\",VLOOKUP(B522,Country!A:B,2))","v":""},null,{"$f":"IF(ISBLANK(D522),\"\",VLOOKUP(D522,Income!A:B,2))","v":""},"",null,"",""]
[null,null,{"$f":"IF(ISBLANK(B523),\"\",VLOOKUP(B523,Country!A:B,2))","v":""},null,{"$f":"IF(ISBLANK(D523),\"\",VLOOKUP(D523,Income!A:B,2))","v":""},"",null,"",""]
[null,null,{"$f":"IF(ISBLANK(B524),\"\",VLOOKUP(B524,Country!A:B,2))","v":""},null,{"$f":"IF(ISBLANK(D524),\"\",VLOOKUP(D524,Income!A:B,2))","v":""},"",null,"",{"$f":"IF(H524=\"\",\"\",G524-H524)","v":""}]
[null,null,{"$f":"IF(ISBLANK(B525),\"\",VLOOKUP(B525,Country!A:B,2))","v":""},null,{"$f":"IF(ISBLANK(D525),\"\",VLOOKUP(D525,Income!A:B,2))","v":""},"",null,"",""]
[null,null,{"$f":"IF(ISBLANK(B526),\"\",VLOOKUP(B526,Country!A:B,2))","v":""},null,{"$f":"IF(ISBLANK(D526),\"\",VLOOKUP(D526,Income!A:B,2))","v":""},"",null,"",""]
[null,null,{"$f":"IF(ISBLANK(B527),\"\",VLOOKUP(B527,Country!A:B,2))","v":""},null,{"$f":"IF(ISBLANK(D527),\"\",VLOOKUP(D527,Income!A:B,2))","v":""},"",null,"",""]
[null,null,{"$f":"IF(ISBLANK(B528),\"\",VLOOKUP(B528,Country!A:B,2))","v":""},null,{"$f":"IF(ISBLANK(D528),\"\",VLOOKUP(D528,Income!A:B,2))","v":""},"",null,"",""]
[null,null,{"$f":"IF(ISBLANK(B529),\"\",VLOOKUP(B529,Country!A:B,2))","v":""},null,{"$f":"IF(ISBLANK(D529),\"\",VLOOKUP(D529,Income!A:B,2))","v":""},"",null,"",""]
[null,null,{"$f":"IF(ISBLANK(B530),\"\",VLOOKUP(B530,Country!A:B,2))","v":""},null,{"$f":"IF(ISBLANK(D530),\"\",VLOOKUP(D530,Income!A:B,2))","v":""},"",null,"",""]
[null,null,{"$f":"IF(ISBLANK(B531),\"\",VLOOKUP(B531,Country!A:B,2))","v":""},null,{"$f":"IF(ISBLANK(D531),\"\",VLOOKUP(D531,Income!A:B,2))","v":""},"",null,"",""]
[null,null,{"$f":"IF(ISBLANK(B532),\"\",VLOOKUP(B532,Country!A:B,2))","v":""},null,{"$f":"IF(ISBLANK(D532),\"\",VLOOKUP(D532,Income!A:B,2))","v":""},"",null,"",""]
[null,null,{"$f":"IF(ISBLANK(B533),\"\",VLOOKUP(B533,Country!A:B,2))","v":""},null,{"$f":"IF(ISBLANK(D533),\"\",VLOOKUP(D533,Income!A:B,2))","v":""},"",null,"",""]
[null,null,{"$f":"IF(ISBLANK(B534),\"\",VLOOKUP(B534,Country!A:B,2))","v":""},null,{"$f":"IF(ISBLANK(D534),\"\",VLOOKUP(D534,Income!A:B,2))","v":""},"",null,"",""]
[null,null,{"$f":"IF(ISBLANK(B535),\"\",VLOOKUP(B535,Country!A:B,2))","v":""},null,{"$f":"IF(ISBLANK(D535),\"\",VLOOKUP(D535,Income!A:B,2))","v":""},"",null,"",""]
[null,null,{"$f":"IF(ISBLANK(B536),\"\",VLOOKUP(B536,Country!A:B,2))","v":""},null,{"$f":"IF(ISBLANK(D536),\"\",VLOOKUP(D536,Income!A:B,2))","v":""},"",null,"",""]
[null,null,{"$f":"IF(ISBLANK(B537),\"\",VLOOKUP(B537,Country!A:B,2))","v":""},null,{"$f":"IF(ISBLANK(D537),\"\",VLOOKUP(D537,Income!A:B,2))","v":""},"",null,"",""]
[null,null,{"$f":"IF(ISBLANK(B538),\"\",VLOOKUP(B538,Country!A:B,2))","v":""},null,{"$f":"IF(ISBLANK(D538),\"\",VLOOKUP(D538,Income!A:B,2))","v":""},"",null,"",""]
[null,null,{"$f":"IF(ISBLANK(B539),\"\",VLOOKUP(B539,Country!A:B,2))","v":""},null,{"$f":"IF(ISBLANK(D539),\"\",VLOOKUP(D539,Income!A:B,2))","v":""},"",null,"",""]
[null,null,{"$f":"IF(ISBLANK(B540),\"\",VLOOKUP(B540,Country!A:B,2))","v":""},null,{"$f":"IF(ISBLANK(D540),\"\",VLOOKUP(D540,Income!A:B,2))","v":""},"",null,"",""]
[null,null,{"$f":"IF(ISBLANK(B541),\"\",VLOOKUP(B541,Country!A:B,2))","v":""},null,{"$f":"IF(ISBLANK(D541),\"\",VLOOKUP(D541,Income!A:B,2))","v":""},"",null,"",""]
[null,null,{"$f":"IF(ISBLANK(B542),\"\",VLOOKUP(B542,Country!A:B,2))","v":""},null,{"$f":"IF(ISBLANK(D542),\"\",VLOOKUP(D542,Income!A:B,2))","v":""},"",null,"",""]
[null,null,{"$f":"IF(ISBLANK(B543),\"\",VLOOKUP(B543,Country!A:B,2))","v":""},null,{"$f":"IF(ISBLANK(D543),\"\",VLOOKUP(D543,Income!A:B,2))","v":""},"",null,"",""]
[null,null,{"$f":"IF(ISBLANK(B544),\"\",VLOOKUP(B544,Country!A:B,2))","v":""},null,{"$f":"IF(ISBLANK(D544),\"\",VLOOKUP(D544,Income!A:B,2))","v":""},"",null,"",""]
[null,null,{"$f":"IF(ISBLANK(B545),\"\",VLOOKUP(B545,Country!A:B,2))","v":""},null,{"$f":"IF(ISBLANK(D545),\"\",VLOOKUP(D545,Income!A:B,2))","v":""},"",null,"",""]
[null,null,{"$f":"IF(ISBLANK(B546),\"\",VLOOKUP(B546,Country!A:B,2))","v":""},null,{"$f":"IF(ISBLANK(D546),\"\",VLOOKUP(D546,Income!A:B,2))","v":""},"",null,"",""]
[null,null,{"$f":"IF(ISBLANK(B547),\"\",VLOOKUP(B547,Country!A:B,2))","v":""},null,{"$f":"IF(ISBLANK(D547),\"\",VLOOKUP(D547,Income!A:B,2))","v":""},"",null,"",""]
[null,null,{"$f":"IF(ISBLANK(B548),\"\",VLOOKUP(B548,Country!A:B,2))","v":""},null,{"$f":"IF(ISBLANK(D548),\"\",VLOOKUP(D548,Income!A:B,2))","v":""},"",null,"",""]
[null,null,{"$f":"IF(ISBLANK(B549),\"\",VLOOKUP(B549,Country!A:B,2))","v":""},null,{"$f":"IF(ISBLANK(D549),\"\",VLOOKUP(D549,Income!A:B,2))","v":""},"",null,"",""]
[null,null,{"$f":"IF(ISBLANK(B550),\"\",VLOOKUP(B550,Country!A:B,2))","v":""},null,{"$f":"IF(ISBLANK(D550),\"\",VLOOKUP(D550,Income!A:B,2))","v":""},"",null,"",""]
[null,null,{"$f":"IF(ISBLANK(B551),\"\",VLOOKUP(B551,Country!A:B,2))","v":""},null,{"$f":"IF(ISBLANK(D551),\"\",VLOOKUP(D551,Income!A:B,2))","v":""},"",null,"",""]
[null,null,{"$f":"IF(ISBLANK(B552),\"\",VLOOKUP(B552,Country!A:B,2))","v":""},null,{"$f":"IF(ISBLANK(D552),\"\",VLOOKUP(D552,Income!A:B,2))","v":""},"",null,"",""]
[null,null,{"$f":"IF(ISBLANK(B553),\"\",VLOOKUP(B553,Country!A:B,2))","v":""},null,{"$f":"IF(ISBLANK(D553),\"\",VLOOKUP(D553,Income!A:B,2))","v":""},"",null,"",""]
[null,null,{"$f":"IF(ISBLANK(B554),\"\",VLOOKUP(B554,Country!A:B,2))","v":""},null,{"$f":"IF(ISBLANK(D554),\"\",VLOOKUP(D554,Income!A:B,2))","v":""},"",null,"",""]
[null,null,{"$f":"IF(ISBLANK(B555),\"\",VLOOKUP(B555,Country!A:B,2))","v":""},null,{"$f":"IF(ISBLANK(D555),\"\",VLOOKUP(D555,Income!A:B,2))","v":""},"",null,"",""]
[null,null,{"$f":"IF(ISBLANK(B556),\"\",VLOOKUP(B556,Country!A:B,2))","v":""},null,{"$f":"IF(ISBLANK(D556),\"\",VLOOKUP(D556,Income!A:B,2))","v":""},"",null,"",""]
[null,null,{"$f":"IF(ISBLANK(B557),\"\",VLOOKUP(B557,Country!A:B,2))","v":""},null,{"$f":"IF(ISBLANK(D557),\"\",VLOOKUP(D557,Income!A:B,2))","v":""},"",null,"",""]
[null,null,{"$f":"IF(ISBLANK(B558),\"\",VLOOKUP(B558,Country!A:B,2))","v":""},null,{"$f":"IF(ISBLANK(D558),\"\",VLOOKUP(D558,Income!A:B,2))","v":""},"",null,"",""]
[null,null,{"$f":"IF(ISBLANK(B559),\"\",VLOOKUP(B559,Country!A:B,2))","v":""},null,{"$f":"IF(ISBLANK(D559),\"\",VLOOKUP(D559,Income!A:B,2))","v":""},{"$f":"IF(OR(C559=\"\",E559=\"\"),\"\",IF(ISNA(INDEX(RateRange,INDEX(RateRange,MATCH(E559,IncomeTypes,0),MATCH(C559,Countries,0)))),INDEX(RateRange,MATCH(E559,IncomeTypes,0),MATCH(\"OTH\",Countries,0)),INDEX(RateRange,MATCH(E559,IncomeTypes,0),MATCH(C559,Countries,0))))","v":""},null,"",""]
[null,null,{"$f":"IF(ISBLANK(B560),\"\",VLOOKUP(B560,Country!A:B,2))","v":""},null,{"$f":"IF(ISBLANK(D560),\"\",VLOOKUP(D560,Income!A:B,2))","v":""},"",null,"",""]
[null,null,{"$f":"IF(ISBLANK(B561),\"\",VLOOKUP(B561,Country!A:B,2))","v":""},null,{"$f":"IF(ISBLANK(D561),\"\",VLOOKUP(D561,Income!A:B,2))","v":""},"",null,"",""]
[null,null,{"$f":"IF(ISBLANK(B562),\"\",VLOOKUP(B562,Country!A:B,2))","v":""},null,{"$f":"IF(ISBLANK(D562),\"\",VLOOKUP(D562,Income!A:B,2))","v":""},"",null,"",""]
[null,null,{"$f":"IF(ISBLANK(B563),\"\",VLOOKUP(B563,Country!A:B,2))","v":""},null,{"$f":"IF(ISBLANK(D563),\"\",VLOOKUP(D563,Income!A:B,2))","v":""},"",null,"",""]
[null,null,{"$f":"IF(ISBLANK(B564),\"\",VLOOKUP(B564,Country!A:B,2))","v":""},null,{"$f":"IF(ISBLANK(D564),\"\",VLOOKUP(D564,Income!A:B,2))","v":""},"",null,"",""]
[null,null,{"$f":"IF(ISBLANK(B565),\"\",VLOOKUP(B565,Country!A:B,2))","v":""},null,{"$f":"IF(ISBLANK(D565),\"\",VLOOKUP(D565,Income!A:B,2))","v":""},"",null,"",""]
[null,null,{"$f":"IF(ISBLANK(B566),\"\",VLOOKUP(B566,Country!A:B,2))","v":""},null,{"$f":"IF(ISBLANK(D566),\"\",VLOOKUP(D566,Income!A:B,2))","v":""},"",null,"",""]
[null,null,{"$f":"IF(ISBLANK(B567),\"\",VLOOKUP(B567,Country!A:B,2))","v":""},null,{"$f":"IF(ISBLANK(D567),\"\",VLOOKUP(D567,Income!A:B,2))","v":""},"",null,"",""]
[null,null,{"$f":"IF(ISBLANK(B568),\"\",VLOOKUP(B568,Country!A:B,2))","v":""},null,{"$f":"IF(ISBLANK(D568),\"\",VLOOKUP(D568,Income!A:B,2))","v":""},"",null,"",""]
[null,null,{"$f":"IF(ISBLANK(B569),\"\",VLOOKUP(B569,Country!A:B,2))","v":""},null,{"$f":"IF(ISBLANK(D569),\"\",VLOOKUP(D569,Income!A:B,2))","v":""},"",null,"",""]
[null,null,{"$f":"IF(ISBLANK(B570),\"\",VLOOKUP(B570,Country!A:B,2))","v":""},null,{"$f":"IF(ISBLANK(D570),\"\",VLOOKUP(D570,Income!A:B,2))","v":""},"",null,"",""]
[null,null,{"$f":"IF(ISBLANK(B571),\"\",VLOOKUP(B571,Country!A:B,2))","v":""},null,{"$f":"IF(ISBLANK(D571),\"\",VLOOKUP(D571,Income!A:B,2))","v":""},"",null,"",""]
[null,null,{"$f":"IF(ISBLANK(B572),\"\",VLOOKUP(B572,Country!A:B,2))","v":""},null,{"$f":"IF(ISBLANK(D572),\"\",VLOOKUP(D572,Income!A:B,2))","v":""},"",null,"",""]
[null,null,{"$f":"IF(ISBLANK(B573),\"\",VLOOKUP(B573,Country!A:B,2))","v":""},null,{"$f":"IF(ISBLANK(D573),\"\",VLOOKUP(D573,Income!A:B,2))","v":""},"",null,"",""]
[null,null,{"$f":"IF(ISBLANK(B574),\"\",VLOOKUP(B574,Country!A:B,2))","v":""},null,{"$f":"IF(ISBLANK(D574),\"\",VLOOKUP(D574,Income!A:B,2))","v":""},"",null,"",""]
[null,null,{"$f":"IF(ISBLANK(B575),\"\",VLOOKUP(B575,Country!A:B,2))","v":""},null,{"$f":"IF(ISBLANK(D575),\"\",VLOOKUP(D575,Income!A:B,2))","v":""},"",null,"",""]
[null,null,{"$f":"IF(ISBLANK(B576),\"\",VLOOKUP(B576,Country!A:B,2))","v":""},null,{"$f":"IF(ISBLANK(D576),\"\",VLOOKUP(D576,Income!A:B,2))","v":""},"",null,"",""]
[null,null,{"$f":"IF(ISBLANK(B577),\"\",VLOOKUP(B577,Country!A:B,2))","v":""},null,{"$f":"IF(ISBLANK(D577),\"\",VLOOKUP(D577,Income!A:B,2))","v":""},"",null,"",""]
[null,null,{"$f":"IF(ISBLANK(B578),\"\",VLOOKUP(B578,Country!A:B,2))","v":""},null,{"$f":"IF(ISBLANK(D578),\"\",VLOOKUP(D578,Income!A:B,2))","v":""},"",null,"",""]
[null,null,{"$f":"IF(ISBLANK(B579),\"\",VLOOKUP(B579,Country!A:B,2))","v":""},null,{"$f":"IF(ISBLANK(D579),\"\",VLOOKUP(D579,Income!A:B,2))","v":""},"",null,"",""]
[null,null,{"$f":"IF(ISBLANK(B580),\"\",VLOOKUP(B580,Country!A:B,2))","v":""},null,{"$f":"IF(ISBLANK(D580),\"\",VLOOKUP(D580,Income!A:B,2))","v":""},"",null,"",""]
[null,null,{"$f":"IF(ISBLANK(B581),\"\",VLOOKUP(B581,Country!A:B,2))","v":""},null,{"$f":"IF(ISBLANK(D581),\"\",VLOOKUP(D581,Income!A:B,2))","v":""},"",null,{"$f":"IF(F581=\"\",\"\",ROUND(G581*F581,2))","v":""},""]
[null,null,{"$f":"IF(ISBLANK(B582),\"\",VLOOKUP(B582,Country!A:B,2))","v":""},null,{"$f":"IF(ISBLANK(D582),\"\",VLOOKUP(D582,Income!A:B,2))","v":""},"",null,"",""]
[null,null,{"$f":"IF(ISBLANK(B583),\"\",VLOOKUP(B583,Country!A:B,2))","v":""},null,{"$f":"IF(ISBLANK(D583),\"\",VLOOKUP(D583,Income!A:B,2))","v":""},"",null,"",""]
[null,null,{"$f":"IF(ISBLANK(B584),\"\",VLOOKUP(B584,Country!A:B,2))","v":""},null,{"$f":"IF(ISBLANK(D584),\"\",VLOOKUP(D584,Income!A:B,2))","v":""},"",null,"",""]
[null,null,{"$f":"IF(ISBLANK(B585),\"\",VLOOKUP(B585,Country!A:B,2))","v":""},null,{"$f":"IF(ISBLANK(D585),\"\",VLOOKUP(D585,Income!A:B,2))","v":""},"",null,"",""]
[null,null,{"$f":"IF(ISBLANK(B586),\"\",VLOOKUP(B586,Country!A:B,2))","v":""},null,{"$f":"IF(ISBLANK(D586),\"\",VLOOKUP(D586,Income!A:B,2))","v":""},"",null,"",""]
[null,null,{"$f":"IF(ISBLANK(B587),\"\",VLOOKUP(B587,Country!A:B,2))","v":""},null,{"$f":"IF(ISBLANK(D587),\"\",VLOOKUP(D587,Income!A:B,2))","v":""},"",null,"",""]
[null,null,{"$f":"IF(ISBLANK(B588),\"\",VLOOKUP(B588,Country!A:B,2))","v":""},null,{"$f":"IF(ISBLANK(D588),\"\",VLOOKUP(D588,Income!A:B,2))","v":""},"",null,"",{"$f":"IF(H588=\"\",\"\",G588-H588)","v":""}]
[null,null,{"$f":"IF(ISBLANK(B589),\"\",VLOOKUP(B589,Country!A:B,2))","v":""},null,{"$f":"IF(ISBLANK(D589),\"\",VLOOKUP(D589,Income!A:B,2))","v":""},"",null,"",""]
[null,null,{"$f":"IF(ISBLANK(B590),\"\",VLOOKUP(B590,Country!A:B,2))","v":""},null,{"$f":"IF(ISBLANK(D590),\"\",VLOOKUP(D590,Income!A:B,2))","v":""},"",null,"",""]
[null,null,{"$f":"IF(ISBLANK(B591),\"\",VLOOKUP(B591,Country!A:B,2))","v":""},null,{"$f":"IF(ISBLANK(D591),\"\",VLOOKUP(D591,Income!A:B,2))","v":""},"",null,"",""]
[null,null,{"$f":"IF(ISBLANK(B592),\"\",VLOOKUP(B592,Country!A:B,2))","v":""},null,{"$f":"IF(ISBLANK(D592),\"\",VLOOKUP(D592,Income!A:B,2))","v":""},"",null,"",""]
[null,null,{"$f":"IF(ISBLANK(B593),\"\",VLOOKUP(B593,Country!A:B,2))","v":""},null,{"$f":"IF(ISBLANK(D593),\"\",VLOOKUP(D593,Income!A:B,2))","v":""},"",null,"",""]
[null,null,{"$f":"IF(ISBLANK(B594),\"\",VLOOKUP(B594,Country!A:B,2))","v":""},null,{"$f":"IF(ISBLANK(D594),\"\",VLOOKUP(D594,Income!A:B,2))","v":""},"",null,"",""]
[null,null,{"$f":"IF(ISBLANK(B595),\"\",VLOOKUP(B595,Country!A:B,2))","v":""},null,{"$f":"IF(ISBLANK(D595),\"\",VLOOKUP(D595,Income!A:B,2))","v":""},"",null,"",""]
[null,null,{"$f":"IF(ISBLANK(B596),\"\",VLOOKUP(B596,Country!A:B,2))","v":""},null,{"$f":"IF(ISBLANK(D596),\"\",VLOOKUP(D596,Income!A:B,2))","v":""},"",null,"",""]
[null,null,{"$f":"IF(ISBLANK(B597),\"\",VLOOKUP(B597,Country!A:B,2))","v":""},null,{"$f":"IF(ISBLANK(D597),\"\",VLOOKUP(D597,Income!A:B,2))","v":""},"",null,"",""]
[null,null,{"$f":"IF(ISBLANK(B598),\"\",VLOOKUP(B598,Country!A:B,2))","v":""},null,{"$f":"IF(ISBLANK(D598),\"\",VLOOKUP(D598,Income!A:B,2))","v":""},"",null,"",""]
[null,null,{"$f":"IF(ISBLANK(B599),\"\",VLOOKUP(B599,Country!A:B,2))","v":""},null,{"$f":"IF(ISBLANK(D599),\"\",VLOOKUP(D599,Income!A:B,2))","v":""},"",null,"",""]
[null,null,{"$f":"IF(ISBLANK(B600),\"\",VLOOKUP(B600,Country!A:B,2))","v":""},null,{"$f":"IF(ISBLANK(D600),\"\",VLOOKUP(D600,Income!A:B,2))","v":""},"",null,"",""]
[null,null,{"$f":"IF(ISBLANK(B601),\"\",VLOOKUP(B601,Country!A:B,2))","v":""},null,{"$f":"IF(ISBLANK(D601),\"\",VLOOKUP(D601,Income!A:B,2))","v":""},"",null,"",""]
[null,null,{"$f":"IF(ISBLANK(B602),\"\",VLOOKUP(B602,Country!A:B,2))","v":""},null,{"$f":"IF(ISBLANK(D602),\"\",VLOOKUP(D602,Income!A:B,2))","v":""},"",null,"",""]
[null,null,{"$f":"IF(ISBLANK(B603),\"\",VLOOKUP(B603,Country!A:B,2))","v":""},null,{"$f":"IF(ISBLANK(D603),\"\",VLOOKUP(D603,Income!A:B,2))","v":""},"",null,"",""]
[null,null,{"$f":"IF(ISBLANK(B604),\"\",VLOOKUP(B604,Country!A:B,2))","v":""},null,{"$f":"IF(ISBLANK(D604),\"\",VLOOKUP(D604,Income!A:B,2))","v":""},"",null,"",""]
[null,null,{"$f":"IF(ISBLANK(B605),\"\",VLOOKUP(B605,Country!A:B,2))","v":""},null,{"$f":"IF(ISBLANK(D605),\"\",VLOOKUP(D605,Income!A:B,2))","v":""},"",null,"",""]
[null,null,{"$f":"IF(ISBLANK(B606),\"\",VLOOKUP(B606,Country!A:B,2))","v":""},null,{"$f":"IF(ISBLANK(D606),\"\",VLOOKUP(D606,Income!A:B,2))","v":""},"",null,"",""]
[null,null,{"$f":"IF(ISBLANK(B607),\"\",VLOOKUP(B607,Country!A:B,2))","v":""},null,{"$f":"IF(ISBLANK(D607),\"\",VLOOKUP(D607,Income!A:B,2))","v":""},"",null,"",""]
[null,null,{"$f":"IF(ISBLANK(B608),\"\",VLOOKUP(B608,Country!A:B,2))","v":""},null,{"$f":"IF(ISBLANK(D608),\"\",VLOOKUP(D608,Income!A:B,2))","v":""},"",null,"",""]
[null,null,{"$f":"IF(ISBLANK(B609),\"\",VLOOKUP(B609,Country!A:B,2))","v":""},null,{"$f":"IF(ISBLANK(D609),\"\",VLOOKUP(D609,Income!A:B,2))","v":""},"",null,"",""]
[null,null,{"$f":"IF(ISBLANK(B610),\"\",VLOOKUP(B610,Country!A:B,2))","v":""},null,{"$f":"IF(ISBLANK(D610),\"\",VLOOKUP(D610,Income!A:B,2))","v":""},"",null,"",""]
[null,null,{"$f":"IF(ISBLANK(B611),\"\",VLOOKUP(B611,Country!A:B,2))","v":""},null,{"$f":"IF(ISBLANK(D611),\"\",VLOOKUP(D611,Income!A:B,2))","v":""},"",null,"",""]
[null,null,{"$f":"IF(ISBLANK(B612),\"\",VLOOKUP(B612,Country!A:B,2))","v":""},null,{"$f":"IF(ISBLANK(D612),\"\",VLOOKUP(D612,Income!A:B,2))","v":""},"",null,"",""]
[null,null,{"$f":"IF(ISBLANK(B613),\"\",VLOOKUP(B613,Country!A:B,2))","v":""},null,{"$f":"IF(ISBLANK(D613),\"\",VLOOKUP(D613,Income!A:B,2))","v":""},"",null,"",""]
[null,null,{"$f":"IF(ISBLANK(B614),\"\",VLOOKUP(B614,Country!A:B,2))","v":""},null,{"$f":"IF(ISBLANK(D614),\"\",VLOOKUP(D614,Income!A:B,2))","v":""},"",null,"",""]
[null,null,{"$f":"IF(ISBLANK(B615),\"\",VLOOKUP(B615,Country!A:B,2))","v":""},null,{"$f":"IF(ISBLANK(D615),\"\",VLOOKUP(D615,Income!A:B,2))","v":""},"",null,"",""]
[null,null,{"$f":"IF(ISBLANK(B616),\"\",VLOOKUP(B616,Country!A:B,2))","v":""},null,{"$f":"IF(ISBLANK(D616),\"\",VLOOKUP(D616,Income!A:B,2))","v":""},"",null,"",""]
[null,null,{"$f":"IF(ISBLANK(B617),\"\",VLOOKUP(B617,Country!A:B,2))","v":""},null,{"$f":"IF(ISBLANK(D617),\"\",VLOOKUP(D617,Income!A:B,2))","v":""},"",null,"",""]
[null,null,{"$f":"IF(ISBLANK(B618),\"\",VLOOKUP(B618,Country!A:B,2))","v":""},null,{"$f":"IF(ISBLANK(D618),\"\",VLOOKUP(D618,Income!A:B,2))","v":""},"",null,"",""]
[null,null,{"$f":"IF(ISBLANK(B619),\"\",VLOOKUP(B619,Country!A:B,2))","v":""},null,{"$f":"IF(ISBLANK(D619),\"\",VLOOKUP(D619,Income!A:B,2))","v":""},"",null,"",""]
[null,null,{"$f":"IF(ISBLANK(B620),\"\",VLOOKUP(B620,Country!A:B,2))","v":""},null,{"$f":"IF(ISBLANK(D620),\"\",VLOOKUP(D620,Income!A:B,2))","v":""},"",null,"",""]
[null,null,{"$f":"IF(ISBLANK(B621),\"\",VLOOKUP(B621,Country!A:B,2))","v":""},null,{"$f":"IF(ISBLANK(D621),\"\",VLOOKUP(D621,Income!A:B,2))","v":""},"",null,"",""]
[null,null,{"$f":"IF(ISBLANK(B622),\"\",VLOOKUP(B622,Country!A:B,2))","v":""},null,{"$f":"IF(ISBLANK(D622),\"\",VLOOKUP(D622,Income!A:B,2))","v":""},"",null,"",""]
[null,null,{"$f":"IF(ISBLANK(B623),\"\",VLOOKUP(B623,Country!A:B,2))","v":""},null,{"$f":"IF(ISBLANK(D623),\"\",VLOOKUP(D623,Income!A:B,2))","v":""},{"$f":"IF(OR(C623=\"\",E623=\"\"),\"\",IF(ISNA(INDEX(RateRange,INDEX(RateRange,MATCH(E623,IncomeTypes,0),MATCH(C623,Countries,0)))),INDEX(RateRange,MATCH(E623,IncomeTypes,0),MATCH(\"OTH\",Countries,0)),INDEX(RateRange,MATCH(E623,IncomeTypes,0),MATCH(C623,Countries,0))))","v":""},null,"",""]
[null,null,{"$f":"IF(ISBLANK(B624),\"\",VLOOKUP(B624,Country!A:B,2))","v":""},null,{"$f":"IF(ISBLANK(D624),\"\",VLOOKUP(D624,Income!A:B,2))","v":""},"",null,"",""]
[null,null,{"$f":"IF(ISBLANK(B625),\"\",VLOOKUP(B625,Country!A:B,2))","v":""},null,{"$f":"IF(ISBLANK(D625),\"\",VLOOKUP(D625,Income!A:B,2))","v":""},"",null,"",""]
[null,null,{"$f":"IF(ISBLANK(B626),\"\",VLOOKUP(B626,Country!A:B,2))","v":""},null,{"$f":"IF(ISBLANK(D626),\"\",VLOOKUP(D626,Income!A:B,2))","v":""},"",null,"",""]
[null,null,{"$f":"IF(ISBLANK(B627),\"\",VLOOKUP(B627,Country!A:B,2))","v":""},null,{"$f":"IF(ISBLANK(D627),\"\",VLOOKUP(D627,Income!A:B,2))","v":""},"",null,"",""]
[null,null,{"$f":"IF(ISBLANK(B628),\"\",VLOOKUP(B628,Country!A:B,2))","v":""},null,{"$f":"IF(ISBLANK(D628),\"\",VLOOKUP(D628,Income!A:B,2))","v":""},"",null,"",""]
[null,null,{"$f":"IF(ISBLANK(B629),\"\",VLOOKUP(B629,Country!A:B,2))","v":""},null,{"$f":"IF(ISBLANK(D629),\"\",VLOOKUP(D629,Income!A:B,2))","v":""},"",null,"",""]
[null,null,{"$f":"IF(ISBLANK(B630),\"\",VLOOKUP(B630,Country!A:B,2))","v":""},null,{"$f":"IF(ISBLANK(D630),\"\",VLOOKUP(D630,Income!A:B,2))","v":""},"",null,"",""]
[null,null,{"$f":"IF(ISBLANK(B631),\"\",VLOOKUP(B631,Country!A:B,2))","v":""},null,{"$f":"IF(ISBLANK(D631),\"\",VLOOKUP(D631,Income!A:B,2))","v":""},"",null,"",""]
[null,null,{"$f":"IF(ISBLANK(B632),\"\",VLOOKUP(B632,Country!A:B,2))","v":""},null,{"$f":"IF(ISBLANK(D632),\"\",VLOOKUP(D632,Income!A:B,2))","v":""},"",null,"",""]
[null,null,{"$f":"IF(ISBLANK(B633),\"\",VLOOKUP(B633,Country!A:B,2))","v":""},null,{"$f":"IF(ISBLANK(D633),\"\",VLOOKUP(D633,Income!A:B,2))","v":""},"",null,"",""]
[null,null,{"$f":"IF(ISBLANK(B634),\"\",VLOOKUP(B634,Country!A:B,2))","v":""},null,{"$f":"IF(ISBLANK(D634),\"\",VLOOKUP(D634,Income!A:B,2))","v":""},"",null,"",""]
[null,null,{"$f":"IF(ISBLANK(B635),\"\",VLOOKUP(B635,Country!A:B,2))","v":""},null,{"$f":"IF(ISBLANK(D635),\"\",VLOOKUP(D635,Income!A:B,2))","v":""},"",null,"",""]
[null,null,{"$f":"IF(ISBLANK(B636),\"\",VLOOKUP(B636,Country!A:B,2))","v":""},null,{"$f":"IF(ISBLANK(D636),\"\",VLOOKUP(D636,Income!A:B,2))","v":""},"",null,"",""]
[null,null,{"$f":"IF(ISBLANK(B637),\"\",VLOOKUP(B637,Country!A:B,2))","v":""},null,{"$f":"IF(ISBLANK(D637),\"\",VLOOKUP(D637,Income!A:B,2))","v":""},"",null,"",""]
[null,null,{"$f":"IF(ISBLANK(B638),\"\",VLOOKUP(B638,Country!A:B,2))","v":""},null,{"$f":"IF(ISBLANK(D638),\"\",VLOOKUP(D638,Income!A:B,2))","v":""},"",null,"",""]
[null,null,{"$f":"IF(ISBLANK(B639),\"\",VLOOKUP(B639,Country!A:B,2))","v":""},null,{"$f":"IF(ISBLANK(D639),\"\",VLOOKUP(D639,Income!A:B,2))","v":""},"",null,"",""]
[null,null,{"$f":"IF(ISBLANK(B640),\"\",VLOOKUP(B640,Country!A:B,2))","v":""},null,{"$f":"IF(ISBLANK(D640),\"\",VLOOKUP(D640,Income!A:B,2))","v":""},"",null,"",""]
[null,null,{"$f":"IF(ISBLANK(B641),\"\",VLOOKUP(B641,Country!A:B,2))","v":""},null,{"$f":"IF(ISBLANK(D641),\"\",VLOOKUP(D641,Income!A:B,2))","v":""},"",null,"",""]
[null,null,{"$f":"IF(ISBLANK(B642),\"\",VLOOKUP(B642,Country!A:B,2))","v":""},null,{"$f":"IF(ISBLANK(D642),\"\",VLOOKUP(D642,Income!A:B,2))","v":""},"",null,"",""]
[null,null,{"$f":"IF(ISBLANK(B643),\"\",VLOOKUP(B643,Country!A:B,2))","v":""},null,{"$f":"IF(ISBLANK(D643),\"\",VLOOKUP(D643,Income!A:B,2))","v":""},"",null,"",""]
[null,null,{"$f":"IF(ISBLANK(B644),\"\",VLOOKUP(B644,Country!A:B,2))","v":""},null,{"$f":"IF(ISBLANK(D644),\"\",VLOOKUP(D644,Income!A:B,2))","v":""},"",null,"",""]
[null,null,{"$f":"IF(ISBLANK(B645),\"\",VLOOKUP(B645,Country!A:B,2))","v":""},null,{"$f":"IF(ISBLANK(D645),\"\",VLOOKUP(D645,Income!A:B,2))","v":""},"",null,{"$f":"IF(F645=\"\",\"\",ROUND(G645*F645,2))","v":""},""]
[null,null,{"$f":"IF(ISBLANK(B646),\"\",VLOOKUP(B646,Country!A:B,2))","v":""},null,{"$f":"IF(ISBLANK(D646),\"\",VLOOKUP(D646,Income!A:B,2))","v":""},"",null,"",""]
[null,null,{"$f":"IF(ISBLANK(B647),\"\",VLOOKUP(B647,Country!A:B,2))","v":""},null,{"$f":"IF(ISBLANK(D647),\"\",VLOOKUP(D647,Income!A:B,2))","v":""},"",null,"",""]
[null,null,{"$f":"IF(ISBLANK(B648),\"\",VLOOKUP(B648,Country!A:B,2))","v":""},null,{"$f":"IF(ISBLANK(D648),\"\",VLOOKUP(D648,Income!A:B,2))","v":""},"",null,"",""]
[null,null,{"$f":"IF(ISBLANK(B649),\"\",VLOOKUP(B649,Country!A:B,2))","v":""},null,{"$f":"IF(ISBLANK(D649),\"\",VLOOKUP(D649,Income!A:B,2))","v":""},"",null,"",""]
[null,null,{"$f":"IF(ISBLANK(B650),\"\",VLOOKUP(B650,Country!A:B,2))","v":""},null,{"$f":"IF(ISBLANK(D650),\"\",VLOOKUP(D650,Income!A:B,2))","v":""},"",null,"",""]
[null,null,{"$f":"IF(ISBLANK(B651),\"\",VLOOKUP(B651,Country!A:B,2))","v":""},null,{"$f":"IF(ISBLANK(D651),\"\",VLOOKUP(D651,Income!A:B,2))","v":""},"",null,"",""]
[null,null,{"$f":"IF(ISBLANK(B652),\"\",VLOOKUP(B652,Country!A:B,2))","v":""},null,{"$f":"IF(ISBLANK(D652),\"\",VLOOKUP(D652,Income!A:B,2))","v":""},"",null,"",{"$f":"IF(H652=\"\",\"\",G652-H652)","v":""}]
[null,null,{"$f":"IF(ISBLANK(B653),\"\",VLOOKUP(B653,Country!A:B,2))","v":""},null,{"$f":"IF(ISBLANK(D653),\"\",VLOOKUP(D653,Income!A:B,2))","v":""},"",null,"",""]
[null,null,{"$f":"IF(ISBLANK(B654),\"\",VLOOKUP(B654,Country!A:B,2))","v":""},null,{"$f":"IF(ISBLANK(D654),\"\",VLOOKUP(D654,Income!A:B,2))","v":""},"",null,"",""]
[null,null,{"$f":"IF(ISBLANK(B655),\"\",VLOOKUP(B655,Country!A:B,2))","v":""},null,{"$f":"IF(ISBLANK(D655),\"\",VLOOKUP(D655,Income!A:B,2))","v":""},"",null,"",""]
[null,null,{"$f":"IF(ISBLANK(B656),\"\",VLOOKUP(B656,Country!A:B,2))","v":""},null,{"$f":"IF(ISBLANK(D656),\"\",VLOOKUP(D656,Income!A:B,2))","v":""},"",null,"",""]
[null,null,{"$f":"IF(ISBLANK(B657),\"\",VLOOKUP(B657,Country!A:B,2))","v":""},null,{"$f":"IF(ISBLANK(D657),\"\",VLOOKUP(D657,Income!A:B,2))","v":""},"",null,"",""]
[null,null,{"$f":"IF(ISBLANK(B658),\"\",VLOOKUP(B658,Country!A:B,2))","v":""},null,{"$f":"IF(ISBLANK(D658),\"\",VLOOKUP(D658,Income!A:B,2))","v":""},"",null,"",""]
[null,null,{"$f":"IF(ISBLANK(B659),\"\",VLOOKUP(B659,Country!A:B,2))","v":""},null,{"$f":"IF(ISBLANK(D659),\"\",VLOOKUP(D659,Income!A:B,2))","v":""},"",null,"",""]
[null,null,{"$f":"IF(ISBLANK(B660),\"\",VLOOKUP(B660,Country!A:B,2))","v":""},null,{"$f":"IF(ISBLANK(D660),\"\",VLOOKUP(D660,Income!A:B,2))","v":""},"",null,"",""]
[null,null,{"$f":"IF(ISBLANK(B661),\"\",VLOOKUP(B661,Country!A:B,2))","v":""},null,{"$f":"IF(ISBLANK(D661),\"\",VLOOKUP(D661,Income!A:B,2))","v":""},"",null,"",""]
[null,null,{"$f":"IF(ISBLANK(B662),\"\",VLOOKUP(B662,Country!A:B,2))","v":""},null,{"$f":"IF(ISBLANK(D662),\"\",VLOOKUP(D662,Income!A:B,2))","v":""},"",null,"",""]
[null,null,{"$f":"IF(ISBLANK(B663),\"\",VLOOKUP(B663,Country!A:B,2))","v":""},null,{"$f":"IF(ISBLANK(D663),\"\",VLOOKUP(D663,Income!A:B,2))","v":""},"",null,"",""]
[null,null,{"$f":"IF(ISBLANK(B664),\"\",VLOOKUP(B664,Country!A:B,2))","v":""},null,{"$f":"IF(ISBLANK(D664),\"\",VLOOKUP(D664,Income!A:B,2))","v":""},"",null,"",""]
[null,null,{"$f":"IF(ISBLANK(B665),\"\",VLOOKUP(B665,Country!A:B,2))","v":""},null,{"$f":"IF(ISBLANK(D665),\"\",VLOOKUP(D665,Income!A:B,2))","v":""},"",null,"",""]
[null,null,{"$f":"IF(ISBLANK(B666),\"\",VLOOKUP(B666,Country!A:B,2))","v":""},null,{"$f":"IF(ISBLANK(D666),\"\",VLOOKUP(D666,Income!A:B,2))","v":""},"",null,"",""]
[null,null,{"$f":"IF(ISBLANK(B667),\"\",VLOOKUP(B667,Country!A:B,2))","v":""},null,{"$f":"IF(ISBLANK(D667),\"\",VLOOKUP(D667,Income!A:B,2))","v":""},"",null,"",""]
[null,null,{"$f":"IF(ISBLANK(B668),\"\",VLOOKUP(B668,Country!A:B,2))","v":""},null,{"$f":"IF(ISBLANK(D668),\"\",VLOOKUP(D668,Income!A:B,2))","v":""},"",null,"",""]
[null,null,{"$f":"IF(ISBLANK(B669),\"\",VLOOKUP(B669,Country!A:B,2))","v":""},null,{"$f":"IF(ISBLANK(D669),\"\",VLOOKUP(D669,Income!A:B,2))","v":""},"",null,"",""]
[null,null,{"$f":"IF(ISBLANK(B670),\"\",VLOOKUP(B670,Country!A:B,2))","v":""},null,{"$f":"IF(ISBLANK(D670),\"\",VLOOKUP(D670,Income!A:B,2))","v":""},"",null,"",""]
[null,null,{"$f":"IF(ISBLANK(B671),\"\",VLOOKUP(B671,Country!A:B,2))","v":""},null,{"$f":"IF(ISBLANK(D671),\"\",VLOOKUP(D671,Income!A:B,2))","v":""},"",null,"",""]
[null,null,{"$f":"IF(ISBLANK(B672),\"\",VLOOKUP(B672,Country!A:B,2))","v":""},null,{"$f":"IF(ISBLANK(D672),\"\",VLOOKUP(D672,Income!A:B,2))","v":""},"",null,"",""]
[null,null,{"$f":"IF(ISBLANK(B673),\"\",VLOOKUP(B673,Country!A:B,2))","v":""},null,{"$f":"IF(ISBLANK(D673),\"\",VLOOKUP(D673,Income!A:B,2))","v":""},"",null,"",""]
[null,null,{"$f":"IF(ISBLANK(B674),\"\",VLOOKUP(B674,Country!A:B,2))","v":""},null,{"$f":"IF(ISBLANK(D674),\"\",VLOOKUP(D674,Income!A:B,2))","v":""},"",null,"",""]
[null,null,{"$f":"IF(ISBLANK(B675),\"\",VLOOKUP(B675,Country!A:B,2))","v":""},null,{"$f":"IF(ISBLANK(D675),\"\",VLOOKUP(D675,Income!A:B,2))","v":""},"",null,"",""]
[null,null,{"$f":"IF(ISBLANK(B676),\"\",VLOOKUP(B676,Country!A:B,2))","v":""},null,{"$f":"IF(ISBLANK(D676),\"\",VLOOKUP(D676,Income!A:B,2))","v":""},"",null,"",""]
[null,null,{"$f":"IF(ISBLANK(B677),\"\",VLOOKUP(B677,Country!A:B,2))","v":""},null,{"$f":"IF(ISBLANK(D677),\"\",VLOOKUP(D677,Income!A:B,2))","v":""},"",null,"",""]
[null,null,{"$f":"IF(ISBLANK(B678),\"\",VLOOKUP(B678,Country!A:B,2))","v":""},null,{"$f":"IF(ISBLANK(D678),\"\",VLOOKUP(D678,Income!A:B,2))","v":""},"",null,"",""]
[null,null,{"$f":"IF(ISBLANK(B679),\"\",VLOOKUP(B679,Country!A:B,2))","v":""},null,{"$f":"IF(ISBLANK(D679),\"\",VLOOKUP(D679,Income!A:B,2))","v":""},"",null,"",""]
[null,null,{"$f":"IF(ISBLANK(B680),\"\",VLOOKUP(B680,Country!A:B,2))","v":""},null,{"$f":"IF(ISBLANK(D680),\"\",VLOOKUP(D680,Income!A:B,2))","v":""},"",null,"",""]
[null,null,{"$f":"IF(ISBLANK(B681),\"\",VLOOKUP(B681,Country!A:B,2))","v":""},null,{"$f":"IF(ISBLANK(D681),\"\",VLOOKUP(D681,Income!A:B,2))","v":""},"",null,"",""]
[null,null,{"$f":"IF(ISBLANK(B682),\"\",VLOOKUP(B682,Country!A:B,2))","v":""},null,{"$f":"IF(ISBLANK(D682),\"\",VLOOKUP(D682,Income!A:B,2))","v":""},"",null,"",""]
[null,null,{"$f":"IF(ISBLANK(B683),\"\",VLOOKUP(B683,Country!A:B,2))","v":""},null,{"$f":"IF(ISBLANK(D683),\"\",VLOOKUP(D683,Income!A:B,2))","v":""},"",null,"",""]
[null,null,{"$f":"IF(ISBLANK(B684),\"\",VLOOKUP(B684,Country!A:B,2))","v":""},null,{"$f":"IF(ISBLANK(D684),\"\",VLOOKUP(D684,Income!A:B,2))","v":""},"",null,"",""]
[null,null,{"$f":"IF(ISBLANK(B685),\"\",VLOOKUP(B685,Country!A:B,2))","v":""},null,{"$f":"IF(ISBLANK(D685),\"\",VLOOKUP(D685,Income!A:B,2))","v":""},"",null,"",""]
[null,null,{"$f":"IF(ISBLANK(B686),\"\",VLOOKUP(B686,Country!A:B,2))","v":""},null,{"$f":"IF(ISBLANK(D686),\"\",VLOOKUP(D686,Income!A:B,2))","v":""},"",null,"",""]
[null,null,{"$f":"IF(ISBLANK(B687),\"\",VLOOKUP(B687,Country!A:B,2))","v":""},null,{"$f":"IF(ISBLANK(D687),\"\",VLOOKUP(D687,Income!A:B,2))","v":""},{"$f":"IF(OR(C687=\"\",E687=\"\"),\"\",IF(ISNA(INDEX(RateRange,INDEX(RateRange,MATCH(E687,IncomeTypes,0),MATCH(C687,Countries,0)))),INDEX(RateRange,MATCH(E687,IncomeTypes,0),MATCH(\"OTH\",Countries,0)),INDEX(RateRange,MATCH(E687,IncomeTypes,0),MATCH(C687,Countries,0))))","v":""},null,"",""]
[null,null,{"$f":"IF(ISBLANK(B688),\"\",VLOOKUP(B688,Country!A:B,2))","v":""},null,{"$f":"IF(ISBLANK(D688),\"\",VLOOKUP(D688,Income!A:B,2))","v":""},"",null,"",""]
[null,null,{"$f":"IF(ISBLANK(B689),\"\",VLOOKUP(B689,Country!A:B,2))","v":""},null,{"$f":"IF(ISBLANK(D689),\"\",VLOOKUP(D689,Income!A:B,2))","v":""},"",null,"",""]
[null,null,{"$f":"IF(ISBLANK(B690),\"\",VLOOKUP(B690,Country!A:B,2))","v":""},null,{"$f":"IF(ISBLANK(D690),\"\",VLOOKUP(D690,Income!A:B,2))","v":""},"",null,"",""]
[null,null,{"$f":"IF(ISBLANK(B691),\"\",VLOOKUP(B691,Country!A:B,2))","v":""},null,{"$f":"IF(ISBLANK(D691),\"\",VLOOKUP(D691,Income!A:B,2))","v":""},"",null,"",""]
[null,null,{"$f":"IF(ISBLANK(B692),\"\",VLOOKUP(B692,Country!A:B,2))","v":""},null,{"$f":"IF(ISBLANK(D692),\"\",VLOOKUP(D692,Income!A:B,2))","v":""},"",null,"",""]
[null,null,{"$f":"IF(ISBLANK(B693),\"\",VLOOKUP(B693,Country!A:B,2))","v":""},null,{"$f":"IF(ISBLANK(D693),\"\",VLOOKUP(D693,Income!A:B,2))","v":""},"",null,"",""]
[null,null,{"$f":"IF(ISBLANK(B694),\"\",VLOOKUP(B694,Country!A:B,2))","v":""},null,{"$f":"IF(ISBLANK(D694),\"\",VLOOKUP(D694,Income!A:B,2))","v":""},"",null,"",""]
[null,null,{"$f":"IF(ISBLANK(B695),\"\",VLOOKUP(B695,Country!A:B,2))","v":""},null,{"$f":"IF(ISBLANK(D695),\"\",VLOOKUP(D695,Income!A:B,2))","v":""},"",null,"",""]
[null,null,{"$f":"IF(ISBLANK(B696),\"\",VLOOKUP(B696,Country!A:B,2))","v":""},null,{"$f":"IF(ISBLANK(D696),\"\",VLOOKUP(D696,Income!A:B,2))","v":""},"",null,"",""]
[null,null,{"$f":"IF(ISBLANK(B697),\"\",VLOOKUP(B697,Country!A:B,2))","v":""},null,{"$f":"IF(ISBLANK(D697),\"\",VLOOKUP(D697,Income!A:B,2))","v":""},"",null,"",""]
[null,null,{"$f":"IF(ISBLANK(B698),\"\",VLOOKUP(B698,Country!A:B,2))","v":""},null,{"$f":"IF(ISBLANK(D698),\"\",VLOOKUP(D698,Income!A:B,2))","v":""},"",null,"",""]
[null,null,{"$f":"IF(ISBLANK(B699),\"\",VLOOKUP(B699,Country!A:B,2))","v":""},null,{"$f":"IF(ISBLANK(D699),\"\",VLOOKUP(D699,Income!A:B,2))","v":""},"",null,"",""]
[null,null,{"$f":"IF(ISBLANK(B700),\"\",VLOOKUP(B700,Country!A:B,2))","v":""},null,{"$f":"IF(ISBLANK(D700),\"\",VLOOKUP(D700,Income!A:B,2))","v":""},"",null,"",""]
[null,null,{"$f":"IF(ISBLANK(B701),\"\",VLOOKUP(B701,Country!A:B,2))","v":""},null,{"$f":"IF(ISBLANK(D701),\"\",VLOOKUP(D701,Income!A:B,2))","v":""},"",null,"",""]
[null,null,{"$f":"IF(ISBLANK(B702),\"\",VLOOKUP(B702,Country!A:B,2))","v":""},null,{"$f":"IF(ISBLANK(D702),\"\",VLOOKUP(D702,Income!A:B,2))","v":""},"",null,"",""]
[null,null,{"$f":"IF(ISBLANK(B703),\"\",VLOOKUP(B703,Country!A:B,2))","v":""},null,{"$f":"IF(ISBLANK(D703),\"\",VLOOKUP(D703,Income!A:B,2))","v":""},"",null,"",""]
[null,null,{"$f":"IF(ISBLANK(B704),\"\",VLOOKUP(B704,Country!A:B,2))","v":""},null,{"$f":"IF(ISBLANK(D704),\"\",VLOOKUP(D704,Income!A:B,2))","v":""},"",null,"",""]
[null,null,{"$f":"IF(ISBLANK(B705),\"\",VLOOKUP(B705,Country!A:B,2))","v":""},null,{"$f":"IF(ISBLANK(D705),\"\",VLOOKUP(D705,Income!A:B,2))","v":""},"",null,"",""]
[null,null,{"$f":"IF(ISBLANK(B706),\"\",VLOOKUP(B706,Country!A:B,2))","v":""},null,{"$f":"IF(ISBLANK(D706),\"\",VLOOKUP(D706,Income!A:B,2))","v":""},"",null,"",""]
[null,null,{"$f":"IF(ISBLANK(B707),\"\",VLOOKUP(B707,Country!A:B,2))","v":""},null,{"$f":"IF(ISBLANK(D707),\"\",VLOOKUP(D707,Income!A:B,2))","v":""},"",null,"",""]
[null,null,{"$f":"IF(ISBLANK(B708),\"\",VLOOKUP(B708,Country!A:B,2))","v":""},null,{"$f":"IF(ISBLANK(D708),\"\",VLOOKUP(D708,Income!A:B,2))","v":""},"",null,"",""]
[null,null,{"$f":"IF(ISBLANK(B709),\"\",VLOOKUP(B709,Country!A:B,2))","v":""},null,{"$f":"IF(ISBLANK(D709),\"\",VLOOKUP(D709,Income!A:B,2))","v":""},"",null,{"$f":"IF(F709=\"\",\"\",ROUND(G709*F709,2))","v":""},""]
[null,null,{"$f":"IF(ISBLANK(B710),\"\",VLOOKUP(B710,Country!A:B,2))","v":""},null,{"$f":"IF(ISBLANK(D710),\"\",VLOOKUP(D710,Income!A:B,2))","v":""},"",null,"",""]
[null,null,{"$f":"IF(ISBLANK(B711),\"\",VLOOKUP(B711,Country!A:B,2))","v":""},null,{"$f":"IF(ISBLANK(D711),\"\",VLOOKUP(D711,Income!A:B,2))","v":""},"",null,"",""]
[null,null,{"$f":"IF(ISBLANK(B712),\"\",VLOOKUP(B712,Country!A:B,2))","v":""},null,{"$f":"IF(ISBLANK(D712),\"\",VLOOKUP(D712,Income!A:B,2))","v":""},"",null,"",""]
[null,null,{"$f":"IF(ISBLANK(B713),\"\",VLOOKUP(B713,Country!A:B,2))","v":""},null,{"$f":"IF(ISBLANK(D713),\"\",VLOOKUP(D713,Income!A:B,2))","v":""},"",null,"",""]
[null,null,{"$f":"IF(ISBLANK(B714),\"\",VLOOKUP(B714,Country!A:B,2))","v":""},null,{"$f":"IF(ISBLANK(D714),\"\",VLOOKUP(D714,Income!A:B,2))","v":""},"",null,"",""]
[null,null,{"$f":"IF(ISBLANK(B715),\"\",VLOOKUP(B715,Country!A:B,2))","v":""},null,{"$f":"IF(ISBLANK(D715),\"\",VLOOKUP(D715,Income!A:B,2))","v":""},"",null,"",""]
[null,null,{"$f":"IF(ISBLANK(B716),\"\",VLOOKUP(B716,Country!A:B,2))","v":""},null,{"$f":"IF(ISBLANK(D716),\"\",VLOOKUP(D716,Income!A:B,2))","v":""},"",null,"",{"$f":"IF(H716=\"\",\"\",G716-H716)","v":""}]
[null,null,{"$f":"IF(ISBLANK(B717),\"\",VLOOKUP(B717,Country!A:B,2))","v":""},null,{"$f":"IF(ISBLANK(D717),\"\",VLOOKUP(D717,Income!A:B,2))","v":""},"",null,"",""]
[null,null,{"$f":"IF(ISBLANK(B718),\"\",VLOOKUP(B718,Country!A:B,2))","v":""},null,{"$f":"IF(ISBLANK(D718),\"\",VLOOKUP(D718,Income!A:B,2))","v":""},"",null,"",""]
[null,null,{"$f":"IF(ISBLANK(B719),\"\",VLOOKUP(B719,Country!A:B,2))","v":""},null,{"$f":"IF(ISBLANK(D719),\"\",VLOOKUP(D719,Income!A:B,2))","v":""},"",null,"",""]
[null,null,{"$f":"IF(ISBLANK(B720),\"\",VLOOKUP(B720,Country!A:B,2))","v":""},null,{"$f":"IF(ISBLANK(D720),\"\",VLOOKUP(D720,Income!A:B,2))","v":""},"",null,"",""]
[null,null,{"$f":"IF(ISBLANK(B721),\"\",VLOOKUP(B721,Country!A:B,2))","v":""},null,{"$f":"IF(ISBLANK(D721),\"\",VLOOKUP(D721,Income!A:B,2))","v":""},"",null,"",""]
[null,null,{"$f":"IF(ISBLANK(B722),\"\",VLOOKUP(B722,Country!A:B,2))","v":""},null,{"$f":"IF(ISBLANK(D722),\"\",VLOOKUP(D722,Income!A:B,2))","v":""},"",null,"",""]
[null,null,{"$f":"IF(ISBLANK(B723),\"\",VLOOKUP(B723,Country!A:B,2))","v":""},null,{"$f":"IF(ISBLANK(D723),\"\",VLOOKUP(D723,Income!A:B,2))","v":""},"",null,"",""]
[null,null,{"$f":"IF(ISBLANK(B724),\"\",VLOOKUP(B724,Country!A:B,2))","v":""},null,{"$f":"IF(ISBLANK(D724),\"\",VLOOKUP(D724,Income!A:B,2))","v":""},"",null,"",""]
[null,null,{"$f":"IF(ISBLANK(B725),\"\",VLOOKUP(B725,Country!A:B,2))","v":""},null,{"$f":"IF(ISBLANK(D725),\"\",VLOOKUP(D725,Income!A:B,2))","v":""},"",null,"",""]
[null,null,{"$f":"IF(ISBLANK(B726),\"\",VLOOKUP(B726,Country!A:B,2))","v":""},null,{"$f":"IF(ISBLANK(D726),\"\",VLOOKUP(D726,Income!A:B,2))","v":""},"",null,"",""]
[null,null,{"$f":"IF(ISBLANK(B727),\"\",VLOOKUP(B727,Country!A:B,2))","v":""},null,{"$f":"IF(ISBLANK(D727),\"\",VLOOKUP(D727,Income!A:B,2))","v":""},"",null,"",""]
[null,null,{"$f":"IF(ISBLANK(B728),\"\",VLOOKUP(B728,Country!A:B,2))","v":""},null,{"$f":"IF(ISBLANK(D728),\"\",VLOOKUP(D728,Income!A:B,2))","v":""},"",null,"",""]
[null,null,{"$f":"IF(ISBLANK(B729),\"\",VLOOKUP(B729,Country!A:B,2))","v":""},null,{"$f":"IF(ISBLANK(D729),\"\",VLOOKUP(D729,Income!A:B,2))","v":""},"",null,"",""]
[null,null,{"$f":"IF(ISBLANK(B730),\"\",VLOOKUP(B730,Country!A:B,2))","v":""},null,{"$f":"IF(ISBLANK(D730),\"\",VLOOKUP(D730,Income!A:B,2))","v":""},"",null,"",""]
[null,null,{"$f":"IF(ISBLANK(B731),\"\",VLOOKUP(B731,Country!A:B,2))","v":""},null,{"$f":"IF(ISBLANK(D731),\"\",VLOOKUP(D731,Income!A:B,2))","v":""},"",null,"",""]
[null,null,{"$f":"IF(ISBLANK(B732),\"\",VLOOKUP(B732,Country!A:B,2))","v":""},null,{"$f":"IF(ISBLANK(D732),\"\",VLOOKUP(D732,Income!A:B,2))","v":""},"",null,"",""]
[null,null,{"$f":"IF(ISBLANK(B733),\"\",VLOOKUP(B733,Country!A:B,2))","v":""},null,{"$f":"IF(ISBLANK(D733),\"\",VLOOKUP(D733,Income!A:B,2))","v":""},"",null,"",""]
[null,null,{"$f":"IF(ISBLANK(B734),\"\",VLOOKUP(B734,Country!A:B,2))","v":""},null,{"$f":"IF(ISBLANK(D734),\"\",VLOOKUP(D734,Income!A:B,2))","v":""},"",null,"",""]
[null,null,{"$f":"IF(ISBLANK(B735),\"\",VLOOKUP(B735,Country!A:B,2))","v":""},null,{"$f":"IF(ISBLANK(D735),\"\",VLOOKUP(D735,Income!A:B,2))","v":""},"",null,"",""]
[null,null,{"$f":"IF(ISBLANK(B736),\"\",VLOOKUP(B736,Country!A:B,2))","v":""},null,{"$f":"IF(ISBLANK(D736),\"\",VLOOKUP(D736,Income!A:B,2))","v":""},"",null,"",""]
[null,null,{"$f":"IF(ISBLANK(B737),\"\",VLOOKUP(B737,Country!A:B,2))","v":""},null,{"$f":"IF(ISBLANK(D737),\"\",VLOOKUP(D737,Income!A:B,2))","v":""},"",null,"",""]
[null,null,{"$f":"IF(ISBLANK(B738),\"\",VLOOKUP(B738,Country!A:B,2))","v":""},null,{"$f":"IF(ISBLANK(D738),\"\",VLOOKUP(D738,Income!A:B,2))","v":""},"",null,"",""]
[null,null,{"$f":"IF(ISBLANK(B739),\"\",VLOOKUP(B739,Country!A:B,2))","v":""},null,{"$f":"IF(ISBLANK(D739),\"\",VLOOKUP(D739,Income!A:B,2))","v":""},"",null,"",""]
[null,null,{"$f":"IF(ISBLANK(B740),\"\",VLOOKUP(B740,Country!A:B,2))","v":""},null,{"$f":"IF(ISBLANK(D740),\"\",VLOOKUP(D740,Income!A:B,2))","v":""},"",null,"",""]
[null,null,{"$f":"IF(ISBLANK(B741),\"\",VLOOKUP(B741,Country!A:B,2))","v":""},null,{"$f":"IF(ISBLANK(D741),\"\",VLOOKUP(D741,Income!A:B,2))","v":""},"",null,"",""]
[null,null,{"$f":"IF(ISBLANK(B742),\"\",VLOOKUP(B742,Country!A:B,2))","v":""},null,{"$f":"IF(ISBLANK(D742),\"\",VLOOKUP(D742,Income!A:B,2))","v":""},"",null,"",""]
[null,null,{"$f":"IF(ISBLANK(B743),\"\",VLOOKUP(B743,Country!A:B,2))","v":""},null,{"$f":"IF(ISBLANK(D743),\"\",VLOOKUP(D743,Income!A:B,2))","v":""},"",null,"",""]
[null,null,{"$f":"IF(ISBLANK(B744),\"\",VLOOKUP(B744,Country!A:B,2))","v":""},null,{"$f":"IF(ISBLANK(D744),\"\",VLOOKUP(D744,Income!A:B,2))","v":""},"",null,"",""]
[null,null,{"$f":"IF(ISBLANK(B745),\"\",VLOOKUP(B745,Country!A:B,2))","v":""},null,{"$f":"IF(ISBLANK(D745),\"\",VLOOKUP(D745,Income!A:B,2))","v":""},"",null,"",""]
[null,null,{"$f":"IF(ISBLANK(B746),\"\",VLOOKUP(B746,Country!A:B,2))","v":""},null,{"$f":"IF(ISBLANK(D746),\"\",VLOOKUP(D746,Income!A:B,2))","v":""},"",null,"",""]
[null,null,{"$f":"IF(ISBLANK(B747),\"\",VLOOKUP(B747,Country!A:B,2))","v":""},null,{"$f":"IF(ISBLANK(D747),\"\",VLOOKUP(D747,Income!A:B,2))","v":""},"",null,"",""]
[null,null,{"$f":"IF(ISBLANK(B748),\"\",VLOOKUP(B748,Country!A:B,2))","v":""},null,{"$f":"IF(ISBLANK(D748),\"\",VLOOKUP(D748,Income!A:B,2))","v":""},"",null,"",""]
[null,null,{"$f":"IF(ISBLANK(B749),\"\",VLOOKUP(B749,Country!A:B,2))","v":""},null,{"$f":"IF(ISBLANK(D749),\"\",VLOOKUP(D749,Income!A:B,2))","v":""},"",null,"",""]
[null,null,{"$f":"IF(ISBLANK(B750),\"\",VLOOKUP(B750,Country!A:B,2))","v":""},null,{"$f":"IF(ISBLANK(D750),\"\",VLOOKUP(D750,Income!A:B,2))","v":""},"",null,"",""]
[null,null,{"$f":"IF(ISBLANK(B751),\"\",VLOOKUP(B751,Country!A:B,2))","v":""},null,{"$f":"IF(ISBLANK(D751),\"\",VLOOKUP(D751,Income!A:B,2))","v":""},{"$f":"IF(OR(C751=\"\",E751=\"\"),\"\",IF(ISNA(INDEX(RateRange,INDEX(RateRange,MATCH(E751,IncomeTypes,0),MATCH(C751,Countries,0)))),INDEX(RateRange,MATCH(E751,IncomeTypes,0),MATCH(\"OTH\",Countries,0)),INDEX(RateRange,MATCH(E751,IncomeTypes,0),MATCH(C751,Countries,0))))","v":""},null,"",""]
[null,null,{"$f":"IF(ISBLANK(B752),\"\",VLOOKUP(B752,Country!A:B,2))","v":""},null,{"$f":"IF(ISBLANK(D752),\"\",VLOOKUP(D752,Income!A:B,2))","v":""},"",null,"",""]
[null,null,{"$f":"IF(ISBLANK(B753),\"\",VLOOKUP(B753,Country!A:B,2))","v":""},null,{"$f":"IF(ISBLANK(D753),\"\",VLOOKUP(D753,Income!A:B,2))","v":""},"",null,"",""]
[null,null,{"$f":"IF(ISBLANK(B754),\"\",VLOOKUP(B754,Country!A:B,2))","v":""},null,{"$f":"IF(ISBLANK(D754),\"\",VLOOKUP(D754,Income!A:B,2))","v":""},"",null,"",""]
[null,null,{"$f":"IF(ISBLANK(B755),\"\",VLOOKUP(B755,Country!A:B,2))","v":""},null,{"$f":"IF(ISBLANK(D755),\"\",VLOOKUP(D755,Income!A:B,2))","v":""},"",null,"",""]
[null,null,{"$f":"IF(ISBLANK(B756),\"\",VLOOKUP(B756,Country!A:B,2))","v":""},null,{"$f":"IF(ISBLANK(D756),\"\",VLOOKUP(D756,Income!A:B,2))","v":""},"",null,"",""]
[null,null,{"$f":"IF(ISBLANK(B757),\"\",VLOOKUP(B757,Country!A:B,2))","v":""},null,{"$f":"IF(ISBLANK(D757),\"\",VLOOKUP(D757,Income!A:B,2))","v":""},"",null,"",""]
[null,null,{"$f":"IF(ISBLANK(B758),\"\",VLOOKUP(B758,Country!A:B,2))","v":""},null,{"$f":"IF(ISBLANK(D758),\"\",VLOOKUP(D758,Income!A:B,2))","v":""},"",null,"",""]
[null,null,{"$f":"IF(ISBLANK(B759),\"\",VLOOKUP(B759,Country!A:B,2))","v":""},null,{"$f":"IF(ISBLANK(D759),\"\",VLOOKUP(D759,Income!A:B,2))","v":""},"",null,"",""]
[null,null,{"$f":"IF(ISBLANK(B760),\"\",VLOOKUP(B760,Country!A:B,2))","v":""},null,{"$f":"IF(ISBLANK(D760),\"\",VLOOKUP(D760,Income!A:B,2))","v":""},"",null,"",""]
[null,null,{"$f":"IF(ISBLANK(B761),\"\",VLOOKUP(B761,Country!A:B,2))","v":""},null,{"$f":"IF(ISBLANK(D761),\"\",VLOOKUP(D761,Income!A:B,2))","v":""},"",null,"",""]
[null,null,{"$f":"IF(ISBLANK(B762),\"\",VLOOKUP(B762,Country!A:B,2))","v":""},null,{"$f":"IF(ISBLANK(D762),\"\",VLOOKUP(D762,Income!A:B,2))","v":""},"",null,"",""]
[null,null,{"$f":"IF(ISBLANK(B763),\"\",VLOOKUP(B763,Country!A:B,2))","v":""},null,{"$f":"IF(ISBLANK(D763),\"\",VLOOKUP(D763,Income!A:B,2))","v":""},"",null,"",""]
[null,null,{"$f":"IF(ISBLANK(B764),\"\",VLOOKUP(B764,Country!A:B,2))","v":""},null,{"$f":"IF(ISBLANK(D764),\"\",VLOOKUP(D764,Income!A:B,2))","v":""},"",null,"",""]
[null,null,{"$f":"IF(ISBLANK(B765),\"\",VLOOKUP(B765,Country!A:B,2))","v":""},null,{"$f":"IF(ISBLANK(D765),\"\",VLOOKUP(D765,Income!A:B,2))","v":""},"",null,"",""]
[null,null,{"$f":"IF(ISBLANK(B766),\"\",VLOOKUP(B766,Country!A:B,2))","v":""},null,{"$f":"IF(ISBLANK(D766),\"\",VLOOKUP(D766,Income!A:B,2))","v":""},"",null,"",""]
[null,null,{"$f":"IF(ISBLANK(B767),\"\",VLOOKUP(B767,Country!A:B,2))","v":""},null,{"$f":"IF(ISBLANK(D767),\"\",VLOOKUP(D767,Income!A:B,2))","v":""},"",null,"",""]
[null,null,{"$f":"IF(ISBLANK(B768),\"\",VLOOKUP(B768,Country!A:B,2))","v":""},null,{"$f":"IF(ISBLANK(D768),\"\",VLOOKUP(D768,Income!A:B,2))","v":""},"",null,"",""]
[null,null,{"$f":"IF(ISBLANK(B769),\"\",VLOOKUP(B769,Country!A:B,2))","v":""},null,{"$f":"IF(ISBLANK(D769),\"\",VLOOKUP(D769,Income!A:B,2))","v":""},"",null,"",""]
[null,null,{"$f":"IF(ISBLANK(B770),\"\",VLOOKUP(B770,Country!A:B,2))","v":""},null,{"$f":"IF(ISBLANK(D770),\"\",VLOOKUP(D770,Income!A:B,2))","v":""},"",null,"",""]
[null,null,{"$f":"IF(ISBLANK(B771),\"\",VLOOKUP(B771,Country!A:B,2))","v":""},null,{"$f":"IF(ISBLANK(D771),\"\",VLOOKUP(D771,Income!A:B,2))","v":""},"",null,"",""]
[null,null,{"$f":"IF(ISBLANK(B772),\"\",VLOOKUP(B772,Country!A:B,2))","v":""},null,{"$f":"IF(ISBLANK(D772),\"\",VLOOKUP(D772,Income!A:B,2))","v":""},"",null,"",""]
[null,null,{"$f":"IF(ISBLANK(B773),\"\",VLOOKUP(B773,Country!A:B,2))","v":""},null,{"$f":"IF(ISBLANK(D773),\"\",VLOOKUP(D773,Income!A:B,2))","v":""},"",null,{"$f":"IF(F773=\"\",\"\",ROUND(G773*F773,2))","v":""},""]
[null,null,{"$f":"IF(ISBLANK(B774),\"\",VLOOKUP(B774,Country!A:B,2))","v":""},null,{"$f":"IF(ISBLANK(D774),\"\",VLOOKUP(D774,Income!A:B,2))","v":""},"",null,"",""]
[null,null,{"$f":"IF(ISBLANK(B775),\"\",VLOOKUP(B775,Country!A:B,2))","v":""},null,{"$f":"IF(ISBLANK(D775),\"\",VLOOKUP(D775,Income!A:B,2))","v":""},"",null,"",""]
[null,null,{"$f":"IF(ISBLANK(B776),\"\",VLOOKUP(B776,Country!A:B,2))","v":""},null,{"$f":"IF(ISBLANK(D776),\"\",VLOOKUP(D776,Income!A:B,2))","v":""},"",null,"",""]
[null,null,{"$f":"IF(ISBLANK(B777),\"\",VLOOKUP(B777,Country!A:B,2))","v":""},null,{"$f":"IF(ISBLANK(D777),\"\",VLOOKUP(D777,Income!A:B,2))","v":""},"",null,"",""]
[null,null,{"$f":"IF(ISBLANK(B778),\"\",VLOOKUP(B778,Country!A:B,2))","v":""},null,{"$f":"IF(ISBLANK(D778),\"\",VLOOKUP(D778,Income!A:B,2))","v":""},"",null,"",""]
[null,null,{"$f":"IF(ISBLANK(B779),\"\",VLOOKUP(B779,Country!A:B,2))","v":""},null,{"$f":"IF(ISBLANK(D779),\"\",VLOOKUP(D779,Income!A:B,2))","v":""},"",null,"",""]
[null,null,{"$f":"IF(ISBLANK(B780),\"\",VLOOKUP(B780,Country!A:B,2))","v":""},null,{"$f":"IF(ISBLANK(D780),\"\",VLOOKUP(D780,Income!A:B,2))","v":""},"",null,"",{"$f":"IF(H780=\"\",\"\",G780-H780)","v":""}]
[null,null,{"$f":"IF(ISBLANK(B781),\"\",VLOOKUP(B781,Country!A:B,2))","v":""},null,{"$f":"IF(ISBLANK(D781),\"\",VLOOKUP(D781,Income!A:B,2))","v":""},"",null,"",""]
[null,null,{"$f":"IF(ISBLANK(B782),\"\",VLOOKUP(B782,Country!A:B,2))","v":""},null,{"$f":"IF(ISBLANK(D782),\"\",VLOOKUP(D782,Income!A:B,2))","v":""},"",null,"",""]
[null,null,{"$f":"IF(ISBLANK(B783),\"\",VLOOKUP(B783,Country!A:B,2))","v":""},null,{"$f":"IF(ISBLANK(D783),\"\",VLOOKUP(D783,Income!A:B,2))","v":""},"",null,"",""]
[null,null,{"$f":"IF(ISBLANK(B784),\"\",VLOOKUP(B784,Country!A:B,2))","v":""},null,{"$f":"IF(ISBLANK(D784),\"\",VLOOKUP(D784,Income!A:B,2))","v":""},"",null,"",""]
[null,null,{"$f":"IF(ISBLANK(B785),\"\",VLOOKUP(B785,Country!A:B,2))","v":""},null,{"$f":"IF(ISBLANK(D785),\"\",VLOOKUP(D785,Income!A:B,2))","v":""},"",null,"",""]
[null,null,{"$f":"IF(ISBLANK(B786),\"\",VLOOKUP(B786,Country!A:B,2))","v":""},null,{"$f":"IF(ISBLANK(D786),\"\",VLOOKUP(D786,Income!A:B,2))","v":""},"",null,"",""]
[null,null,{"$f":"IF(ISBLANK(B787),\"\",VLOOKUP(B787,Country!A:B,2))","v":""},null,{"$f":"IF(ISBLANK(D787),\"\",VLOOKUP(D787,Income!A:B,2))","v":""},"",null,"",""]
[null,null,{"$f":"IF(ISBLANK(B788),\"\",VLOOKUP(B788,Country!A:B,2))","v":""},null,{"$f":"IF(ISBLANK(D788),\"\",VLOOKUP(D788,Income!A:B,2))","v":""},"",null,"",""]
[null,null,{"$f":"IF(ISBLANK(B789),\"\",VLOOKUP(B789,Country!A:B,2))","v":""},null,{"$f":"IF(ISBLANK(D789),\"\",VLOOKUP(D789,Income!A:B,2))","v":""},"",null,"",""]
[null,null,{"$f":"IF(ISBLANK(B790),\"\",VLOOKUP(B790,Country!A:B,2))","v":""},null,{"$f":"IF(ISBLANK(D790),\"\",VLOOKUP(D790,Income!A:B,2))","v":""},"",null,"",""]
[null,null,{"$f":"IF(ISBLANK(B791),\"\",VLOOKUP(B791,Country!A:B,2))","v":""},null,{"$f":"IF(ISBLANK(D791),\"\",VLOOKUP(D791,Income!A:B,2))","v":""},"",null,"",""]
[null,null,{"$f":"IF(ISBLANK(B792),\"\",VLOOKUP(B792,Country!A:B,2))","v":""},null,{"$f":"IF(ISBLANK(D792),\"\",VLOOKUP(D792,Income!A:B,2))","v":""},"",null,"",""]
[null,null,{"$f":"IF(ISBLANK(B793),\"\",VLOOKUP(B793,Country!A:B,2))","v":""},null,{"$f":"IF(ISBLANK(D793),\"\",VLOOKUP(D793,Income!A:B,2))","v":""},"",null,"",""]
[null,null,{"$f":"IF(ISBLANK(B794),\"\",VLOOKUP(B794,Country!A:B,2))","v":""},null,{"$f":"IF(ISBLANK(D794),\"\",VLOOKUP(D794,Income!A:B,2))","v":""},"",null,"",""]
[null,null,{"$f":"IF(ISBLANK(B795),\"\",VLOOKUP(B795,Country!A:B,2))","v":""},null,{"$f":"IF(ISBLANK(D795),\"\",VLOOKUP(D795,Income!A:B,2))","v":""},"",null,"",""]
[null,null,{"$f":"IF(ISBLANK(B796),\"\",VLOOKUP(B796,Country!A:B,2))","v":""},null,{"$f":"IF(ISBLANK(D796),\"\",VLOOKUP(D796,Income!A:B,2))","v":""},"",null,"",""]
[null,null,{"$f":"IF(ISBLANK(B797),\"\",VLOOKUP(B797,Country!A:B,2))","v":""},null,{"$f":"IF(ISBLANK(D797),\"\",VLOOKUP(D797,Income!A:B,2))","v":""},"",null,"",""]
[null,null,{"$f":"IF(ISBLANK(B798),\"\",VLOOKUP(B798,Country!A:B,2))","v":""},null,{"$f":"IF(ISBLANK(D798),\"\",VLOOKUP(D798,Income!A:B,2))","v":""},"",null,"",""]
[null,null,{"$f":"IF(ISBLANK(B799),\"\",VLOOKUP(B799,Country!A:B,2))","v":""},null,{"$f":"IF(ISBLANK(D799),\"\",VLOOKUP(D799,Income!A:B,2))","v":""},"",null,"",""]
[null,null,{"$f":"IF(ISBLANK(B800),\"\",VLOOKUP(B800,Country!A:B,2))","v":""},null,{"$f":"IF(ISBLANK(D800),\"\",VLOOKUP(D800,Income!A:B,2))","v":""},"",null,"",""]
[null,null,{"$f":"IF(ISBLANK(B801),\"\",VLOOKUP(B801,Country!A:B,2))","v":""},null,{"$f":"IF(ISBLANK(D801),\"\",VLOOKUP(D801,Income!A:B,2))","v":""},"",null,"",""]
[null,null,{"$f":"IF(ISBLANK(B802),\"\",VLOOKUP(B802,Country!A:B,2))","v":""},null,{"$f":"IF(ISBLANK(D802),\"\",VLOOKUP(D802,Income!A:B,2))","v":""},"",null,"",""]
[null,null,{"$f":"IF(ISBLANK(B803),\"\",VLOOKUP(B803,Country!A:B,2))","v":""},null,{"$f":"IF(ISBLANK(D803),\"\",VLOOKUP(D803,Income!A:B,2))","v":""},"",null,"",""]
[null,null,{"$f":"IF(ISBLANK(B804),\"\",VLOOKUP(B804,Country!A:B,2))","v":""},null,{"$f":"IF(ISBLANK(D804),\"\",VLOOKUP(D804,Income!A:B,2))","v":""},"",null,"",""]
[null,null,{"$f":"IF(ISBLANK(B805),\"\",VLOOKUP(B805,Country!A:B,2))","v":""},null,{"$f":"IF(ISBLANK(D805),\"\",VLOOKUP(D805,Income!A:B,2))","v":""},"",null,"",""]
[null,null,{"$f":"IF(ISBLANK(B806),\"\",VLOOKUP(B806,Country!A:B,2))","v":""},null,{"$f":"IF(ISBLANK(D806),\"\",VLOOKUP(D806,Income!A:B,2))","v":""},"",null,"",""]
[null,null,{"$f":"IF(ISBLANK(B807),\"\",VLOOKUP(B807,Country!A:B,2))","v":""},null,{"$f":"IF(ISBLANK(D807),\"\",VLOOKUP(D807,Income!A:B,2))","v":""},"",null,"",""]
[null,null,{"$f":"IF(ISBLANK(B808),\"\",VLOOKUP(B808,Country!A:B,2))","v":""},null,{"$f":"IF(ISBLANK(D808),\"\",VLOOKUP(D808,Income!A:B,2))","v":""},"",null,"",""]
[null,null,{"$f":"IF(ISBLANK(B809),\"\",VLOOKUP(B809,Country!A:B,2))","v":""},null,{"$f":"IF(ISBLANK(D809),\"\",VLOOKUP(D809,Income!A:B,2))","v":""},"",null,"",""]
[null,null,{"$f":"IF(ISBLANK(B810),\"\",VLOOKUP(B810,Country!A:B,2))","v":""},null,{"$f":"IF(ISBLANK(D810),\"\",VLOOKUP(D810,Income!A:B,2))","v":""},"",null,"",""]
[null,null,{"$f":"IF(ISBLANK(B811),\"\",VLOOKUP(B811,Country!A:B,2))","v":""},null,{"$f":"IF(ISBLANK(D811),\"\",VLOOKUP(D811,Income!A:B,2))","v":""},"",null,"",""]
[null,null,{"$f":"IF(ISBLANK(B812),\"\",VLOOKUP(B812,Country!A:B,2))","v":""},null,{"$f":"IF(ISBLANK(D812),\"\",VLOOKUP(D812,Income!A:B,2))","v":""},"",null,"",""]
[null,null,{"$f":"IF(ISBLANK(B813),\"\",VLOOKUP(B813,Country!A:B,2))","v":""},null,{"$f":"IF(ISBLANK(D813),\"\",VLOOKUP(D813,Income!A:B,2))","v":""},"",null,"",""]
[null,null,{"$f":"IF(ISBLANK(B814),\"\",VLOOKUP(B814,Country!A:B,2))","v":""},null,{"$f":"IF(ISBLANK(D814),\"\",VLOOKUP(D814,Income!A:B,2))","v":""},"",null,"",""]
[null,null,{"$f":"IF(ISBLANK(B815),\"\",VLOOKUP(B815,Country!A:B,2))","v":""},null,{"$f":"IF(ISBLANK(D815),\"\",VLOOKUP(D815,Income!A:B,2))","v":""},{"$f":"IF(OR(C815=\"\",E815=\"\"),\"\",IF(ISNA(INDEX(RateRange,INDEX(RateRange,MATCH(E815,IncomeTypes,0),MATCH(C815,Countries,0)))),INDEX(RateRange,MATCH(E815,IncomeTypes,0),MATCH(\"OTH\",Countries,0)),INDEX(RateRange,MATCH(E815,IncomeTypes,0),MATCH(C815,Countries,0))))","v":""},null,"",""]
[null,null,{"$f":"IF(ISBLANK(B816),\"\",VLOOKUP(B816,Country!A:B,2))","v":""},null,{"$f":"IF(ISBLANK(D816),\"\",VLOOKUP(D816,Income!A:B,2))","v":""},"",null,"",""]
[null,null,{"$f":"IF(ISBLANK(B817),\"\",VLOOKUP(B817,Country!A:B,2))","v":""},null,{"$f":"IF(ISBLANK(D817),\"\",VLOOKUP(D817,Income!A:B,2))","v":""},"",null,"",""]
[null,null,{"$f":"IF(ISBLANK(B818),\"\",VLOOKUP(B818,Country!A:B,2))","v":""},null,{"$f":"IF(ISBLANK(D818),\"\",VLOOKUP(D818,Income!A:B,2))","v":""},"",null,"",""]
[null,null,{"$f":"IF(ISBLANK(B819),\"\",VLOOKUP(B819,Country!A:B,2))","v":""},null,{"$f":"IF(ISBLANK(D819),\"\",VLOOKUP(D819,Income!A:B,2))","v":""},"",null,"",""]
[null,null,{"$f":"IF(ISBLANK(B820),\"\",VLOOKUP(B820,Country!A:B,2))","v":""},null,{"$f":"IF(ISBLANK(D820),\"\",VLOOKUP(D820,Income!A:B,2))","v":""},"",null,"",""]
[null,null,{"$f":"IF(ISBLANK(B821),\"\",VLOOKUP(B821,Country!A:B,2))","v":""},null,{"$f":"IF(ISBLANK(D821),\"\",VLOOKUP(D821,Income!A:B,2))","v":""},"",null,"",""]
[null,null,{"$f":"IF(ISBLANK(B822),\"\",VLOOKUP(B822,Country!A:B,2))","v":""},null,{"$f":"IF(ISBLANK(D822),\"\",VLOOKUP(D822,Income!A:B,2))","v":""},"",null,"",""]
[null,null,{"$f":"IF(ISBLANK(B823),\"\",VLOOKUP(B823,Country!A:B,2))","v":""},null,{"$f":"IF(ISBLANK(D823),\"\",VLOOKUP(D823,Income!A:B,2))","v":""},"",null,"",""]
[null,null,{"$f":"IF(ISBLANK(B824),\"\",VLOOKUP(B824,Country!A:B,2))","v":""},null,{"$f":"IF(ISBLANK(D824),\"\",VLOOKUP(D824,Income!A:B,2))","v":""},"",null,"",""]
[null,null,{"$f":"IF(ISBLANK(B825),\"\",VLOOKUP(B825,Country!A:B,2))","v":""},null,{"$f":"IF(ISBLANK(D825),\"\",VLOOKUP(D825,Income!A:B,2))","v":""},"",null,"",""]
[null,null,{"$f":"IF(ISBLANK(B826),\"\",VLOOKUP(B826,Country!A:B,2))","v":""},null,{"$f":"IF(ISBLANK(D826),\"\",VLOOKUP(D826,Income!A:B,2))","v":""},"",null,"",""]
[null,null,{"$f":"IF(ISBLANK(B827),\"\",VLOOKUP(B827,Country!A:B,2))","v":""},null,{"$f":"IF(ISBLANK(D827),\"\",VLOOKUP(D827,Income!A:B,2))","v":""},"",null,"",""]
[null,null,{"$f":"IF(ISBLANK(B828),\"\",VLOOKUP(B828,Country!A:B,2))","v":""},null,{"$f":"IF(ISBLANK(D828),\"\",VLOOKUP(D828,Income!A:B,2))","v":""},"",null,"",""]
[null,null,{"$f":"IF(ISBLANK(B829),\"\",VLOOKUP(B829,Country!A:B,2))","v":""},null,{"$f":"IF(ISBLANK(D829),\"\",VLOOKUP(D829,Income!A:B,2))","v":""},"",null,"",""]
[null,null,{"$f":"IF(ISBLANK(B830),\"\",VLOOKUP(B830,Country!A:B,2))","v":""},null,{"$f":"IF(ISBLANK(D830),\"\",VLOOKUP(D830,Income!A:B,2))","v":""},"",null,"",""]
[null,null,{"$f":"IF(ISBLANK(B831),\"\",VLOOKUP(B831,Country!A:B,2))","v":""},null,{"$f":"IF(ISBLANK(D831),\"\",VLOOKUP(D831,Income!A:B,2))","v":""},"",null,"",""]
[null,null,{"$f":"IF(ISBLANK(B832),\"\",VLOOKUP(B832,Country!A:B,2))","v":""},null,{"$f":"IF(ISBLANK(D832),\"\",VLOOKUP(D832,Income!A:B,2))","v":""},"",null,"",""]
[null,null,{"$f":"IF(ISBLANK(B833),\"\",VLOOKUP(B833,Country!A:B,2))","v":""},null,{"$f":"IF(ISBLANK(D833),\"\",VLOOKUP(D833,Income!A:B,2))","v":""},"",null,"",""]
[null,null,{"$f":"IF(ISBLANK(B834),\"\",VLOOKUP(B834,Country!A:B,2))","v":""},null,{"$f":"IF(ISBLANK(D834),\"\",VLOOKUP(D834,Income!A:B,2))","v":""},"",null,"",""]
[null,null,{"$f":"IF(ISBLANK(B835),\"\",VLOOKUP(B835,Country!A:B,2))","v":""},null,{"$f":"IF(ISBLANK(D835),\"\",VLOOKUP(D835,Income!A:B,2))","v":""},"",null,"",""]
[null,null,{"$f":"IF(ISBLANK(B836),\"\",VLOOKUP(B836,Country!A:B,2))","v":""},null,{"$f":"IF(ISBLANK(D836),\"\",VLOOKUP(D836,Income!A:B,2))","v":""},"",null,"",""]
[null,null,{"$f":"IF(ISBLANK(B837),\"\",VLOOKUP(B837,Country!A:B,2))","v":""},null,{"$f":"IF(ISBLANK(D837),\"\",VLOOKUP(D837,Income!A:B,2))","v":""},"",null,{"$f":"IF(F837=\"\",\"\",ROUND(G837*F837,2))","v":""},""]
[null,null,{"$f":"IF(ISBLANK(B838),\"\",VLOOKUP(B838,Country!A:B,2))","v":""},null,{"$f":"IF(ISBLANK(D838),\"\",VLOOKUP(D838,Income!A:B,2))","v":""},"",null,"",""]
[null,null,{"$f":"IF(ISBLANK(B839),\"\",VLOOKUP(B839,Country!A:B,2))","v":""},null,{"$f":"IF(ISBLANK(D839),\"\",VLOOKUP(D839,Income!A:B,2))","v":""},"",null,"",""]
[null,null,{"$f":"IF(ISBLANK(B840),\"\",VLOOKUP(B840,Country!A:B,2))","v":""},null,{"$f":"IF(ISBLANK(D840),\"\",VLOOKUP(D840,Income!A:B,2))","v":""},"",null,"",""]
[null,null,{"$f":"IF(ISBLANK(B841),\"\",VLOOKUP(B841,Country!A:B,2))","v":""},null,{"$f":"IF(ISBLANK(D841),\"\",VLOOKUP(D841,Income!A:B,2))","v":""},"",null,"",""]
[null,null,{"$f":"IF(ISBLANK(B842),\"\",VLOOKUP(B842,Country!A:B,2))","v":""},null,{"$f":"IF(ISBLANK(D842),\"\",VLOOKUP(D842,Income!A:B,2))","v":""},"",null,"",""]
[null,null,{"$f":"IF(ISBLANK(B843),\"\",VLOOKUP(B843,Country!A:B,2))","v":""},null,{"$f":"IF(ISBLANK(D843),\"\",VLOOKUP(D843,Income!A:B,2))","v":""},"",null,"",""]
[null,null,{"$f":"IF(ISBLANK(B844),\"\",VLOOKUP(B844,Country!A:B,2))","v":""},null,{"$f":"IF(ISBLANK(D844),\"\",VLOOKUP(D844,Income!A:B,2))","v":""},"",null,"",{"$f":"IF(H844=\"\",\"\",G844-H844)","v":""}]
[null,null,{"$f":"IF(ISBLANK(B845),\"\",VLOOKUP(B845,Country!A:B,2))","v":""},null,{"$f":"IF(ISBLANK(D845),\"\",VLOOKUP(D845,Income!A:B,2))","v":""},"",null,"",""]
[null,null,{"$f":"IF(ISBLANK(B846),\"\",VLOOKUP(B846,Country!A:B,2))","v":""},null,{"$f":"IF(ISBLANK(D846),\"\",VLOOKUP(D846,Income!A:B,2))","v":""},"",null,"",""]
[null,null,{"$f":"IF(ISBLANK(B847),\"\",VLOOKUP(B847,Country!A:B,2))","v":""},null,{"$f":"IF(ISBLANK(D847),\"\",VLOOKUP(D847,Income!A:B,2))","v":""},"",null,"",""]
[null,null,{"$f":"IF(ISBLANK(B848),\"\",VLOOKUP(B848,Country!A:B,2))","v":""},null,{"$f":"IF(ISBLANK(D848),\"\",VLOOKUP(D848,Income!A:B,2))","v":""},"",null,"",""]
[null,null,{"$f":"IF(ISBLANK(B849),\"\",VLOOKUP(B849,Country!A:B,2))","v":""},null,{"$f":"IF(ISBLANK(D849),\"\",VLOOKUP(D849,Income!A:B,2))","v":""},"",null,"",""]
[null,null,{"$f":"IF(ISBLANK(B850),\"\",VLOOKUP(B850,Country!A:B,2))","v":""},null,{"$f":"IF(ISBLANK(D850),\"\",VLOOKUP(D850,Income!A:B,2))","v":""},"",null,"",""]
[null,null,{"$f":"IF(ISBLANK(B851),\"\",VLOOKUP(B851,Country!A:B,2))","v":""},null,{"$f":"IF(ISBLANK(D851),\"\",VLOOKUP(D851,Income!A:B,2))","v":""},"",null,"",""]
[null,null,{"$f":"IF(ISBLANK(B852),\"\",VLOOKUP(B852,Country!A:B,2))","v":""},null,{"$f":"IF(ISBLANK(D852),\"\",VLOOKUP(D852,Income!A:B,2))","v":""},"",null,"",""]
[null,null,{"$f":"IF(ISBLANK(B853),\"\",VLOOKUP(B853,Country!A:B,2))","v":""},null,{"$f":"IF(ISBLANK(D853),\"\",VLOOKUP(D853,Income!A:B,2))","v":""},"",null,"",""]
[null,null,{"$f":"IF(ISBLANK(B854),\"\",VLOOKUP(B854,Country!A:B,2))","v":""},null,{"$f":"IF(ISBLANK(D854),\"\",VLOOKUP(D854,Income!A:B,2))","v":""},"",null,"",""]
[null,null,{"$f":"IF(ISBLANK(B855),\"\",VLOOKUP(B855,Country!A:B,2))","v":""},null,{"$f":"IF(ISBLANK(D855),\"\",VLOOKUP(D855,Income!A:B,2))","v":""},"",null,"",""]
[null,null,{"$f":"IF(ISBLANK(B856),\"\",VLOOKUP(B856,Country!A:B,2))","v":""},null,{"$f":"IF(ISBLANK(D856),\"\",VLOOKUP(D856,Income!A:B,2))","v":""},"",null,"",""]
[null,null,{"$f":"IF(ISBLANK(B857),\"\",VLOOKUP(B857,Country!A:B,2))","v":""},null,{"$f":"IF(ISBLANK(D857),\"\",VLOOKUP(D857,Income!A:B,2))","v":""},"",null,"",""]
[null,null,{"$f":"IF(ISBLANK(B858),\"\",VLOOKUP(B858,Country!A:B,2))","v":""},null,{"$f":"IF(ISBLANK(D858),\"\",VLOOKUP(D858,Income!A:B,2))","v":""},"",null,"",""]
[null,null,{"$f":"IF(ISBLANK(B859),\"\",VLOOKUP(B859,Country!A:B,2))","v":""},null,{"$f":"IF(ISBLANK(D859),\"\",VLOOKUP(D859,Income!A:B,2))","v":""},"",null,"",""]
[null,null,{"$f":"IF(ISBLANK(B860),\"\",VLOOKUP(B860,Country!A:B,2))","v":""},null,{"$f":"IF(ISBLANK(D860),\"\",VLOOKUP(D860,Income!A:B,2))","v":""},"",null,"",""]
[null,null,{"$f":"IF(ISBLANK(B861),\"\",VLOOKUP(B861,Country!A:B,2))","v":""},null,{"$f":"IF(ISBLANK(D861),\"\",VLOOKUP(D861,Income!A:B,2))","v":""},"",null,"",""]
[null,null,{"$f":"IF(ISBLANK(B862),\"\",VLOOKUP(B862,Country!A:B,2))","v":""},null,{"$f":"IF(ISBLANK(D862),\"\",VLOOKUP(D862,Income!A:B,2))","v":""},"",null,"",""]
[null,null,{"$f":"IF(ISBLANK(B863),\"\",VLOOKUP(B863,Country!A:B,2))","v":""},null,{"$f":"IF(ISBLANK(D863),\"\",VLOOKUP(D863,Income!A:B,2))","v":""},"",null,"",""]
[null,null,{"$f":"IF(ISBLANK(B864),\"\",VLOOKUP(B864,Country!A:B,2))","v":""},null,{"$f":"IF(ISBLANK(D864),\"\",VLOOKUP(D864,Income!A:B,2))","v":""},"",null,"",""]
[null,null,{"$f":"IF(ISBLANK(B865),\"\",VLOOKUP(B865,Country!A:B,2))","v":""},null,{"$f":"IF(ISBLANK(D865),\"\",VLOOKUP(D865,Income!A:B,2))","v":""},"",null,"",""]
[null,null,{"$f":"IF(ISBLANK(B866),\"\",VLOOKUP(B866,Country!A:B,2))","v":""},null,{"$f":"IF(ISBLANK(D866),\"\",VLOOKUP(D866,Income!A:B,2))","v":""},"",null,"",""]
[null,null,{"$f":"IF(ISBLANK(B867),\"\",VLOOKUP(B867,Country!A:B,2))","v":""},null,{"$f":"IF(ISBLANK(D867),\"\",VLOOKUP(D867,Income!A:B,2))","v":""},"",null,"",""]
[null,null,{"$f":"IF(ISBLANK(B868),\"\",VLOOKUP(B868,Country!A:B,2))","v":""},null,{"$f":"IF(ISBLANK(D868),\"\",VLOOKUP(D868,Income!A:B,2))","v":""},"",null,"",""]
[null,null,{"$f":"IF(ISBLANK(B869),\"\",VLOOKUP(B869,Country!A:B,2))","v":""},null,{"$f":"IF(ISBLANK(D869),\"\",VLOOKUP(D869,Income!A:B,2))","v":""},"",null,"",""]
[null,null,{"$f":"IF(ISBLANK(B870),\"\",VLOOKUP(B870,Country!A:B,2))","v":""},null,{"$f":"IF(ISBLANK(D870),\"\",VLOOKUP(D870,Income!A:B,2))","v":""},"",null,"",""]
[null,null,{"$f":"IF(ISBLANK(B871),\"\",VLOOKUP(B871,Country!A:B,2))","v":""},null,{"$f":"IF(ISBLANK(D871),\"\",VLOOKUP(D871,Income!A:B,2))","v":""},"",null,"",""]
[null,null,{"$f":"IF(ISBLANK(B872),\"\",VLOOKUP(B872,Country!A:B,2))","v":""},null,{"$f":"IF(ISBLANK(D872),\"\",VLOOKUP(D872,Income!A:B,2))","v":""},"",null,"",""]
[null,null,{"$f":"IF(ISBLANK(B873),\"\",VLOOKUP(B873,Country!A:B,2))","v":""},null,{"$f":"IF(ISBLANK(D873),\"\",VLOOKUP(D873,Income!A:B,2))","v":""},"",null,"",""]
[null,null,{"$f":"IF(ISBLANK(B874),\"\",VLOOKUP(B874,Country!A:B,2))","v":""},null,{"$f":"IF(ISBLANK(D874),\"\",VLOOKUP(D874,Income!A:B,2))","v":""},"",null,"",""]
[null,null,{"$f":"IF(ISBLANK(B875),\"\",VLOOKUP(B875,Country!A:B,2))","v":""},null,{"$f":"IF(ISBLANK(D875),\"\",VLOOKUP(D875,Income!A:B,2))","v":""},"",null,"",""]
[null,null,{"$f":"IF(ISBLANK(B876),\"\",VLOOKUP(B876,Country!A:B,2))","v":""},null,{"$f":"IF(ISBLANK(D876),\"\",VLOOKUP(D876,Income!A:B,2))","v":""},"",null,"",""]
[null,null,{"$f":"IF(ISBLANK(B877),\"\",VLOOKUP(B877,Country!A:B,2))","v":""},null,{"$f":"IF(ISBLANK(D877),\"\",VLOOKUP(D877,Income!A:B,2))","v":""},"",null,"",""]
[null,null,{"$f":"IF(ISBLANK(B878),\"\",VLOOKUP(B878,Country!A:B,2))","v":""},null,{"$f":"IF(ISBLANK(D878),\"\",VLOOKUP(D878,Income!A:B,2))","v":""},"",null,"",""]
[null,null,{"$f":"IF(ISBLANK(B879),\"\",VLOOKUP(B879,Country!A:B,2))","v":""},null,{"$f":"IF(ISBLANK(D879),\"\",VLOOKUP(D879,Income!A:B,2))","v":""},{"$f":"IF(OR(C879=\"\",E879=\"\"),\"\",IF(ISNA(INDEX(RateRange,INDEX(RateRange,MATCH(E879,IncomeTypes,0),MATCH(C879,Countries,0)))),INDEX(RateRange,MATCH(E879,IncomeTypes,0),MATCH(\"OTH\",Countries,0)),INDEX(RateRange,MATCH(E879,IncomeTypes,0),MATCH(C879,Countries,0))))","v":""},null,"",""]
[null,null,{"$f":"IF(ISBLANK(B880),\"\",VLOOKUP(B880,Country!A:B,2))","v":""},null,{"$f":"IF(ISBLANK(D880),\"\",VLOOKUP(D880,Income!A:B,2))","v":""},"",null,"",""]
[null,null,{"$f":"IF(ISBLANK(B881),\"\",VLOOKUP(B881,Country!A:B,2))","v":""},null,{"$f":"IF(ISBLANK(D881),\"\",VLOOKUP(D881,Income!A:B,2))","v":""},"",null,"",""]
[null,null,{"$f":"IF(ISBLANK(B882),\"\",VLOOKUP(B882,Country!A:B,2))","v":""},null,{"$f":"IF(ISBLANK(D882),\"\",VLOOKUP(D882,Income!A:B,2))","v":""},"",null,"",""]
[null,null,{"$f":"IF(ISBLANK(B883),\"\",VLOOKUP(B883,Country!A:B,2))","v":""},null,{"$f":"IF(ISBLANK(D883),\"\",VLOOKUP(D883,Income!A:B,2))","v":""},"",null,"",""]
[null,null,{"$f":"IF(ISBLANK(B884),\"\",VLOOKUP(B884,Country!A:B,2))","v":""},null,{"$f":"IF(ISBLANK(D884),\"\",VLOOKUP(D884,Income!A:B,2))","v":""},"",null,"",""]
[null,null,{"$f":"IF(ISBLANK(B885),\"\",VLOOKUP(B885,Country!A:B,2))","v":""},null,{"$f":"IF(ISBLANK(D885),\"\",VLOOKUP(D885,Income!A:B,2))","v":""},"",null,"",""]
[null,null,{"$f":"IF(ISBLANK(B886),\"\",VLOOKUP(B886,Country!A:B,2))","v":""},null,{"$f":"IF(ISBLANK(D886),\"\",VLOOKUP(D886,Income!A:B,2))","v":""},"",null,"",""]
[null,null,{"$f":"IF(ISBLANK(B887),\"\",VLOOKUP(B887,Country!A:B,2))","v":""},null,{"$f":"IF(ISBLANK(D887),\"\",VLOOKUP(D887,Income!A:B,2))","v":""},"",null,"",""]
[null,null,{"$f":"IF(ISBLANK(B888),\"\",VLOOKUP(B888,Country!A:B,2))","v":""},null,{"$f":"IF(ISBLANK(D888),\"\",VLOOKUP(D888,Income!A:B,2))","v":""},"",null,"",""]
[null,null,{"$f":"IF(ISBLANK(B889),\"\",VLOOKUP(B889,Country!A:B,2))","v":""},null,{"$f":"IF(ISBLANK(D889),\"\",VLOOKUP(D889,Income!A:B,2))","v":""},"",null,"",""]
[null,null,{"$f":"IF(ISBLANK(B890),\"\",VLOOKUP(B890,Country!A:B,2))","v":""},null,{"$f":"IF(ISBLANK(D890),\"\",VLOOKUP(D890,Income!A:B,2))","v":""},"",null,"",""]
[null,null,{"$f":"IF(ISBLANK(B891),\"\",VLOOKUP(B891,Country!A:B,2))","v":""},null,{"$f":"IF(ISBLANK(D891),\"\",VLOOKUP(D891,Income!A:B,2))","v":""},"",null,"",""]
[null,null,{"$f":"IF(ISBLANK(B892),\"\",VLOOKUP(B892,Country!A:B,2))","v":""},null,{"$f":"IF(ISBLANK(D892),\"\",VLOOKUP(D892,Income!A:B,2))","v":""},"",null,"",""]
[null,null,{"$f":"IF(ISBLANK(B893),\"\",VLOOKUP(B893,Country!A:B,2))","v":""},null,{"$f":"IF(ISBLANK(D893),\"\",VLOOKUP(D893,Income!A:B,2))","v":""},"",null,"",""]
[null,null,{"$f":"IF(ISBLANK(B894),\"\",VLOOKUP(B894,Country!A:B,2))","v":""},null,{"$f":"IF(ISBLANK(D894),\"\",VLOOKUP(D894,Income!A:B,2))","v":""},"",null,"",""]
[null,null,{"$f":"IF(ISBLANK(B895),\"\",VLOOKUP(B895,Country!A:B,2))","v":""},null,{"$f":"IF(ISBLANK(D895),\"\",VLOOKUP(D895,Income!A:B,2))","v":""},"",null,"",""]
[null,null,{"$f":"IF(ISBLANK(B896),\"\",VLOOKUP(B896,Country!A:B,2))","v":""},null,{"$f":"IF(ISBLANK(D896),\"\",VLOOKUP(D896,Income!A:B,2))","v":""},"",null,"",""]
[null,null,{"$f":"IF(ISBLANK(B897),\"\",VLOOKUP(B897,Country!A:B,2))","v":""},null,{"$f":"IF(ISBLANK(D897),\"\",VLOOKUP(D897,Income!A:B,2))","v":""},"",null,"",""]
[null,null,{"$f":"IF(ISBLANK(B898),\"\",VLOOKUP(B898,Country!A:B,2))","v":""},null,{"$f":"IF(ISBLANK(D898),\"\",VLOOKUP(D898,Income!A:B,2))","v":""},"",null,"",""]
[null,null,{"$f":"IF(ISBLANK(B899),\"\",VLOOKUP(B899,Country!A:B,2))","v":""},null,{"$f":"IF(ISBLANK(D899),\"\",VLOOKUP(D899,Income!A:B,2))","v":""},"",null,"",""]
[null,null,{"$f":"IF(ISBLANK(B900),\"\",VLOOKUP(B900,Country!A:B,2))","v":""},null,{"$f":"IF(ISBLANK(D900),\"\",VLOOKUP(D900,Income!A:B,2))","v":""},"",null,"",""]
[null,null,{"$f":"IF(ISBLANK(B901),\"\",VLOOKUP(B901,Country!A:B,2))","v":""},null,{"$f":"IF(ISBLANK(D901),\"\",VLOOKUP(D901,Income!A:B,2))","v":""},"",null,{"$f":"IF(F901=\"\",\"\",ROUND(G901*F901,2))","v":""},""]
[null,null,{"$f":"IF(ISBLANK(B902),\"\",VLOOKUP(B902,Country!A:B,2))","v":""},null,{"$f":"IF(ISBLANK(D902),\"\",VLOOKUP(D902,Income!A:B,2))","v":""},"",null,"",""]
[null,null,{"$f":"IF(ISBLANK(B903),\"\",VLOOKUP(B903,Country!A:B,2))","v":""},null,{"$f":"IF(ISBLANK(D903),\"\",VLOOKUP(D903,Income!A:B,2))","v":""},"",null,"",""]
[null,null,{"$f":"IF(ISBLANK(B904),\"\",VLOOKUP(B904,Country!A:B,2))","v":""},null,{"$f":"IF(ISBLANK(D904),\"\",VLOOKUP(D904,Income!A:B,2))","v":""},"",null,"",""]
[null,null,{"$f":"IF(ISBLANK(B905),\"\",VLOOKUP(B905,Country!A:B,2))","v":""},null,{"$f":"IF(ISBLANK(D905),\"\",VLOOKUP(D905,Income!A:B,2))","v":""},"",null,"",""]
[null,null,{"$f":"IF(ISBLANK(B906),\"\",VLOOKUP(B906,Country!A:B,2))","v":""},null,{"$f":"IF(ISBLANK(D906),\"\",VLOOKUP(D906,Income!A:B,2))","v":""},"",null,"",""]
[null,null,{"$f":"IF(ISBLANK(B907),\"\",VLOOKUP(B907,Country!A:B,2))","v":""},null,{"$f":"IF(ISBLANK(D907),\"\",VLOOKUP(D907,Income!A:B,2))","v":""},"",null,"",""]
[null,null,{"$f":"IF(ISBLANK(B908),\"\",VLOOKUP(B908,Country!A:B,2))","v":""},null,{"$f":"IF(ISBLANK(D908),\"\",VLOOKUP(D908,Income!A:B,2))","v":""},"",null,"",{"$f":"IF(H908=\"\",\"\",G908-H908)","v":""}]
[null,null,{"$f":"IF(ISBLANK(B909),\"\",VLOOKUP(B909,Country!A:B,2))","v":""},null,{"$f":"IF(ISBLANK(D909),\"\",VLOOKUP(D909,Income!A:B,2))","v":""},"",null,"",""]
[null,null,{"$f":"IF(ISBLANK(B910),\"\",VLOOKUP(B910,Country!A:B,2))","v":""},null,{"$f":"IF(ISBLANK(D910),\"\",VLOOKUP(D910,Income!A:B,2))","v":""},"",null,"",""]
[null,null,{"$f":"IF(ISBLANK(B911),\"\",VLOOKUP(B911,Country!A:B,2))","v":""},null,{"$f":"IF(ISBLANK(D911),\"\",VLOOKUP(D911,Income!A:B,2))","v":""},"",null,"",""]
[null,null,{"$f":"IF(ISBLANK(B912),\"\",VLOOKUP(B912,Country!A:B,2))","v":""},null,{"$f":"IF(ISBLANK(D912),\"\",VLOOKUP(D912,Income!A:B,2))","v":""},"",null,"",""]
[null,null,{"$f":"IF(ISBLANK(B913),\"\",VLOOKUP(B913,Country!A:B,2))","v":""},null,{"$f":"IF(ISBLANK(D913),\"\",VLOOKUP(D913,Income!A:B,2))","v":""},"",null,"",""]
[null,null,{"$f":"IF(ISBLANK(B914),\"\",VLOOKUP(B914,Country!A:B,2))","v":""},null,{"$f":"IF(ISBLANK(D914),\"\",VLOOKUP(D914,Income!A:B,2))","v":""},"",null,"",""]
[null,null,{"$f":"IF(ISBLANK(B915),\"\",VLOOKUP(B915,Country!A:B,2))","v":""},null,{"$f":"IF(ISBLANK(D915),\"\",VLOOKUP(D915,Income!A:B,2))","v":""},"",null,"",""]
[null,null,{"$f":"IF(ISBLANK(B916),\"\",VLOOKUP(B916,Country!A:B,2))","v":""},null,{"$f":"IF(ISBLANK(D916),\"\",VLOOKUP(D916,Income!A:B,2))","v":""},"",null,"",""]
[null,null,{"$f":"IF(ISBLANK(B917),\"\",VLOOKUP(B917,Country!A:B,2))","v":""},null,{"$f":"IF(ISBLANK(D917),\"\",VLOOKUP(D917,Income!A:B,2))","v":""},"",null,"",""]
[null,null,{"$f":"IF(ISBLANK(B918),\"\",VLOOKUP(B918,Country!A:B,2))","v":""},null,{"$f":"IF(ISBLANK(D918),\"\",VLOOKUP(D918,Income!A:B,2))","v":""},"",null,"",""]
[null,null,{"$f":"IF(ISBLANK(B919),\"\",VLOOKUP(B919,Country!A:B,2))","v":""},null,{"$f":"IF(ISBLANK(D919),\"\",VLOOKUP(D919,Income!A:B,2))","v":""},"",null,"",""]
[null,null,{"$f":"IF(ISBLANK(B920),\"\",VLOOKUP(B920,Country!A:B,2))","v":""},null,{"$f":"IF(ISBLANK(D920),\"\",VLOOKUP(D920,Income!A:B,2))","v":""},"",null,"",""]
[null,null,{"$f":"IF(ISBLANK(B921),\"\",VLOOKUP(B921,Country!A:B,2))","v":""},null,{"$f":"IF(ISBLANK(D921),\"\",VLOOKUP(D921,Income!A:B,2))","v":""},"",null,"",""]
[null,null,{"$f":"IF(ISBLANK(B922),\"\",VLOOKUP(B922,Country!A:B,2))","v":""},null,{"$f":"IF(ISBLANK(D922),\"\",VLOOKUP(D922,Income!A:B,2))","v":""},"",null,"",""]
[null,null,{"$f":"IF(ISBLANK(B923),\"\",VLOOKUP(B923,Country!A:B,2))","v":""},null,{"$f":"IF(ISBLANK(D923),\"\",VLOOKUP(D923,Income!A:B,2))","v":""},"",null,"",""]
[null,null,{"$f":"IF(ISBLANK(B924),\"\",VLOOKUP(B924,Country!A:B,2))","v":""},null,{"$f":"IF(ISBLANK(D924),\"\",VLOOKUP(D924,Income!A:B,2))","v":""},"",null,"",""]
[null,null,{"$f":"IF(ISBLANK(B925),\"\",VLOOKUP(B925,Country!A:B,2))","v":""},null,{"$f":"IF(ISBLANK(D925),\"\",VLOOKUP(D925,Income!A:B,2))","v":""},"",null,"",""]
[null,null,{"$f":"IF(ISBLANK(B926),\"\",VLOOKUP(B926,Country!A:B,2))","v":""},null,{"$f":"IF(ISBLANK(D926),\"\",VLOOKUP(D926,Income!A:B,2))","v":""},"",null,"",""]
[null,null,{"$f":"IF(ISBLANK(B927),\"\",VLOOKUP(B927,Country!A:B,2))","v":""},null,{"$f":"IF(ISBLANK(D927),\"\",VLOOKUP(D927,Income!A:B,2))","v":""},"",null,"",""]
[null,null,{"$f":"IF(ISBLANK(B928),\"\",VLOOKUP(B928,Country!A:B,2))","v":""},null,{"$f":"IF(ISBLANK(D928),\"\",VLOOKUP(D928,Income!A:B,2))","v":""},"",null,"",""]
[null,null,{"$f":"IF(ISBLANK(B929),\"\",VLOOKUP(B929,Country!A:B,2))","v":""},null,{"$f":"IF(ISBLANK(D929),\"\",VLOOKUP(D929,Income!A:B,2))","v":""},"",null,"",""]
[null,null,{"$f":"IF(ISBLANK(B930),\"\",VLOOKUP(B930,Country!A:B,2))","v":""},null,{"$f":"IF(ISBLANK(D930),\"\",VLOOKUP(D930,Income!A:B,2))","v":""},"",null,"",""]
[null,null,{"$f":"IF(ISBLANK(B931),\"\",VLOOKUP(B931,Country!A:B,2))","v":""},null,{"$f":"IF(ISBLANK(D931),\"\",VLOOKUP(D931,Income!A:B,2))","v":""},"",null,"",""]
[null,null,{"$f":"IF(ISBLANK(B932),\"\",VLOOKUP(B932,Country!A:B,2))","v":""},null,{"$f":"IF(ISBLANK(D932),\"\",VLOOKUP(D932,Income!A:B,2))","v":""},"",null,"",""]
[null,null,{"$f":"IF(ISBLANK(B933),\"\",VLOOKUP(B933,Country!A:B,2))","v":""},null,{"$f":"IF(ISBLANK(D933),\"\",VLOOKUP(D933,Income!A:B,2))","v":""},"",null,"",""]
[null,null,{"$f":"IF(ISBLANK(B934),\"\",VLOOKUP(B934,Country!A:B,2))","v":""},null,{"$f":"IF(ISBLANK(D934),\"\",VLOOKUP(D934,Income!A:B,2))","v":""},"",null,"",""]
[null,null,{"$f":"IF(ISBLANK(B935),\"\",VLOOKUP(B935,Country!A:B,2))","v":""},null,{"$f":"IF(ISBLANK(D935),\"\",VLOOKUP(D935,Income!A:B,2))","v":""},"",null,"",""]
[null,null,{"$f":"IF(ISBLANK(B936),\"\",VLOOKUP(B936,Country!A:B,2))","v":""},null,{"$f":"IF(ISBLANK(D936),\"\",VLOOKUP(D936,Income!A:B,2))","v":""},"",null,"",""]
[null,null,{"$f":"IF(ISBLANK(B937),\"\",VLOOKUP(B937,Country!A:B,2))","v":""},null,{"$f":"IF(ISBLANK(D937),\"\",VLOOKUP(D937,Income!A:B,2))","v":""},"",null,"",""]
[null,null,{"$f":"IF(ISBLANK(B938),\"\",VLOOKUP(B938,Country!A:B,2))","v":""},null,{"$f":"IF(ISBLANK(D938),\"\",VLOOKUP(D938,Income!A:B,2))","v":""},"",null,"",""]
[null,null,{"$f":"IF(ISBLANK(B939),\"\",VLOOKUP(B939,Country!A:B,2))","v":""},null,{"$f":"IF(ISBLANK(D939),\"\",VLOOKUP(D939,Income!A:B,2))","v":""},"",null,"",""]
[null,null,{"$f":"IF(ISBLANK(B940),\"\",VLOOKUP(B940,Country!A:B,2))","v":""},null,{"$f":"IF(ISBLANK(D940),\"\",VLOOKUP(D940,Income!A:B,2))","v":""},"",null,"",""]
[null,null,{"$f":"IF(ISBLANK(B941),\"\",VLOOKUP(B941,Country!A:B,2))","v":""},null,{"$f":"IF(ISBLANK(D941),\"\",VLOOKUP(D941,Income!A:B,2))","v":""},"",null,"",""]
[null,null,{"$f":"IF(ISBLANK(B942),\"\",VLOOKUP(B942,Country!A:B,2))","v":""},null,{"$f":"IF(ISBLANK(D942),\"\",VLOOKUP(D942,Income!A:B,2))","v":""},"",null,"",""]
[null,null,{"$f":"IF(ISBLANK(B943),\"\",VLOOKUP(B943,Country!A:B,2))","v":""},null,{"$f":"IF(ISBLANK(D943),\"\",VLOOKUP(D943,Income!A:B,2))","v":""},{"$f":"IF(OR(C943=\"\",E943=\"\"),\"\",IF(ISNA(INDEX(RateRange,INDEX(RateRange,MATCH(E943,IncomeTypes,0),MATCH(C943,Countries,0)))),INDEX(RateRange,MATCH(E943,IncomeTypes,0),MATCH(\"OTH\",Countries,0)),INDEX(RateRange,MATCH(E943,IncomeTypes,0),MATCH(C943,Countries,0))))","v":""},null,"",""]
[null,null,{"$f":"IF(ISBLANK(B944),\"\",VLOOKUP(B944,Country!A:B,2))","v":""},null,{"$f":"IF(ISBLANK(D944),\"\",VLOOKUP(D944,Income!A:B,2))","v":""},"",null,"",""]
[null,null,{"$f":"IF(ISBLANK(B945),\"\",VLOOKUP(B945,Country!A:B,2))","v":""},null,{"$f":"IF(ISBLANK(D945),\"\",VLOOKUP(D945,Income!A:B,2))","v":""},"",null,"",""]
[null,null,{"$f":"IF(ISBLANK(B946),\"\",VLOOKUP(B946,Country!A:B,2))","v":""},null,{"$f":"IF(ISBLANK(D946),\"\",VLOOKUP(D946,Income!A:B,2))","v":""},"",null,"",""]
[null,null,{"$f":"IF(ISBLANK(B947),\"\",VLOOKUP(B947,Country!A:B,2))","v":""},null,{"$f":"IF(ISBLANK(D947),\"\",VLOOKUP(D947,Income!A:B,2))","v":""},"",null,"",""]
[null,null,{"$f":"IF(ISBLANK(B948),\"\",VLOOKUP(B948,Country!A:B,2))","v":""},null,{"$f":"IF(ISBLANK(D948),\"\",VLOOKUP(D948,Income!A:B,2))","v":""},"",null,"",""]
[null,null,{"$f":"IF(ISBLANK(B949),\"\",VLOOKUP(B949,Country!A:B,2))","v":""},null,{"$f":"IF(ISBLANK(D949),\"\",VLOOKUP(D949,Income!A:B,2))","v":""},"",null,"",""]
[null,null,{"$f":"IF(ISBLANK(B950),\"\",VLOOKUP(B950,Country!A:B,2))","v":""},null,{"$f":"IF(ISBLANK(D950),\"\",VLOOKUP(D950,Income!A:B,2))","v":""},"",null,"",""]
[null,null,{"$f":"IF(ISBLANK(B951),\"\",VLOOKUP(B951,Country!A:B,2))","v":""},null,{"$f":"IF(ISBLANK(D951),\"\",VLOOKUP(D951,Income!A:B,2))","v":""},"",null,"",""]
[null,null,{"$f":"IF(ISBLANK(B952),\"\",VLOOKUP(B952,Country!A:B,2))","v":""},null,{"$f":"IF(ISBLANK(D952),\"\",VLOOKUP(D952,Income!A:B,2))","v":""},"",null,"",""]
[null,null,{"$f":"IF(ISBLANK(B953),\"\",VLOOKUP(B953,Country!A:B,2))","v":""},null,{"$f":"IF(ISBLANK(D953),\"\",VLOOKUP(D953,Income!A:B,2))","v":""},"",null,"",""]
[null,null,{"$f":"IF(ISBLANK(B954),\"\",VLOOKUP(B954,Country!A:B,2))","v":""},null,{"$f":"IF(ISBLANK(D954),\"\",VLOOKUP(D954,Income!A:B,2))","v":""},"",null,"",""]
[null,null,{"$f":"IF(ISBLANK(B955),\"\",VLOOKUP(B955,Country!A:B,2))","v":""},null,{"$f":"IF(ISBLANK(D955),\"\",VLOOKUP(D955,Income!A:B,2))","v":""},"",null,"",""]
[null,null,{"$f":"IF(ISBLANK(B956),\"\",VLOOKUP(B956,Country!A:B,2))","v":""},null,{"$f":"IF(ISBLANK(D956),\"\",VLOOKUP(D956,Income!A:B,2))","v":""},"",null,"",""]
[null,null,{"$f":"IF(ISBLANK(B957),\"\",VLOOKUP(B957,Country!A:B,2))","v":""},null,{"$f":"IF(ISBLANK(D957),\"\",VLOOKUP(D957,Income!A:B,2))","v":""},"",null,"",""]
[null,null,{"$f":"IF(ISBLANK(B958),\"\",VLOOKUP(B958,Country!A:B,2))","v":""},null,{"$f":"IF(ISBLANK(D958),\"\",VLOOKUP(D958,Income!A:B,2))","v":""},"",null,"",""]
[null,null,{"$f":"IF(ISBLANK(B959),\"\",VLOOKUP(B959,Country!A:B,2))","v":""},null,{"$f":"IF(ISBLANK(D959),\"\",VLOOKUP(D959,Income!A:B,2))","v":""},"",null,"",""]
[null,null,{"$f":"IF(ISBLANK(B960),\"\",VLOOKUP(B960,Country!A:B,2))","v":""},null,{"$f":"IF(ISBLANK(D960),\"\",VLOOKUP(D960,Income!A:B,2))","v":""},"",null,"",""]
[null,null,{"$f":"IF(ISBLANK(B961),\"\",VLOOKUP(B961,Country!A:B,2))","v":""},null,{"$f":"IF(ISBLANK(D961),\"\",VLOOKUP(D961,Income!A:B,2))","v":""},"",null,"",""]
[null,null,{"$f":"IF(ISBLANK(B962),\"\",VLOOKUP(B962,Country!A:B,2))","v":""},null,{"$f":"IF(ISBLANK(D962),\"\",VLOOKUP(D962,Income!A:B,2))","v":""},"",null,"",""]
[null,null,{"$f":"IF(ISBLANK(B963),\"\",VLOOKUP(B963,Country!A:B,2))","v":""},null,{"$f":"IF(ISBLANK(D963),\"\",VLOOKUP(D963,Income!A:B,2))","v":""},"",null,"",""]
[null,null,{"$f":"IF(ISBLANK(B964),\"\",VLOOKUP(B964,Country!A:B,2))","v":""},null,{"$f":"IF(ISBLANK(D964),\"\",VLOOKUP(D964,Income!A:B,2))","v":""},"",null,"",""]
[null,null,{"$f":"IF(ISBLANK(B965),\"\",VLOOKUP(B965,Country!A:B,2))","v":""},null,{"$f":"IF(ISBLANK(D965),\"\",VLOOKUP(D965,Income!A:B,2))","v":""},"",null,{"$f":"IF(F965=\"\",\"\",ROUND(G965*F965,2))","v":""},""]
[null,null,{"$f":"IF(ISBLANK(B966),\"\",VLOOKUP(B966,Country!A:B,2))","v":""},null,{"$f":"IF(ISBLANK(D966),\"\",VLOOKUP(D966,Income!A:B,2))","v":""},"",null,"",""]
[null,null,{"$f":"IF(ISBLANK(B967),\"\",VLOOKUP(B967,Country!A:B,2))","v":""},null,{"$f":"IF(ISBLANK(D967),\"\",VLOOKUP(D967,Income!A:B,2))","v":""},"",null,"",""]
[null,null,{"$f":"IF(ISBLANK(B968),\"\",VLOOKUP(B968,Country!A:B,2))","v":""},null,{"$f":"IF(ISBLANK(D968),\"\",VLOOKUP(D968,Income!A:B,2))","v":""},"",null,"",""]
[null,null,{"$f":"IF(ISBLANK(B969),\"\",VLOOKUP(B969,Country!A:B,2))","v":""},null,{"$f":"IF(ISBLANK(D969),\"\",VLOOKUP(D969,Income!A:B,2))","v":""},"",null,"",""]
[null,null,{"$f":"IF(ISBLANK(B970),\"\",VLOOKUP(B970,Country!A:B,2))","v":""},null,{"$f":"IF(ISBLANK(D970),\"\",VLOOKUP(D970,Income!A:B,2))","v":""},"",null,"",""]
[null,null,{"$f":"IF(ISBLANK(B971),\"\",VLOOKUP(B971,Country!A:B,2))","v":""},null,{"$f":"IF(ISBLANK(D971),\"\",VLOOKUP(D971,Income!A:B,2))","v":""},"",null,"",""]
[null,null,{"$f":"IF(ISBLANK(B972),\"\",VLOOKUP(B972,Country!A:B,2))","v":""},null,{"$f":"IF(ISBLANK(D972),\"\",VLOOKUP(D972,Income!A:B,2))","v":""},"",null,"",{"$f":"IF(H972=\"\",\"\",G972-H972)","v":""}]
[null,null,{"$f":"IF(ISBLANK(B973),\"\",VLOOKUP(B973,Country!A:B,2))","v":""},null,{"$f":"IF(ISBLANK(D973),\"\",VLOOKUP(D973,Income!A:B,2))","v":""},"",null,"",""]
[null,null,{"$f":"IF(ISBLANK(B974),\"\",VLOOKUP(B974,Country!A:B,2))","v":""},null,{"$f":"IF(ISBLANK(D974),\"\",VLOOKUP(D974,Income!A:B,2))","v":""},"",null,"",""]
[null,null,{"$f":"IF(ISBLANK(B975),\"\",VLOOKUP(B975,Country!A:B,2))","v":""},null,{"$f":"IF(ISBLANK(D975),\"\",VLOOKUP(D975,Income!A:B,2))","v":""},"",null,"",""]
[null,null,{"$f":"IF(ISBLANK(B976),\"\",VLOOKUP(B976,Country!A:B,2))","v":""},null,{"$f":"IF(ISBLANK(D976),\"\",VLOOKUP(D976,Income!A:B,2))","v":""},"",null,"",""]
[null,null,{"$f":"IF(ISBLANK(B977),\"\",VLOOKUP(B977,Country!A:B,2))","v":""},null,{"$f":"IF(ISBLANK(D977),\"\",VLOOKUP(D977,Income!A:B,2))","v":""},"",null,"",""]
[null,null,{"$f":"IF(ISBLANK(B978),\"\",VLOOKUP(B978,Country!A:B,2))","v":""},null,{"$f":"IF(ISBLANK(D978),\"\",VLOOKUP(D978,Income!A:B,2))","v":""},"",null,"",""]
[null,null,{"$f":"IF(ISBLANK(B979),\"\",VLOOKUP(B979,Country!A:B,2))","v":""},null,{"$f":"IF(ISBLANK(D979),\"\",VLOOKUP(D979,Income!A:B,2))","v":""},"",null,"",""]
[null,null,{"$f":"IF(ISBLANK(B980),\"\",VLOOKUP(B980,Country!A:B,2))","v":""},null,{"$f":"IF(ISBLANK(D980),\"\",VLOOKUP(D980,Income!A:B,2))","v":""},"",null,"",""]
[null,null,{"$f":"IF(ISBLANK(B981),\"\",VLOOKUP(B981,Country!A:B,2))","v":""},null,{"$f":"IF(ISBLANK(D981),\"\",VLOOKUP(D981,Income!A:B,2))","v":""},"",null,"",""]
[null,null,{"$f":"IF(ISBLANK(B982),\"\",VLOOKUP(B982,Country!A:B,2))","v":""},null,{"$f":"IF(ISBLANK(D982),\"\",VLOOKUP(D982,Income!A:B,2))","v":""},"",null,"",""]
[null,null,{"$f":"IF(ISBLANK(B983),\"\",VLOOKUP(B983,Country!A:B,2))","v":""},null,{"$f":"IF(ISBLANK(D983),\"\",VLOOKUP(D983,Income!A:B,2))","v":""},"",null,"",{"$f":"IF(H983=\"\",\"\",G983-H983)","v":""}]
[null,null,{"$f":"IF(ISBLANK(B984),\"\",VLOOKUP(B984,Country!A:B,2))","v":""},null,{"$f":"IF(ISBLANK(D984),\"\",VLOOKUP(D984,Income!A:B,2))","v":""},"",null,"",""]
[null,null,{"$f":"IF(ISBLANK(B985),\"\",VLOOKUP(B985,Country!A:B,2))","v":""},null,{"$f":"IF(ISBLANK(D985),\"\",VLOOKUP(D985,Income!A:B,2))","v":""},"",null,"",""]
[null,null,{"$f":"IF(ISBLANK(B986),\"\",VLOOKUP(B986,Country!A:B,2))","v":""},null,{"$f":"IF(ISBLANK(D986),\"\",VLOOKUP(D986,Income!A:B,2))","v":""},"",null,"",""]
[null,null,{"$f":"IF(ISBLANK(B987),\"\",VLOOKUP(B987,Country!A:B,2))","v":""},null,{"$f":"IF(ISBLANK(D987),\"\",VLOOKUP(D987,Income!A:B,2))","v":""},"",null,"",""]
[null,null,{"$f":"IF(ISBLANK(B988),\"\",VLOOKUP(B988,Country!A:B,2))","v":""},null,{"$f":"IF(ISBLANK(D988),\"\",VLOOKUP(D988,Income!A:B,2))","v":""},"",null,"",""]
[null,null,{"$f":"IF(ISBLANK(B989),\"\",VLOOKUP(B989,Country!A:B,2))","v":""},null,{"$f":"IF(ISBLANK(D989),\"\",VLOOKUP(D989,Income!A:B,2))","v":""},"",null,"",""]
[null,null,{"$f":"IF(ISBLANK(B990),\"\",VLOOKUP(B990,Country!A:B,2))","v":""},null,{"$f":"IF(ISBLANK(D990),\"\",VLOOKUP(D990,Income!A:B,2))","v":""},"",null,"",""]
[null,null,{"$f":"IF(ISBLANK(B991),\"\",VLOOKUP(B991,Country!A:B,2))","v":""},null,{"$f":"IF(ISBLANK(D991),\"\",VLOOKUP(D991,Income!A:B,2))","v":""},"",null,"",""]
[null,null,{"$f":"IF(ISBLANK(B992),\"\",VLOOKUP(B992,Country!A:B,2))","v":""},null,{"$f":"IF(ISBLANK(D992),\"\",VLOOKUP(D992,Income!A:B,2))","v":""},"",null,"",""]
[null,null,{"$f":"IF(ISBLANK(B993),\"\",VLOOKUP(B993,Country!A:B,2))","v":""},null,{"$f":"IF(ISBLANK(D993),\"\",VLOOKUP(D993,Income!A:B,2))","v":""},"",null,"",""]
[null,null,{"$f":"IF(ISBLANK(B994),\"\",VLOOKUP(B994,Country!A:B,2))","v":""},null,{"$f":"IF(ISBLANK(D994),\"\",VLOOKUP(D994,Income!A:B,2))","v":""},"",null,"",""]
[null,null,{"$f":"IF(ISBLANK(B995),\"\",VLOOKUP(B995,Country!A:B,2))","v":""},null,{"$f":"IF(ISBLANK(D995),\"\",VLOOKUP(D995,Income!A:B,2))","v":""},"",null,"",""]
[null,null,{"$f":"IF(ISBLANK(B996),\"\",VLOOKUP(B996,Country!A:B,2))","v":""},null,{"$f":"IF(ISBLANK(D996),\"\",VLOOKUP(D996,Income!A:B,2))","v":""},"",null,"",""]
[null,null,{"$f":"IF(ISBLANK(B997),\"\",VLOOKUP(B997,Country!A:B,2))","v":""},null,{"$f":"IF(ISBLANK(D997),\"\",VLOOKUP(D997,Income!A:B,2))","v":""},"",null,"",""]
[null,null,{"$f":"IF(ISBLANK(B998),\"\",VLOOKUP(B998,Country!A:B,2))","v":""},null,{"$f":"IF(ISBLANK(D998),\"\",VLOOKUP(D998,Income!A:B,2))","v":""},"",null,"",""]
[null,null,{"$f":"IF(ISBLANK(B999),\"\",VLOOKUP(B999,Country!A:B,2))","v":""},null,{"$f":"IF(ISBLANK(D999),\"\",VLOOKUP(D999,Income!A:B,2))","v":""},"",null,"",""]
[null,null,{"$f":"IF(ISBLANK(B1000),\"\",VLOOKUP(B1000,Country!A:B,2))","v":""},null,{"$f":"IF(ISBLANK(D1000),\"\",VLOOKUP(D1000,Income!A:B,2))","v":""},"",null,"",""]
[null,null,{"$f":"IF(ISBLANK(B1001),\"\",VLOOKUP(B1001,Country!A:B,2))","v":""},null,{"$f":"IF(ISBLANK(D1001),\"\",VLOOKUP(D1001,Income!A:B,2))","v":""},"",null,"",""]
[null,null,{"$f":"IF(ISBLANK(B1002),\"\",VLOOKUP(B1002,Country!A:B,2))","v":""},null,{"$f":"IF(ISBLANK(D1002),\"\",VLOOKUP(D1002,Income!A:B,2))","v":""},"",null,"",""]
[null,null,{"$f":"IF(ISBLANK(B1003),\"\",VLOOKUP(B1003,Country!A:B,2))","v":""},null,{"$f":"IF(ISBLANK(D1003),\"\",VLOOKUP(D1003,Income!A:B,2))","v":""},"",null,"",""]
[null,null,{"$f":"IF(ISBLANK(B1004),\"\",VLOOKUP(B1004,Country!A:B,2))","v":""},null,{"$f":"IF(ISBLANK(D1004),\"\",VLOOKUP(D1004,Income!A:B,2))","v":""},"",null,"",""]
[null,null,{"$f":"IF(ISBLANK(B1005),\"\",VLOOKUP(B1005,Country!A:B,2))","v":""},null,{"$f":"IF(ISBLANK(D1005),\"\",VLOOKUP(D1005,Income!A:B,2))","v":""},"",null,"",""]
[null,null,{"$f":"IF(ISBLANK(B1006),\"\",VLOOKUP(B1006,Country!A:B,2))","v":""},null,{"$f":"IF(ISBLANK(D1006),\"\",VLOOKUP(D1006,Income!A:B,2))","v":""},"",null,"",""]
[null,null,{"$f":"IF(ISBLANK(B1007),\"\",VLOOKUP(B1007,Country!A:B,2))","v":""},null,{"$f":"IF(ISBLANK(D1007),\"\",VLOOKUP(D1007,Income!A:B,2))","v":""},{"$f":"IF(OR(C1007=\"\",E1007=\"\"),\"\",IF(ISNA(INDEX(RateRange,INDEX(RateRange,MATCH(E1007,IncomeTypes,0),MATCH(C1007,Countries,0)))),INDEX(RateRange,MATCH(E1007,IncomeTypes,0),MATCH(\"OTH\",Countries,0)),INDEX(RateRange,MATCH(E1007,IncomeTypes,0),MATCH(C1007,Countries,0))))","v":""},null,"",""]
[null,null,{"$f":"IF(ISBLANK(B1008),\"\",VLOOKUP(B1008,Country!A:B,2))","v":""},null,{"$f":"IF(ISBLANK(D1008),\"\",VLOOKUP(D1008,Income!A:B,2))","v":""},"",null,"",""]
[null,null,{"$f":"IF(ISBLANK(B1009),\"\",VLOOKUP(B1009,Country!A:B,2))","v":""},null,{"$f":"IF(ISBLANK(D1009),\"\",VLOOKUP(D1009,Income!A:B,2))","v":""},"",null,"",""]
[null,null,{"$f":"IF(ISBLANK(B1010),\"\",VLOOKUP(B1010,Country!A:B,2))","v":""},null,{"$f":"IF(ISBLANK(D1010),\"\",VLOOKUP(D1010,Income!A:B,2))","v":""},"",null,"",""]
[null,null,{"$f":"IF(ISBLANK(B1011),\"\",VLOOKUP(B1011,Country!A:B,2))","v":""},null,{"$f":"IF(ISBLANK(D1011),\"\",VLOOKUP(D1011,Income!A:B,2))","v":""},"",null,"",""]
[null,null,{"$f":"IF(ISBLANK(B1012),\"\",VLOOKUP(B1012,Country!A:B,2))","v":""},null,{"$f":"IF(ISBLANK(D1012),\"\",VLOOKUP(D1012,Income!A:B,2))","v":""},"",null,"",""]
[null,null,{"$f":"IF(ISBLANK(B1013),\"\",VLOOKUP(B1013,Country!A:B,2))","v":""},null,{"$f":"IF(ISBLANK(D1013),\"\",VLOOKUP(D1013,Income!A:B,2))","v":""},"",null,"",""]
[null,null,{"$f":"IF(ISBLANK(B1014),\"\",VLOOKUP(B1014,Country!A:B,2))","v":""},null,{"$f":"IF(ISBLANK(D1014),\"\",VLOOKUP(D1014,Income!A:B,2))","v":""},"",null,"",""]
[null,null,{"$f":"IF(ISBLANK(B1015),\"\",VLOOKUP(B1015,Country!A:B,2))","v":""},null,{"$f":"IF(ISBLANK(D1015),\"\",VLOOKUP(D1015,Income!A:B,2))","v":""},"",null,"",""]
[null,null,{"$f":"IF(ISBLANK(B1016),\"\",VLOOKUP(B1016,Country!A:B,2))","v":""},null,{"$f":"IF(ISBLANK(D1016),\"\",VLOOKUP(D1016,Income!A:B,2))","v":""},"",null,"",""]
[null,null,{"$f":"IF(ISBLANK(B1017),\"\",VLOOKUP(B1017,Country!A:B,2))","v":""},null,{"$f":"IF(ISBLANK(D1017),\"\",VLOOKUP(D1017,Income!A:B,2))","v":""},"",null,"",""]
[null,null,{"$f":"IF(ISBLANK(B1018),\"\",VLOOKUP(B1018,Country!A:B,2))","v":""},null,{"$f":"IF(ISBLANK(D1018),\"\",VLOOKUP(D1018,Income!A:B,2))","v":""},"",null,"",""]
[null,null,{"$f":"IF(ISBLANK(B1019),\"\",VLOOKUP(B1019,Country!A:B,2))","v":""},null,{"$f":"IF(ISBLANK(D1019),\"\",VLOOKUP(D1019,Income!A:B,2))","v":""},"",null,"",""]
[null,null,{"$f":"IF(ISBLANK(B1020),\"\",VLOOKUP(B1020,Country!A:B,2))","v":""},null,{"$f":"IF(ISBLANK(D1020),\"\",VLOOKUP(D1020,Income!A:B,2))","v":""},"",null,"",""]
[null,null,{"$f":"IF(ISBLANK(B1021),\"\",VLOOKUP(B1021,Country!A:B,2))","v":""},null,{"$f":"IF(ISBLANK(D1021),\"\",VLOOKUP(D1021,Income!A:B,2))","v":""},"",null,"",""]
[null,null,{"$f":"IF(ISBLANK(B1022),\"\",VLOOKUP(B1022,Country!A:B,2))","v":""},null,{"$f":"IF(ISBLANK(D1022),\"\",VLOOKUP(D1022,Income!A:B,2))","v":""},"",null,"",""]
[null,null,{"$f":"IF(ISBLANK(B1023),\"\",VLOOKUP(B1023,Country!A:B,2))","v":""},null,{"$f":"IF(ISBLANK(D1023),\"\",VLOOKUP(D1023,Income!A:B,2))","v":""},"",null,"",""]
[null,null,{"$f":"IF(ISBLANK(B1024),\"\",VLOOKUP(B1024,Country!A:B,2))","v":""},null,{"$f":"IF(ISBLANK(D1024),\"\",VLOOKUP(D1024,Income!A:B,2))","v":""},"",null,"",""]
[null,null,{"$f":"IF(ISBLANK(B1025),\"\",VLOOKUP(B1025,Country!A:B,2))","v":""},null,{"$f":"IF(ISBLANK(D1025),\"\",VLOOKUP(D1025,Income!A:B,2))","v":""},"",null,"",""]
[null,null,{"$f":"IF(ISBLANK(B1026),\"\",VLOOKUP(B1026,Country!A:B,2))","v":""},null,{"$f":"IF(ISBLANK(D1026),\"\",VLOOKUP(D1026,Income!A:B,2))","v":""},"",null,"",""]
[null,null,{"$f":"IF(ISBLANK(B1027),\"\",VLOOKUP(B1027,Country!A:B,2))","v":""},null,{"$f":"IF(ISBLANK(D1027),\"\",VLOOKUP(D1027,Income!A:B,2))","v":""},"",null,"",""]
[null,null,{"$f":"IF(ISBLANK(B1028),\"\",VLOOKUP(B1028,Country!A:B,2))","v":""},null,{"$f":"IF(ISBLANK(D1028),\"\",VLOOKUP(D1028,Income!A:B,2))","v":""},"",null,"",""]
[null,null,{"$f":"IF(ISBLANK(B1029),\"\",VLOOKUP(B1029,Country!A:B,2))","v":""},null,{"$f":"IF(ISBLANK(D1029),\"\",VLOOKUP(D1029,Income!A:B,2))","v":""},"",null,{"$f":"IF(F1029=\"\",\"\",ROUND(G1029*F1029,2))","v":""},""]
[null,null,{"$f":"IF(ISBLANK(B1030),\"\",VLOOKUP(B1030,Country!A:B,2))","v":""},null,{"$f":"IF(ISBLANK(D1030),\"\",VLOOKUP(D1030,Income!A:B,2))","v":""},"",null,"",""]
[null,null,{"$f":"IF(ISBLANK(B1031),\"\",VLOOKUP(B1031,Country!A:B,2))","v":""},null,{"$f":"IF(ISBLANK(D1031),\"\",VLOOKUP(D1031,Income!A:B,2))","v":""},"",null,"",""]
[null,null,{"$f":"IF(ISBLANK(B1032),\"\",VLOOKUP(B1032,Country!A:B,2))","v":""},null,{"$f":"IF(ISBLANK(D1032),\"\",VLOOKUP(D1032,Income!A:B,2))","v":""},"",null,"",""]
[null,null,{"$f":"IF(ISBLANK(B1033),\"\",VLOOKUP(B1033,Country!A:B,2))","v":""},null,{"$f":"IF(ISBLANK(D1033),\"\",VLOOKUP(D1033,Income!A:B,2))","v":""},"",null,"",""]
[null,null,{"$f":"IF(ISBLANK(B1034),\"\",VLOOKUP(B1034,Country!A:B,2))","v":""},null,{"$f":"IF(ISBLANK(D1034),\"\",VLOOKUP(D1034,Income!A:B,2))","v":""},"",null,"",""]
[null,null,{"$f":"IF(ISBLANK(B1035),\"\",VLOOKUP(B1035,Country!A:B,2))","v":""},null,{"$f":"IF(ISBLANK(D1035),\"\",VLOOKUP(D1035,Income!A:B,2))","v":""},"",null,"",""]
[null,null,{"$f":"IF(ISBLANK(B1036),\"\",VLOOKUP(B1036,Country!A:B,2))","v":""},null,{"$f":"IF(ISBLANK(D1036),\"\",VLOOKUP(D1036,Income!A:B,2))","v":""},"",null,"",""]
[null,null,{"$f":"IF(ISBLANK(B1037),\"\",VLOOKUP(B1037,Country!A:B,2))","v":""},null,{"$f":"IF(ISBLANK(D1037),\"\",VLOOKUP(D1037,Income!A:B,2))","v":""},"",null,"",""]
[null,null,{"$f":"IF(ISBLANK(B1038),\"\",VLOOKUP(B1038,Country!A:B,2))","v":""},null,{"$f":"IF(ISBLANK(D1038),\"\",VLOOKUP(D1038,Income!A:B,2))","v":""},"",null,"",""]
[null,null,{"$f":"IF(ISBLANK(B1039),\"\",VLOOKUP(B1039,Country!A:B,2))","v":""},null,{"$f":"IF(ISBLANK(D1039),\"\",VLOOKUP(D1039,Income!A:B,2))","v":""},"",null,"",""]
[null,null,{"$f":"IF(ISBLANK(B1040),\"\",VLOOKUP(B1040,Country!A:B,2))","v":""},null,{"$f":"IF(ISBLANK(D1040),\"\",VLOOKUP(D1040,Income!A:B,2))","v":""},"",null,"",""]
[null,null,{"$f":"IF(ISBLANK(B1041),\"\",VLOOKUP(B1041,Country!A:B,2))","v":""},null,{"$f":"IF(ISBLANK(D1041),\"\",VLOOKUP(D1041,Income!A:B,2))","v":""},"",null,"",""]
[null,null,{"$f":"IF(ISBLANK(B1042),\"\",VLOOKUP(B1042,Country!A:B,2))","v":""},null,{"$f":"IF(ISBLANK(D1042),\"\",VLOOKUP(D1042,Income!A:B,2))","v":""},"",null,"",""]
[null,null,{"$f":"IF(ISBLANK(B1043),\"\",VLOOKUP(B1043,Country!A:B,2))","v":""},null,{"$f":"IF(ISBLANK(D1043),\"\",VLOOKUP(D1043,Income!A:B,2))","v":""},"",null,"",""]
[null,null,{"$f":"IF(ISBLANK(B1044),\"\",VLOOKUP(B1044,Country!A:B,2))","v":""},null,{"$f":"IF(ISBLANK(D1044),\"\",VLOOKUP(D1044,Income!A:B,2))","v":""},"",null,"",""]
[null,null,{"$f":"IF(ISBLANK(B1045),\"\",VLOOKUP(B1045,Country!A:B,2))","v":""},null,{"$f":"IF(ISBLANK(D1045),\"\",VLOOKUP(D1045,Income!A:B,2))","v":""},"",null,"",""]
[null,null,{"$f":"IF(ISBLANK(B1046),\"\",VLOOKUP(B1046,Country!A:B,2))","v":""},null,{"$f":"IF(ISBLANK(D1046),\"\",VLOOKUP(D1046,Income!A:B,2))","v":""},"",null,"",""]
[null,null,{"$f":"IF(ISBLANK(B1047),\"\",VLOOKUP(B1047,Country!A:B,2))","v":""},null,{"$f":"IF(ISBLANK(D1047),\"\",VLOOKUP(D1047,Income!A:B,2))","v":""},"",null,"",{"$f":"IF(H1047=\"\",\"\",G1047-H1047)","v":""}]
[null,null,{"$f":"IF(ISBLANK(B1048),\"\",VLOOKUP(B1048,Country!A:B,2))","v":""},null,{"$f":"IF(ISBLANK(D1048),\"\",VLOOKUP(D1048,Income!A:B,2))","v":""},"",null,"",""]
[null,null,{"$f":"IF(ISBLANK(B1049),\"\",VLOOKUP(B1049,Country!A:B,2))","v":""},null,{"$f":"IF(ISBLANK(D1049),\"\",VLOOKUP(D1049,Income!A:B,2))","v":""},"",null,"",""]
[null,null,{"$f":"IF(ISBLANK(B1050),\"\",VLOOKUP(B1050,Country!A:B,2))","v":""},null,{"$f":"IF(ISBLANK(D1050),\"\",VLOOKUP(D1050,Income!A:B,2))","v":""},"",null,"",""]
[null,null,{"$f":"IF(ISBLANK(B1051),\"\",VLOOKUP(B1051,Country!A:B,2))","v":""},null,{"$f":"IF(ISBLANK(D1051),\"\",VLOOKUP(D1051,Income!A:B,2))","v":""},"",null,"",""]
[null,null,{"$f":"IF(ISBLANK(B1052),\"\",VLOOKUP(B1052,Country!A:B,2))","v":""},null,{"$f":"IF(ISBLANK(D1052),\"\",VLOOKUP(D1052,Income!A:B,2))","v":""},"",null,"",""]
[null,null,{"$f":"IF(ISBLANK(B1053),\"\",VLOOKUP(B1053,Country!A:B,2))","v":""},null,{"$f":"IF(ISBLANK(D1053),\"\",VLOOKUP(D1053,Income!A:B,2))","v":""},"",null,"",""]
[null,null,{"$f":"IF(ISBLANK(B1054),\"\",VLOOKUP(B1054,Country!A:B,2))","v":""},null,{"$f":"IF(ISBLANK(D1054),\"\",VLOOKUP(D1054,Income!A:B,2))","v":""},"",null,"",""]
[null,null,{"$f":"IF(ISBLANK(B1055),\"\",VLOOKUP(B1055,Country!A:B,2))","v":""},null,{"$f":"IF(ISBLANK(D1055),\"\",VLOOKUP(D1055,Income!A:B,2))","v":""},"",null,"",""]
[null,null,{"$f":"IF(ISBLANK(B1056),\"\",VLOOKUP(B1056,Country!A:B,2))","v":""},null,{"$f":"IF(ISBLANK(D1056),\"\",VLOOKUP(D1056,Income!A:B,2))","v":""},"",null,"",""]
[null,null,{"$f":"IF(ISBLANK(B1057),\"\",VLOOKUP(B1057,Country!A:B,2))","v":""},null,{"$f":"IF(ISBLANK(D1057),\"\",VLOOKUP(D1057,Income!A:B,2))","v":""},"",null,"",""]
[null,null,{"$f":"IF(ISBLANK(B1058),\"\",VLOOKUP(B1058,Country!A:B,2))","v":""},null,{"$f":"IF(ISBLANK(D1058),\"\",VLOOKUP(D1058,Income!A:B,2))","v":""},"",null,"",""]
[null,null,{"$f":"IF(ISBLANK(B1059),\"\",VLOOKUP(B1059,Country!A:B,2))","v":""},null,{"$f":"IF(ISBLANK(D1059),\"\",VLOOKUP(D1059,Income!A:B,2))","v":""},"",null,"",""]
[null,null,{"$f":"IF(ISBLANK(B1060),\"\",VLOOKUP(B1060,Country!A:B,2))","v":""},null,{"$f":"IF(ISBLANK(D1060),\"\",VLOOKUP(D1060,Income!A:B,2))","v":""},"",null,"",""]
[null,null,{"$f":"IF(ISBLANK(B1061),\"\",VLOOKUP(B1061,Country!A:B,2))","v":""},null,{"$f":"IF(ISBLANK(D1061),\"\",VLOOKUP(D1061,Income!A:B,2))","v":""},"",null,"",""]
[null,null,{"$f":"IF(ISBLANK(B1062),\"\",VLOOKUP(B1062,Country!A:B,2))","v":""},null,{"$f":"IF(ISBLANK(D1062),\"\",VLOOKUP(D1062,Income!A:B,2))","v":""},"",null,"",""]
[null,null,{"$f":"IF(ISBLANK(B1063),\"\",VLOOKUP(B1063,Country!A:B,2))","v":""},null,{"$f":"IF(ISBLANK(D1063),\"\",VLOOKUP(D1063,Income!A:B,2))","v":""},"",null,"",""]
[null,null,{"$f":"IF(ISBLANK(B1064),\"\",VLOOKUP(B1064,Country!A:B,2))","v":""},null,{"$f":"IF(ISBLANK(D1064),\"\",VLOOKUP(D1064,Income!A:B,2))","v":""},"",null,"",""]
[null,null,{"$f":"IF(ISBLANK(B1065),\"\",VLOOKUP(B1065,Country!A:B,2))","v":""},null,{"$f":"IF(ISBLANK(D1065),\"\",VLOOKUP(D1065,Income!A:B,2))","v":""},"",null,"",""]
[null,null,{"$f":"IF(ISBLANK(B1066),\"\",VLOOKUP(B1066,Country!A:B,2))","v":""},null,{"$f":"IF(ISBLANK(D1066),\"\",VLOOKUP(D1066,Income!A:B,2))","v":""},"",null,"",""]
[null,null,{"$f":"IF(ISBLANK(B1067),\"\",VLOOKUP(B1067,Country!A:B,2))","v":""},null,{"$f":"IF(ISBLANK(D1067),\"\",VLOOKUP(D1067,Income!A:B,2))","v":""},"",null,"",""]
[null,null,{"$f":"IF(ISBLANK(B1068),\"\",VLOOKUP(B1068,Country!A:B,2))","v":""},null,{"$f":"IF(ISBLANK(D1068),\"\",VLOOKUP(D1068,Income!A:B,2))","v":""},"",null,"",""]
[null,null,{"$f":"IF(ISBLANK(B1069),\"\",VLOOKUP(B1069,Country!A:B,2))","v":""},null,{"$f":"IF(ISBLANK(D1069),\"\",VLOOKUP(D1069,Income!A:B,2))","v":""},"",null,"",""]
[null,null,{"$f":"IF(ISBLANK(B1070),\"\",VLOOKUP(B1070,Country!A:B,2))","v":""},null,{"$f":"IF(ISBLANK(D1070),\"\",VLOOKUP(D1070,Income!A:B,2))","v":""},"",null,"",""]
[null,null,{"$f":"IF(ISBLANK(B1071),\"\",VLOOKUP(B1071,Country!A:B,2))","v":""},null,{"$f":"IF(ISBLANK(D1071),\"\",VLOOKUP(D1071,Income!A:B,2))","v":""},{"$f":"IF(OR(C1071=\"\",E1071=\"\"),\"\",IF(ISNA(INDEX(RateRange,INDEX(RateRange,MATCH(E1071,IncomeTypes,0),MATCH(C1071,Countries,0)))),INDEX(RateRange,MATCH(E1071,IncomeTypes,0),MATCH(\"OTH\",Countries,0)),INDEX(RateRange,MATCH(E1071,IncomeTypes,0),MATCH(C1071,Countries,0))))","v":""},null,"",""]
[null,null,{"$f":"IF(ISBLANK(B1072),\"\",VLOOKUP(B1072,Country!A:B,2))","v":""},null,{"$f":"IF(ISBLANK(D1072),\"\",VLOOKUP(D1072,Income!A:B,2))","v":""},"",null,"",""]
[null,null,{"$f":"IF(ISBLANK(B1073),\"\",VLOOKUP(B1073,Country!A:B,2))","v":""},null,{"$f":"IF(ISBLANK(D1073),\"\",VLOOKUP(D1073,Income!A:B,2))","v":""},"",null,"",""]
[null,null,{"$f":"IF(ISBLANK(B1074),\"\",VLOOKUP(B1074,Country!A:B,2))","v":""},null,{"$f":"IF(ISBLANK(D1074),\"\",VLOOKUP(D1074,Income!A:B,2))","v":""},"",null,"",""]
[null,null,{"$f":"IF(ISBLANK(B1075),\"\",VLOOKUP(B1075,Country!A:B,2))","v":""},null,{"$f":"IF(ISBLANK(D1075),\"\",VLOOKUP(D1075,Income!A:B,2))","v":""},"",null,"",""]
[null,null,{"$f":"IF(ISBLANK(B1076),\"\",VLOOKUP(B1076,Country!A:B,2))","v":""},null,{"$f":"IF(ISBLANK(D1076),\"\",VLOOKUP(D1076,Income!A:B,2))","v":""},"",null,"",""]
[null,null,{"$f":"IF(ISBLANK(B1077),\"\",VLOOKUP(B1077,Country!A:B,2))","v":""},null,{"$f":"IF(ISBLANK(D1077),\"\",VLOOKUP(D1077,Income!A:B,2))","v":""},"",null,"",""]
[null,null,{"$f":"IF(ISBLANK(B1078),\"\",VLOOKUP(B1078,Country!A:B,2))","v":""},null,{"$f":"IF(ISBLANK(D1078),\"\",VLOOKUP(D1078,Income!A:B,2))","v":""},"",null,"",""]
[null,null,{"$f":"IF(ISBLANK(B1079),\"\",VLOOKUP(B1079,Country!A:B,2))","v":""},null,{"$f":"IF(ISBLANK(D1079),\"\",VLOOKUP(D1079,Income!A:B,2))","v":""},"",null,"",""]
[null,null,{"$f":"IF(ISBLANK(B1080),\"\",VLOOKUP(B1080,Country!A:B,2))","v":""},null,{"$f":"IF(ISBLANK(D1080),\"\",VLOOKUP(D1080,Income!A:B,2))","v":""},"",null,"",""]
[null,null,{"$f":"IF(ISBLANK(B1081),\"\",VLOOKUP(B1081,Country!A:B,2))","v":""},null,{"$f":"IF(ISBLANK(D1081),\"\",VLOOKUP(D1081,Income!A:B,2))","v":""},"",null,"",""]
[null,null,{"$f":"IF(ISBLANK(B1082),\"\",VLOOKUP(B1082,Country!A:B,2))","v":""},null,{"$f":"IF(ISBLANK(D1082),\"\",VLOOKUP(D1082,Income!A:B,2))","v":""},"",null,"",""]
[null,null,{"$f":"IF(ISBLANK(B1083),\"\",VLOOKUP(B1083,Country!A:B,2))","v":""},null,{"$f":"IF(ISBLANK(D1083),\"\",VLOOKUP(D1083,Income!A:B,2))","v":""},"",null,"",""]
[null,null,{"$f":"IF(ISBLANK(B1084),\"\",VLOOKUP(B1084,Country!A:B,2))","v":""},null,{"$f":"IF(ISBLANK(D1084),\"\",VLOOKUP(D1084,Income!A:B,2))","v":""},"",null,"",""]
[null,null,{"$f":"IF(ISBLANK(B1085),\"\",VLOOKUP(B1085,Country!A:B,2))","v":""},null,{"$f":"IF(ISBLANK(D1085),\"\",VLOOKUP(D1085,Income!A:B,2))","v":""},"",null,"",""]
[null,null,{"$f":"IF(ISBLANK(B1086),\"\",VLOOKUP(B1086,Country!A:B,2))","v":""},null,{"$f":"IF(ISBLANK(D1086),\"\",VLOOKUP(D1086,Income!A:B,2))","v":""},"",null,"",""]
[null,null,{"$f":"IF(ISBLANK(B1087),\"\",VLOOKUP(B1087,Country!A:B,2))","v":""},null,{"$f":"IF(ISBLANK(D1087),\"\",VLOOKUP(D1087,Income!A:B,2))","v":""},"",null,"",""]
[null,null,{"$f":"IF(ISBLANK(B1088),\"\",VLOOKUP(B1088,Country!A:B,2))","v":""},null,{"$f":"IF(ISBLANK(D1088),\"\",VLOOKUP(D1088,Income!A:B,2))","v":""},"",null,"",""]
[null,null,{"$f":"IF(ISBLANK(B1089),\"\",VLOOKUP(B1089,Country!A:B,2))","v":""},null,{"$f":"IF(ISBLANK(D1089),\"\",VLOOKUP(D1089,Income!A:B,2))","v":""},"",null,"",""]
[null,null,{"$f":"IF(ISBLANK(B1090),\"\",VLOOKUP(B1090,Country!A:B,2))","v":""},null,{"$f":"IF(ISBLANK(D1090),\"\",VLOOKUP(D1090,Income!A:B,2))","v":""},"",null,"",""]
[null,null,{"$f":"IF(ISBLANK(B1091),\"\",VLOOKUP(B1091,Country!A:B,2))","v":""},null,{"$f":"IF(ISBLANK(D1091),\"\",VLOOKUP(D1091,Income!A:B,2))","v":""},"",null,"",""]
[null,null,{"$f":"IF(ISBLANK(B1092),\"\",VLOOKUP(B1092,Country!A:B,2))","v":""},null,{"$f":"IF(ISBLANK(D1092),\"\",VLOOKUP(D1092,Income!A:B,2))","v":""},"",null,"",""]
[null,null,{"$f":"IF(ISBLANK(B1093),\"\",VLOOKUP(B1093,Country!A:B,2))","v":""},null,{"$f":"IF(ISBLANK(D1093),\"\",VLOOKUP(D1093,Income!A:B,2))","v":""},"",null,{"$f":"IF(F1093=\"\",\"\",ROUND(G1093*F1093,2))","v":""},""]
[null,null,{"$f":"IF(ISBLANK(B1094),\"\",VLOOKUP(B1094,Country!A:B,2))","v":""},null,{"$f":"IF(ISBLANK(D1094),\"\",VLOOKUP(D1094,Income!A:B,2))","v":""},"",null,"",""]
[null,null,{"$f":"IF(ISBLANK(B1095),\"\",VLOOKUP(B1095,Country!A:B,2))","v":""},null,{"$f":"IF(ISBLANK(D1095),\"\",VLOOKUP(D1095,Income!A:B,2))","v":""},"",null,"",""]
[null,null,{"$f":"IF(ISBLANK(B1096),\"\",VLOOKUP(B1096,Country!A:B,2))","v":""},null,{"$f":"IF(ISBLANK(D1096),\"\",VLOOKUP(D1096,Income!A:B,2))","v":""},"",null,"",""]
[null,null,{"$f":"IF(ISBLANK(B1097),\"\",VLOOKUP(B1097,Country!A:B,2))","v":""},null,{"$f":"IF(ISBLANK(D1097),\"\",VLOOKUP(D1097,Income!A:B,2))","v":""},"",null,"",""]
[null,null,{"$f":"IF(ISBLANK(B1098),\"\",VLOOKUP(B1098,Country!A:B,2))","v":""},null,{"$f":"IF(ISBLANK(D1098),\"\",VLOOKUP(D1098,Income!A:B,2))","v":""},"",null,"",""]
[null,null,{"$f":"IF(ISBLANK(B1099),\"\",VLOOKUP(B1099,Country!A:B,2))","v":""},null,{"$f":"IF(ISBLANK(D1099),\"\",VLOOKUP(D1099,Income!A:B,2))","v":""},"",null,"",""]
[null,null,{"$f":"IF(ISBLANK(B1100),\"\",VLOOKUP(B1100,Country!A:B,2))","v":""},null,{"$f":"IF(ISBLANK(D1100),\"\",VLOOKUP(D1100,Income!A:B,2))","v":""},"",null,"",""]
[null,null,{"$f":"IF(ISBLANK(B1101),\"\",VLOOKUP(B1101,Country!A:B,2))","v":""},null,{"$f":"IF(ISBLANK(D1101),\"\",VLOOKUP(D1101,Income!A:B,2))","v":""},"",null,"",""]
[null,null,{"$f":"IF(ISBLANK(B1102),\"\",VLOOKUP(B1102,Country!A:B,2))","v":""},null,{"$f":"IF(ISBLANK(D1102),\"\",VLOOKUP(D1102,Income!A:B,2))","v":""},"",null,"",""]
[null,null,{"$f":"IF(ISBLANK(B1103),\"\",VLOOKUP(B1103,Country!A:B,2))","v":""},null,{"$f":"IF(ISBLANK(D1103),\"\",VLOOKUP(D1103,Income!A:B,2))","v":""},"",null,"",""]
[null,null,{"$f":"IF(ISBLANK(B1104),\"\",VLOOKUP(B1104,Country!A:B,2))","v":""},null,{"$f":"IF(ISBLANK(D1104),\"\",VLOOKUP(D1104,Income!A:B,2))","v":""},"",null,"",""]
[null,null,{"$f":"IF(ISBLANK(B1105),\"\",VLOOKUP(B1105,Country!A:B,2))","v":""},null,{"$f":"IF(ISBLANK(D1105),\"\",VLOOKUP(D1105,Income!A:B,2))","v":""},"",null,"",""]
[null,null,{"$f":"IF(ISBLANK(B1106),\"\",VLOOKUP(B1106,Country!A:B,2))","v":""},null,{"$f":"IF(ISBLANK(D1106),\"\",VLOOKUP(D1106,Income!A:B,2))","v":""},"",null,"",""]
[null,null,{"$f":"IF(ISBLANK(B1107),\"\",VLOOKUP(B1107,Country!A:B,2))","v":""},null,{"$f":"IF(ISBLANK(D1107),\"\",VLOOKUP(D1107,Income!A:B,2))","v":""},"",null,"",""]
[null,null,{"$f":"IF(ISBLANK(B1108),\"\",VLOOKUP(B1108,Country!A:B,2))","v":""},null,{"$f":"IF(ISBLANK(D1108),\"\",VLOOKUP(D1108,Income!A:B,2))","v":""},"",null,"",""]
[null,null,{"$f":"IF(ISBLANK(B1109),\"\",VLOOKUP(B1109,Country!A:B,2))","v":""},null,{"$f":"IF(ISBLANK(D1109),\"\",VLOOKUP(D1109,Income!A:B,2))","v":""},"",null,"",""]
[null,null,{"$f":"IF(ISBLANK(B1110),\"\",VLOOKUP(B1110,Country!A:B,2))","v":""},null,{"$f":"IF(ISBLANK(D1110),\"\",VLOOKUP(D1110,Income!A:B,2))","v":""},"",null,"",""]
[null,null,{"$f":"IF(ISBLANK(B1111),\"\",VLOOKUP(B1111,Country!A:B,2))","v":""},null,{"$f":"IF(ISBLANK(D1111),\"\",VLOOKUP(D1111,Income!A:B,2))","v":""},"",null,"",{"$f":"IF(H1111=\"\",\"\",G1111-H1111)","v":""}]
[null,null,{"$f":"IF(ISBLANK(B1112),\"\",VLOOKUP(B1112,Country!A:B,2))","v":""},null,{"$f":"IF(ISBLANK(D1112),\"\",VLOOKUP(D1112,Income!A:B,2))","v":""},"",null,"",""]
[null,null,{"$f":"IF(ISBLANK(B1113),\"\",VLOOKUP(B1113,Country!A:B,2))","v":""},null,{"$f":"IF(ISBLANK(D1113),\"\",VLOOKUP(D1113,Income!A:B,2))","v":""},"",null,"",""]
[null,null,{"$f":"IF(ISBLANK(B1114),\"\",VLOOKUP(B1114,Country!A:B,2))","v":""},null,{"$f":"IF(ISBLANK(D1114),\"\",VLOOKUP(D1114,Income!A:B,2))","v":""},"",null,"",""]
[null,null,{"$f":"IF(ISBLANK(B1115),\"\",VLOOKUP(B1115,Country!A:B,2))","v":""},null,{"$f":"IF(ISBLANK(D1115),\"\",VLOOKUP(D1115,Income!A:B,2))","v":""},"",null,"",""]
[null,null,{"$f":"IF(ISBLANK(B1116),\"\",VLOOKUP(B1116,Country!A:B,2))","v":""},null,{"$f":"IF(ISBLANK(D1116),\"\",VLOOKUP(D1116,Income!A:B,2))","v":""},"",null,"",""]
[null,null,{"$f":"IF(ISBLANK(B1117),\"\",VLOOKUP(B1117,Country!A:B,2))","v":""},null,{"$f":"IF(ISBLANK(D1117),\"\",VLOOKUP(D1117,Income!A:B,2))","v":""},"",null,"",""]
[null,null,{"$f":"IF(ISBLANK(B1118),\"\",VLOOKUP(B1118,Country!A:B,2))","v":""},null,{"$f":"IF(ISBLANK(D1118),\"\",VLOOKUP(D1118,Income!A:B,2))","v":""},"",null,"",""]
[null,null,{"$f":"IF(ISBLANK(B1119),\"\",VLOOKUP(B1119,Country!A:B,2))","v":""},null,{"$f":"IF(ISBLANK(D1119),\"\",VLOOKUP(D1119,Income!A:B,2))","v":""},"",null,"",""]
[null,null,{"$f":"IF(ISBLANK(B1120),\"\",VLOOKUP(B1120,Country!A:B,2))","v":""},null,{"$f":"IF(ISBLANK(D1120),\"\",VLOOKUP(D1120,Income!A:B,2))","v":""},"",null,"",""]
[null,null,{"$f":"IF(ISBLANK(B1121),\"\",VLOOKUP(B1121,Country!A:B,2))","v":""},null,{"$f":"IF(ISBLANK(D1121),\"\",VLOOKUP(D1121,Income!A:B,2))","v":""},"",null,"",""]
[null,null,{"$f":"IF(ISBLANK(B1122),\"\",VLOOKUP(B1122,Country!A:B,2))","v":""},null,{"$f":"IF(ISBLANK(D1122),\"\",VLOOKUP(D1122,Income!A:B,2))","v":""},"",null,"",""]
[null,null,{"$f":"IF(ISBLANK(B1123),\"\",VLOOKUP(B1123,Country!A:B,2))","v":""},null,{"$f":"IF(ISBLANK(D1123),\"\",VLOOKUP(D1123,Income!A:B,2))","v":""},"",null,"",""]
[null,null,{"$f":"IF(ISBLANK(B1124),\"\",VLOOKUP(B1124,Country!A:B,2))","v":""},null,{"$f":"IF(ISBLANK(D1124),\"\",VLOOKUP(D1124,Income!A:B,2))","v":""},"",null,"",""]
[null,null,{"$f":"IF(ISBLANK(B1125),\"\",VLOOKUP(B1125,Country!A:B,2))","v":""},null,{"$f":"IF(ISBLANK(D1125),\"\",VLOOKUP(D1125,Income!A:B,2))","v":""},"",null,"",""]
[null,null,{"$f":"IF(ISBLANK(B1126),\"\",VLOOKUP(B1126,Country!A:B,2))","v":""},null,{"$f":"IF(ISBLANK(D1126),\"\",VLOOKUP(D1126,Income!A:B,2))","v":""},"",null,"",""]
[null,null,{"$f":"IF(ISBLANK(B1127),\"\",VLOOKUP(B1127,Country!A:B,2))","v":""},null,{"$f":"IF(ISBLANK(D1127),\"\",VLOOKUP(D1127,Income!A:B,2))","v":""},"",null,"",""]
[null,null,{"$f":"IF(ISBLANK(B1128),\"\",VLOOKUP(B1128,Country!A:B,2))","v":""},null,{"$f":"IF(ISBLANK(D1128),\"\",VLOOKUP(D1128,Income!A:B,2))","v":""},"",null,"",""]
[null,null,{"$f":"IF(ISBLANK(B1129),\"\",VLOOKUP(B1129,Country!A:B,2))","v":""},null,{"$f":"IF(ISBLANK(D1129),\"\",VLOOKUP(D1129,Income!A:B,2))","v":""},"",null,"",""]
[null,null,{"$f":"IF(ISBLANK(B1130),\"\",VLOOKUP(B1130,Country!A:B,2))","v":""},null,{"$f":"IF(ISBLANK(D1130),\"\",VLOOKUP(D1130,Income!A:B,2))","v":""},"",null,"",""]
[null,null,{"$f":"IF(ISBLANK(B1131),\"\",VLOOKUP(B1131,Country!A:B,2))","v":""},null,{"$f":"IF(ISBLANK(D1131),\"\",VLOOKUP(D1131,Income!A:B,2))","v":""},"",null,"",""]
[null,null,{"$f":"IF(ISBLANK(B1132),\"\",VLOOKUP(B1132,Country!A:B,2))","v":""},null,{"$f":"IF(ISBLANK(D1132),\"\",VLOOKUP(D1132,Income!A:B,2))","v":""},"",null,"",""]
[null,null,{"$f":"IF(ISBLANK(B1133),\"\",VLOOKUP(B1133,Country!A:B,2))","v":""},null,{"$f":"IF(ISBLANK(D1133),\"\",VLOOKUP(D1133,Income!A:B,2))","v":""},"",null,"",""]
[null,null,{"$f":"IF(ISBLANK(B1134),\"\",VLOOKUP(B1134,Country!A:B,2))","v":""},null,{"$f":"IF(ISBLANK(D1134),\"\",VLOOKUP(D1134,Income!A:B,2))","v":""},"",null,"",""]
[null,null,{"$f":"IF(ISBLANK(B1135),\"\",VLOOKUP(B1135,Country!A:B,2))","v":""},null,{"$f":"IF(ISBLANK(D1135),\"\",VLOOKUP(D1135,Income!A:B,2))","v":""},{"$f":"IF(OR(C1135=\"\",E1135=\"\"),\"\",IF(ISNA(INDEX(RateRange,INDEX(RateRange,MATCH(E1135,IncomeTypes,0),MATCH(C1135,Countries,0)))),INDEX(RateRange,MATCH(E1135,IncomeTypes,0),MATCH(\"OTH\",Countries,0)),INDEX(RateRange,MATCH(E1135,IncomeTypes,0),MATCH(C1135,Countries,0))))","v":""},null,"",""]
[null,null,{"$f":"IF(ISBLANK(B1136),\"\",VLOOKUP(B1136,Country!A:B,2))","v":""},null,{"$f":"IF(ISBLANK(D1136),\"\",VLOOKUP(D1136,Income!A:B,2))","v":""},"",null,"",""]
[null,null,{"$f":"IF(ISBLANK(B1137),\"\",VLOOKUP(B1137,Country!A:B,2))","v":""},null,{"$f":"IF(ISBLANK(D1137),\"\",VLOOKUP(D1137,Income!A:B,2))","v":""},"",null,"",""]
[null,null,{"$f":"IF(ISBLANK(B1138),\"\",VLOOKUP(B1138,Country!A:B,2))","v":""},null,{"$f":"IF(ISBLANK(D1138),\"\",VLOOKUP(D1138,Income!A:B,2))","v":""},"",null,"",""]
[null,null,{"$f":"IF(ISBLANK(B1139),\"\",VLOOKUP(B1139,Country!A:B,2))","v":""},null,{"$f":"IF(ISBLANK(D1139),\"\",VLOOKUP(D1139,Income!A:B,2))","v":""},"",null,"",""]
[null,null,{"$f":"IF(ISBLANK(B1140),\"\",VLOOKUP(B1140,Country!A:B,2))","v":""},null,{"$f":"IF(ISBLANK(D1140),\"\",VLOOKUP(D1140,Income!A:B,2))","v":""},"",null,"",""]
[null,null,{"$f":"IF(ISBLANK(B1141),\"\",VLOOKUP(B1141,Country!A:B,2))","v":""},null,{"$f":"IF(ISBLANK(D1141),\"\",VLOOKUP(D1141,Income!A:B,2))","v":""},"",null,"",""]
[null,null,{"$f":"IF(ISBLANK(B1142),\"\",VLOOKUP(B1142,Country!A:B,2))","v":""},null,{"$f":"IF(ISBLANK(D1142),\"\",VLOOKUP(D1142,Income!A:B,2))","v":""},"",null,"",""]
[null,null,{"$f":"IF(ISBLANK(B1143),\"\",VLOOKUP(B1143,Country!A:B,2))","v":""},null,{"$f":"IF(ISBLANK(D1143),\"\",VLOOKUP(D1143,Income!A:B,2))","v":""},"",null,"",""]
[null,null,{"$f":"IF(ISBLANK(B1144),\"\",VLOOKUP(B1144,Country!A:B,2))","v":""},null,{"$f":"IF(ISBLANK(D1144),\"\",VLOOKUP(D1144,Income!A:B,2))","v":""},"",null,"",""]
[null,null,{"$f":"IF(ISBLANK(B1145),\"\",VLOOKUP(B1145,Country!A:B,2))","v":""},null,{"$f":"IF(ISBLANK(D1145),\"\",VLOOKUP(D1145,Income!A:B,2))","v":""},"",null,"",""]
[null,null,{"$f":"IF(ISBLANK(B1146),\"\",VLOOKUP(B1146,Country!A:B,2))","v":""},null,{"$f":"IF(ISBLANK(D1146),\"\",VLOOKUP(D1146,Income!A:B,2))","v":""},"",null,"",""]
[null,null,{"$f":"IF(ISBLANK(B1147),\"\",VLOOKUP(B1147,Country!A:B,2))","v":""},null,{"$f":"IF(ISBLANK(D1147),\"\",VLOOKUP(D1147,Income!A:B,2))","v":""},"",null,"",""]
[null,null,{"$f":"IF(ISBLANK(B1148),\"\",VLOOKUP(B1148,Country!A:B,2))","v":""},null,{"$f":"IF(ISBLANK(D1148),\"\",VLOOKUP(D1148,Income!A:B,2))","v":""},"",null,"",""]
[null,null,{"$f":"IF(ISBLANK(B1149),\"\",VLOOKUP(B1149,Country!A:B,2))","v":""},null,{"$f":"IF(ISBLANK(D1149),\"\",VLOOKUP(D1149,Income!A:B,2))","v":""},"",null,"",""]
[null,null,{"$f":"IF(ISBLANK(B1150),\"\",VLOOKUP(B1150,Country!A:B,2))","v":""},null,{"$f":"IF(ISBLANK(D1150),\"\",VLOOKUP(D1150,Income!A:B,2))","v":""},"",null,"",""]
[null,null,{"$f":"IF(ISBLANK(B1151),\"\",VLOOKUP(B1151,Country!A:B,2))","v":""},null,{"$f":"IF(ISBLANK(D1151),\"\",VLOOKUP(D1151,Income!A:B,2))","v":""},"",null,"",""]
[null,null,{"$f":"IF(ISBLANK(B1152),\"\",VLOOKUP(B1152,Country!A:B,2))","v":""},null,{"$f":"IF(ISBLANK(D1152),\"\",VLOOKUP(D1152,Income!A:B,2))","v":""},"",null,"",""]
[null,null,{"$f":"IF(ISBLANK(B1153),\"\",VLOOKUP(B1153,Country!A:B,2))","v":""},null,{"$f":"IF(ISBLANK(D1153),\"\",VLOOKUP(D1153,Income!A:B,2))","v":""},"",null,"",""]
[null,null,{"$f":"IF(ISBLANK(B1154),\"\",VLOOKUP(B1154,Country!A:B,2))","v":""},null,{"$f":"IF(ISBLANK(D1154),\"\",VLOOKUP(D1154,Income!A:B,2))","v":""},"",null,"",""]
[null,null,{"$f":"IF(ISBLANK(B1155),\"\",VLOOKUP(B1155,Country!A:B,2))","v":""},null,{"$f":"IF(ISBLANK(D1155),\"\",VLOOKUP(D1155,Income!A:B,2))","v":""},"",null,"",""]
[null,null,{"$f":"IF(ISBLANK(B1156),\"\",VLOOKUP(B1156,Country!A:B,2))","v":""},null,{"$f":"IF(ISBLANK(D1156),\"\",VLOOKUP(D1156,Income!A:B,2))","v":""},"",null,"",""]
[null,null,{"$f":"IF(ISBLANK(B1157),\"\",VLOOKUP(B1157,Country!A:B,2))","v":""},null,{"$f":"IF(ISBLANK(D1157),\"\",VLOOKUP(D1157,Income!A:B,2))","v":""},"",null,{"$f":"IF(F1157=\"\",\"\",ROUND(G1157*F1157,2))","v":""},""]
[null,null,{"$f":"IF(ISBLANK(B1158),\"\",VLOOKUP(B1158,Country!A:B,2))","v":""},null,{"$f":"IF(ISBLANK(D1158),\"\",VLOOKUP(D1158,Income!A:B,2))","v":""},"",null,"",""]
[null,null,{"$f":"IF(ISBLANK(B1159),\"\",VLOOKUP(B1159,Country!A:B,2))","v":""},null,{"$f":"IF(ISBLANK(D1159),\"\",VLOOKUP(D1159,Income!A:B,2))","v":""},"",null,"",""]
[null,null,{"$f":"IF(ISBLANK(B1160),\"\",VLOOKUP(B1160,Country!A:B,2))","v":""},null,{"$f":"IF(ISBLANK(D1160),\"\",VLOOKUP(D1160,Income!A:B,2))","v":""},"",null,"",""]
[null,null,{"$f":"IF(ISBLANK(B1161),\"\",VLOOKUP(B1161,Country!A:B,2))","v":""},null,{"$f":"IF(ISBLANK(D1161),\"\",VLOOKUP(D1161,Income!A:B,2))","v":""},"",null,"",""]
[null,null,{"$f":"IF(ISBLANK(B1162),\"\",VLOOKUP(B1162,Country!A:B,2))","v":""},null,{"$f":"IF(ISBLANK(D1162),\"\",VLOOKUP(D1162,Income!A:B,2))","v":""},"",null,"",""]
[null,null,{"$f":"IF(ISBLANK(B1163),\"\",VLOOKUP(B1163,Country!A:B,2))","v":""},null,{"$f":"IF(ISBLANK(D1163),\"\",VLOOKUP(D1163,Income!A:B,2))","v":""},"",null,"",""]
[null,null,{"$f":"IF(ISBLANK(B1164),\"\",VLOOKUP(B1164,Country!A:B,2))","v":""},null,{"$f":"IF(ISBLANK(D1164),\"\",VLOOKUP(D1164,Income!A:B,2))","v":""},"",null,"",""]
[null,null,{"$f":"IF(ISBLANK(B1165),\"\",VLOOKUP(B1165,Country!A:B,2))","v":""},null,{"$f":"IF(ISBLANK(D1165),\"\",VLOOKUP(D1165,Income!A:B,2))","v":""},"",null,"",""]
[null,null,{"$f":"IF(ISBLANK(B1166),\"\",VLOOKUP(B1166,Country!A:B,2))","v":""},null,{"$f":"IF(ISBLANK(D1166),\"\",VLOOKUP(D1166,Income!A:B,2))","v":""},"",null,"",""]
[null,null,{"$f":"IF(ISBLANK(B1167),\"\",VLOOKUP(B1167,Country!A:B,2))","v":""},null,{"$f":"IF(ISBLANK(D1167),\"\",VLOOKUP(D1167,Income!A:B,2))","v":""},"",null,"",""]
[null,null,{"$f":"IF(ISBLANK(B1168),\"\",VLOOKUP(B1168,Country!A:B,2))","v":""},null,{"$f":"IF(ISBLANK(D1168),\"\",VLOOKUP(D1168,Income!A:B,2))","v":""},"",null,"",""]
[null,null,{"$f":"IF(ISBLANK(B1169),\"\",VLOOKUP(B1169,Country!A:B,2))","v":""},null,{"$f":"IF(ISBLANK(D1169),\"\",VLOOKUP(D1169,Income!A:B,2))","v":""},"",null,"",""]
[null,null,{"$f":"IF(ISBLANK(B1170),\"\",VLOOKUP(B1170,Country!A:B,2))","v":""},null,{"$f":"IF(ISBLANK(D1170),\"\",VLOOKUP(D1170,Income!A:B,2))","v":""},"",null,"",""]
[null,null,{"$f":"IF(ISBLANK(B1171),\"\",VLOOKUP(B1171,Country!A:B,2))","v":""},null,{"$f":"IF(ISBLANK(D1171),\"\",VLOOKUP(D1171,Income!A:B,2))","v":""},"",null,"",""]
[null,null,{"$f":"IF(ISBLANK(B1172),\"\",VLOOKUP(B1172,Country!A:B,2))","v":""},null,{"$f":"IF(ISBLANK(D1172),\"\",VLOOKUP(D1172,Income!A:B,2))","v":""},"",null,"",""]
[null,null,{"$f":"IF(ISBLANK(B1173),\"\",VLOOKUP(B1173,Country!A:B,2))","v":""},null,{"$f":"IF(ISBLANK(D1173),\"\",VLOOKUP(D1173,Income!A:B,2))","v":""},"",null,"",""]
[null,null,{"$f":"IF(ISBLANK(B1174),\"\",VLOOKUP(B1174,Country!A:B,2))","v":""},null,{"$f":"IF(ISBLANK(D1174),\"\",VLOOKUP(D1174,Income!A:B,2))","v":""},"",null,"",""]
[null,null,{"$f":"IF(ISBLANK(B1175),\"\",VLOOKUP(B1175,Country!A:B,2))","v":""},null,{"$f":"IF(ISBLANK(D1175),\"\",VLOOKUP(D1175,Income!A:B,2))","v":""},"",null,"",{"$f":"IF(H1175=\"\",\"\",G1175-H1175)","v":""}]
[null,null,{"$f":"IF(ISBLANK(B1176),\"\",VLOOKUP(B1176,Country!A:B,2))","v":""},null,{"$f":"IF(ISBLANK(D1176),\"\",VLOOKUP(D1176,Income!A:B,2))","v":""},"",null,"",""]
[null,null,{"$f":"IF(ISBLANK(B1177),\"\",VLOOKUP(B1177,Country!A:B,2))","v":""},null,{"$f":"IF(ISBLANK(D1177),\"\",VLOOKUP(D1177,Income!A:B,2))","v":""},"",null,"",""]
[null,null,{"$f":"IF(ISBLANK(B1178),\"\",VLOOKUP(B1178,Country!A:B,2))","v":""},null,{"$f":"IF(ISBLANK(D1178),\"\",VLOOKUP(D1178,Income!A:B,2))","v":""},"",null,"",""]
[null,null,{"$f":"IF(ISBLANK(B1179),\"\",VLOOKUP(B1179,Country!A:B,2))","v":""},null,{"$f":"IF(ISBLANK(D1179),\"\",VLOOKUP(D1179,Income!A:B,2))","v":""},"",null,"",""]
[null,null,{"$f":"IF(ISBLANK(B1180),\"\",VLOOKUP(B1180,Country!A:B,2))","v":""},null,{"$f":"IF(ISBLANK(D1180),\"\",VLOOKUP(D1180,Income!A:B,2))","v":""},"",null,"",""]
[null,null,{"$f":"IF(ISBLANK(B1181),\"\",VLOOKUP(B1181,Country!A:B,2))","v":""},null,{"$f":"IF(ISBLANK(D1181),\"\",VLOOKUP(D1181,Income!A:B,2))","v":""},"",null,"",""]
[null,null,{"$f":"IF(ISBLANK(B1182),\"\",VLOOKUP(B1182,Country!A:B,2))","v":""},null,{"$f":"IF(ISBLANK(D1182),\"\",VLOOKUP(D1182,Income!A:B,2))","v":""},"",null,"",""]
[null,null,{"$f":"IF(ISBLANK(B1183),\"\",VLOOKUP(B1183,Country!A:B,2))","v":""},null,{"$f":"IF(ISBLANK(D1183),\"\",VLOOKUP(D1183,Income!A:B,2))","v":""},"",null,"",""]
[null,null,{"$f":"IF(ISBLANK(B1184),\"\",VLOOKUP(B1184,Country!A:B,2))","v":""},null,{"$f":"IF(ISBLANK(D1184),\"\",VLOOKUP(D1184,Income!A:B,2))","v":""},"",null,"",""]
[null,null,{"$f":"IF(ISBLANK(B1185),\"\",VLOOKUP(B1185,Country!A:B,2))","v":""},null,{"$f":"IF(ISBLANK(D1185),\"\",VLOOKUP(D1185,Income!A:B,2))","v":""},"",null,"",""]
[null,null,{"$f":"IF(ISBLANK(B1186),\"\",VLOOKUP(B1186,Country!A:B,2))","v":""},null,{"$f":"IF(ISBLANK(D1186),\"\",VLOOKUP(D1186,Income!A:B,2))","v":""},"",null,"",""]
[null,null,{"$f":"IF(ISBLANK(B1187),\"\",VLOOKUP(B1187,Country!A:B,2))","v":""},null,{"$f":"IF(ISBLANK(D1187),\"\",VLOOKUP(D1187,Income!A:B,2))","v":""},"",null,"",""]
[null,null,{"$f":"IF(ISBLANK(B1188),\"\",VLOOKUP(B1188,Country!A:B,2))","v":""},null,{"$f":"IF(ISBLANK(D1188),\"\",VLOOKUP(D1188,Income!A:B,2))","v":""},"",null,"",""]
[null,null,{"$f":"IF(ISBLANK(B1189),\"\",VLOOKUP(B1189,Country!A:B,2))","v":""},null,{"$f":"IF(ISBLANK(D1189),\"\",VLOOKUP(D1189,Income!A:B,2))","v":""},"",null,"",""]
[null,null,{"$f":"IF(ISBLANK(B1190),\"\",VLOOKUP(B1190,Country!A:B,2))","v":""},null,{"$f":"IF(ISBLANK(D1190),\"\",VLOOKUP(D1190,Income!A:B,2))","v":""},"",null,"",""]
[null,null,{"$f":"IF(ISBLANK(B1191),\"\",VLOOKUP(B1191,Country!A:B,2))","v":""},null,{"$f":"IF(ISBLANK(D1191),\"\",VLOOKUP(D1191,Income!A:B,2))","v":""},"",null,"",""]
[null,null,{"$f":"IF(ISBLANK(B1192),\"\",VLOOKUP(B1192,Country!A:B,2))","v":""},null,{"$f":"IF(ISBLANK(D1192),\"\",VLOOKUP(D1192,Income!A:B,2))","v":""},"",null,"",""]
[null,null,{"$f":"IF(ISBLANK(B1193),\"\",VLOOKUP(B1193,Country!A:B,2))","v":""},null,{"$f":"IF(ISBLANK(D1193),\"\",VLOOKUP(D1193,Income!A:B,2))","v":""},"",null,"",""]
[null,null,{"$f":"IF(ISBLANK(B1194),\"\",VLOOKUP(B1194,Country!A:B,2))","v":""},null,{"$f":"IF(ISBLANK(D1194),\"\",VLOOKUP(D1194,Income!A:B,2))","v":""},"",null,"",""]
[null,null,{"$f":"IF(ISBLANK(B1195),\"\",VLOOKUP(B1195,Country!A:B,2))","v":""},null,{"$f":"IF(ISBLANK(D1195),\"\",VLOOKUP(D1195,Income!A:B,2))","v":""},"",null,"",""]
[null,null,{"$f":"IF(ISBLANK(B1196),\"\",VLOOKUP(B1196,Country!A:B,2))","v":""},null,{"$f":"IF(ISBLANK(D1196),\"\",VLOOKUP(D1196,Income!A:B,2))","v":""},"",null,"",""]
[null,null,{"$f":"IF(ISBLANK(B1197),\"\",VLOOKUP(B1197,Country!A:B,2))","v":""},null,{"$f":"IF(ISBLANK(D1197),\"\",VLOOKUP(D1197,Income!A:B,2))","v":""},"",null,"",""]
[null,null,{"$f":"IF(ISBLANK(B1198),\"\",VLOOKUP(B1198,Country!A:B,2))","v":""},null,{"$f":"IF(ISBLANK(D1198),\"\",VLOOKUP(D1198,Income!A:B,2))","v":""},"",null,"",""]
[null,null,{"$f":"IF(ISBLANK(B1199),\"\",VLOOKUP(B1199,Country!A:B,2))","v":""},null,{"$f":"IF(ISBLANK(D1199),\"\",VLOOKUP(D1199,Income!A:B,2))","v":""},{"$f":"IF(OR(C1199=\"\",E1199=\"\"),\"\",IF(ISNA(INDEX(RateRange,INDEX(RateRange,MATCH(E1199,IncomeTypes,0),MATCH(C1199,Countries,0)))),INDEX(RateRange,MATCH(E1199,IncomeTypes,0),MATCH(\"OTH\",Countries,0)),INDEX(RateRange,MATCH(E1199,IncomeTypes,0),MATCH(C1199,Countries,0))))","v":""},null,"",""]
[null,null,{"$f":"IF(ISBLANK(B1200),\"\",VLOOKUP(B1200,Country!A:B,2))","v":""},null,{"$f":"IF(ISBLANK(D1200),\"\",VLOOKUP(D1200,Income!A:B,2))","v":""},"",null,"",""]
[null,null,{"$f":"IF(ISBLANK(B1201),\"\",VLOOKUP(B1201,Country!A:B,2))","v":""},null,{"$f":"IF(ISBLANK(D1201),\"\",VLOOKUP(D1201,Income!A:B,2))","v":""},"",null,"",""]
[null,null,{"$f":"IF(ISBLANK(B1202),\"\",VLOOKUP(B1202,Country!A:B,2))","v":""},null,{"$f":"IF(ISBLANK(D1202),\"\",VLOOKUP(D1202,Income!A:B,2))","v":""},"",null,"",""]
[null,null,{"$f":"IF(ISBLANK(B1203),\"\",VLOOKUP(B1203,Country!A:B,2))","v":""},null,{"$f":"IF(ISBLANK(D1203),\"\",VLOOKUP(D1203,Income!A:B,2))","v":""},"",null,"",""]
[null,null,{"$f":"IF(ISBLANK(B1204),\"\",VLOOKUP(B1204,Country!A:B,2))","v":""},null,{"$f":"IF(ISBLANK(D1204),\"\",VLOOKUP(D1204,Income!A:B,2))","v":""},"",null,"",""]
[null,null,{"$f":"IF(ISBLANK(B1205),\"\",VLOOKUP(B1205,Country!A:B,2))","v":""},null,{"$f":"IF(ISBLANK(D1205),\"\",VLOOKUP(D1205,Income!A:B,2))","v":""},"",null,"",""]
[null,null,{"$f":"IF(ISBLANK(B1206),\"\",VLOOKUP(B1206,Country!A:B,2))","v":""},null,{"$f":"IF(ISBLANK(D1206),\"\",VLOOKUP(D1206,Income!A:B,2))","v":""},"",null,"",""]
[null,null,{"$f":"IF(ISBLANK(B1207),\"\",VLOOKUP(B1207,Country!A:B,2))","v":""},null,{"$f":"IF(ISBLANK(D1207),\"\",VLOOKUP(D1207,Income!A:B,2))","v":""},"",null,"",""]
[null,null,{"$f":"IF(ISBLANK(B1208),\"\",VLOOKUP(B1208,Country!A:B,2))","v":""},null,{"$f":"IF(ISBLANK(D1208),\"\",VLOOKUP(D1208,Income!A:B,2))","v":""},"",null,"",""]
[null,null,{"$f":"IF(ISBLANK(B1209),\"\",VLOOKUP(B1209,Country!A:B,2))","v":""},null,{"$f":"IF(ISBLANK(D1209),\"\",VLOOKUP(D1209,Income!A:B,2))","v":""},"",null,"",""]
[null,null,{"$f":"IF(ISBLANK(B1210),\"\",VLOOKUP(B1210,Country!A:B,2))","v":""},null,{"$f":"IF(ISBLANK(D1210),\"\",VLOOKUP(D1210,Income!A:B,2))","v":""},"",null,"",""]
[null,null,{"$f":"IF(ISBLANK(B1211),\"\",VLOOKUP(B1211,Country!A:B,2))","v":""},null,{"$f":"IF(ISBLANK(D1211),\"\",VLOOKUP(D1211,Income!A:B,2))","v":""},"",null,"",""]
[null,null,{"$f":"IF(ISBLANK(B1212),\"\",VLOOKUP(B1212,Country!A:B,2))","v":""},null,{"$f":"IF(ISBLANK(D1212),\"\",VLOOKUP(D1212,Income!A:B,2))","v":""},"",null,"",""]
[null,null,{"$f":"IF(ISBLANK(B1213),\"\",VLOOKUP(B1213,Country!A:B,2))","v":""},null,{"$f":"IF(ISBLANK(D1213),\"\",VLOOKUP(D1213,Income!A:B,2))","v":""},"",null,"",""]
[null,null,{"$f":"IF(ISBLANK(B1214),\"\",VLOOKUP(B1214,Country!A:B,2))","v":""},null,{"$f":"IF(ISBLANK(D1214),\"\",VLOOKUP(D1214,Income!A:B,2))","v":""},"",null,"",""]
[null,null,{"$f":"IF(ISBLANK(B1215),\"\",VLOOKUP(B1215,Country!A:B,2))","v":""},null,{"$f":"IF(ISBLANK(D1215),\"\",VLOOKUP(D1215,Income!A:B,2))","v":""},"",null,"",""]
[null,null,{"$f":"IF(ISBLANK(B1216),\"\",VLOOKUP(B1216,Country!A:B,2))","v":""},null,{"$f":"IF(ISBLANK(D1216),\"\",VLOOKUP(D1216,Income!A:B,2))","v":""},"",null,"",""]
[null,null,{"$f":"IF(ISBLANK(B1217),\"\",VLOOKUP(B1217,Country!A:B,2))","v":""},null,{"$f":"IF(ISBLANK(D1217),\"\",VLOOKUP(D1217,Income!A:B,2))","v":""},"",null,"",""]
[null,null,{"$f":"IF(ISBLANK(B1218),\"\",VLOOKUP(B1218,Country!A:B,2))","v":""},null,{"$f":"IF(ISBLANK(D1218),\"\",VLOOKUP(D1218,Income!A:B,2))","v":""},"",null,"",""]
[null,null,{"$f":"IF(ISBLANK(B1219),\"\",VLOOKUP(B1219,Country!A:B,2))","v":""},null,{"$f":"IF(ISBLANK(D1219),\"\",VLOOKUP(D1219,Income!A:B,2))","v":""},"",null,"",""]
[null,null,{"$f":"IF(ISBLANK(B1220),\"\",VLOOKUP(B1220,Country!A:B,2))","v":""},null,{"$f":"IF(ISBLANK(D1220),\"\",VLOOKUP(D1220,Income!A:B,2))","v":""},"",null,"",""]
[null,null,{"$f":"IF(ISBLANK(B1221),\"\",VLOOKUP(B1221,Country!A:B,2))","v":""},null,{"$f":"IF(ISBLANK(D1221),\"\",VLOOKUP(D1221,Income!A:B,2))","v":""},"",null,{"$f":"IF(F1221=\"\",\"\",ROUND(G1221*F1221,2))","v":""},""]
[null,null,{"$f":"IF(ISBLANK(B1222),\"\",VLOOKUP(B1222,Country!A:B,2))","v":""},null,{"$f":"IF(ISBLANK(D1222),\"\",VLOOKUP(D1222,Income!A:B,2))","v":""},"",null,"",""]
[null,null,{"$f":"IF(ISBLANK(B1223),\"\",VLOOKUP(B1223,Country!A:B,2))","v":""},null,{"$f":"IF(ISBLANK(D1223),\"\",VLOOKUP(D1223,Income!A:B,2))","v":""},"",null,"",""]
[null,null,{"$f":"IF(ISBLANK(B1224),\"\",VLOOKUP(B1224,Country!A:B,2))","v":""},null,{"$f":"IF(ISBLANK(D1224),\"\",VLOOKUP(D1224,Income!A:B,2))","v":""},"",null,"",""]
[null,null,{"$f":"IF(ISBLANK(B1225),\"\",VLOOKUP(B1225,Country!A:B,2))","v":""},null,{"$f":"IF(ISBLANK(D1225),\"\",VLOOKUP(D1225,Income!A:B,2))","v":""},"",null,"",""]
[null,null,{"$f":"IF(ISBLANK(B1226),\"\",VLOOKUP(B1226,Country!A:B,2))","v":""},null,{"$f":"IF(ISBLANK(D1226),\"\",VLOOKUP(D1226,Income!A:B,2))","v":""},"",null,"",""]
[null,null,{"$f":"IF(ISBLANK(B1227),\"\",VLOOKUP(B1227,Country!A:B,2))","v":""},null,{"$f":"IF(ISBLANK(D1227),\"\",VLOOKUP(D1227,Income!A:B,2))","v":""},"",null,"",""]
[null,null,{"$f":"IF(ISBLANK(B1228),\"\",VLOOKUP(B1228,Country!A:B,2))","v":""},null,{"$f":"IF(ISBLANK(D1228),\"\",VLOOKUP(D1228,Income!A:B,2))","v":""},"",null,"",""]
[null,null,{"$f":"IF(ISBLANK(B1229),\"\",VLOOKUP(B1229,Country!A:B,2))","v":""},null,{"$f":"IF(ISBLANK(D1229),\"\",VLOOKUP(D1229,Income!A:B,2))","v":""},"",null,"",""]
[null,null,{"$f":"IF(ISBLANK(B1230),\"\",VLOOKUP(B1230,Country!A:B,2))","v":""},null,{"$f":"IF(ISBLANK(D1230),\"\",VLOOKUP(D1230,Income!A:B,2))","v":""},"",null,"",""]
[null,null,{"$f":"IF(ISBLANK(B1231),\"\",VLOOKUP(B1231,Country!A:B,2))","v":""},null,{"$f":"IF(ISBLANK(D1231),\"\",VLOOKUP(D1231,Income!A:B,2))","v":""},"",null,"",""]
[null,null,{"$f":"IF(ISBLANK(B1232),\"\",VLOOKUP(B1232,Country!A:B,2))","v":""},null,{"$f":"IF(ISBLANK(D1232),\"\",VLOOKUP(D1232,Income!A:B,2))","v":""},"",null,"",""]
[null,null,{"$f":"IF(ISBLANK(B1233),\"\",VLOOKUP(B1233,Country!A:B,2))","v":""},null,{"$f":"IF(ISBLANK(D1233),\"\",VLOOKUP(D1233,Income!A:B,2))","v":""},"",null,"",""]
[null,null,{"$f":"IF(ISBLANK(B1234),\"\",VLOOKUP(B1234,Country!A:B,2))","v":""},null,{"$f":"IF(ISBLANK(D1234),\"\",VLOOKUP(D1234,Income!A:B,2))","v":""},"",null,"",""]
[null,null,{"$f":"IF(ISBLANK(B1235),\"\",VLOOKUP(B1235,Country!A:B,2))","v":""},null,{"$f":"IF(ISBLANK(D1235),\"\",VLOOKUP(D1235,Income!A:B,2))","v":""},"",null,"",""]
[null,null,{"$f":"IF(ISBLANK(B1236),\"\",VLOOKUP(B1236,Country!A:B,2))","v":""},null,{"$f":"IF(ISBLANK(D1236),\"\",VLOOKUP(D1236,Income!A:B,2))","v":""},"",null,"",""]
[null,null,{"$f":"IF(ISBLANK(B1237),\"\",VLOOKUP(B1237,Country!A:B,2))","v":""},null,{"$f":"IF(ISBLANK(D1237),\"\",VLOOKUP(D1237,Income!A:B,2))","v":""},"",null,"",""]
[null,null,{"$f":"IF(ISBLANK(B1238),\"\",VLOOKUP(B1238,Country!A:B,2))","v":""},null,{"$f":"IF(ISBLANK(D1238),\"\",VLOOKUP(D1238,Income!A:B,2))","v":""},"",null,"",""]
[null,null,{"$f":"IF(ISBLANK(B1239),\"\",VLOOKUP(B1239,Country!A:B,2))","v":""},null,{"$f":"IF(ISBLANK(D1239),\"\",VLOOKUP(D1239,Income!A:B,2))","v":""},"",null,"",{"$f":"IF(H1239=\"\",\"\",G1239-H1239)","v":""}]
[null,null,{"$f":"IF(ISBLANK(B1240),\"\",VLOOKUP(B1240,Country!A:B,2))","v":""},null,{"$f":"IF(ISBLANK(D1240),\"\",VLOOKUP(D1240,Income!A:B,2))","v":""},"",null,"",""]
[null,null,{"$f":"IF(ISBLANK(B1241),\"\",VLOOKUP(B1241,Country!A:B,2))","v":""},null,{"$f":"IF(ISBLANK(D1241),\"\",VLOOKUP(D1241,Income!A:B,2))","v":""},"",null,"",""]
[null,null,{"$f":"IF(ISBLANK(B1242),\"\",VLOOKUP(B1242,Country!A:B,2))","v":""},null,{"$f":"IF(ISBLANK(D1242),\"\",VLOOKUP(D1242,Income!A:B,2))","v":""},"",null,"",""]
[null,null,{"$f":"IF(ISBLANK(B1243),\"\",VLOOKUP(B1243,Country!A:B,2))","v":""},null,{"$f":"IF(ISBLANK(D1243),\"\",VLOOKUP(D1243,Income!A:B,2))","v":""},"",null,"",""]
[null,null,{"$f":"IF(ISBLANK(B1244),\"\",VLOOKUP(B1244,Country!A:B,2))","v":""},null,{"$f":"IF(ISBLANK(D1244),\"\",VLOOKUP(D1244,Income!A:B,2))","v":""},"",null,"",""]
[null,null,{"$f":"IF(ISBLANK(B1245),\"\",VLOOKUP(B1245,Country!A:B,2))","v":""},null,{"$f":"IF(ISBLANK(D1245),\"\",VLOOKUP(D1245,Income!A:B,2))","v":""},"",null,"",""]
[null,null,{"$f":"IF(ISBLANK(B1246),\"\",VLOOKUP(B1246,Country!A:B,2))","v":""},null,{"$f":"IF(ISBLANK(D1246),\"\",VLOOKUP(D1246,Income!A:B,2))","v":""},"",null,"",""]
[null,null,{"$f":"IF(ISBLANK(B1247),\"\",VLOOKUP(B1247,Country!A:B,2))","v":""},null,{"$f":"IF(ISBLANK(D1247),\"\",VLOOKUP(D1247,Income!A:B,2))","v":""},"",null,"",""]
[null,null,{"$f":"IF(ISBLANK(B1248),\"\",VLOOKUP(B1248,Country!A:B,2))","v":""},null,{"$f":"IF(ISBLANK(D1248),\"\",VLOOKUP(D1248,Income!A:B,2))","v":""},"",null,"",""]
[null,null,{"$f":"IF(ISBLANK(B1249),\"\",VLOOKUP(B1249,Country!A:B,2))","v":""},null,{"$f":"IF(ISBLANK(D1249),\"\",VLOOKUP(D1249,Income!A:B,2))","v":""},"",null,"",""]
[null,null,{"$f":"IF(ISBLANK(B1250),\"\",VLOOKUP(B1250,Country!A:B,2))","v":""},null,{"$f":"IF(ISBLANK(D1250),\"\",VLOOKUP(D1250,Income!A:B,2))","v":""},"",null,"",""]
[null,null,{"$f":"IF(ISBLANK(B1251),\"\",VLOOKUP(B1251,Country!A:B,2))","v":""},null,{"$f":"IF(ISBLANK(D1251),\"\",VLOOKUP(D1251,Income!A:B,2))","v":""},"",null,"",""]
[null,null,{"$f":"IF(ISBLANK(B1252),\"\",VLOOKUP(B1252,Country!A:B,2))","v":""},null,{"$f":"IF(ISBLANK(D1252),\"\",VLOOKUP(D1252,Income!A:B,2))","v":""},"",null,"",""]
[null,null,{"$f":"IF(ISBLANK(B1253),\"\",VLOOKUP(B1253,Country!A:B,2))","v":""},null,{"$f":"IF(ISBLANK(D1253),\"\",VLOOKUP(D1253,Income!A:B,2))","v":""},"",null,"",""]
[null,null,{"$f":"IF(ISBLANK(B1254),\"\",VLOOKUP(B1254,Country!A:B,2))","v":""},null,{"$f":"IF(ISBLANK(D1254),\"\",VLOOKUP(D1254,Income!A:B,2))","v":""},"",null,"",""]
[null,null,{"$f":"IF(ISBLANK(B1255),\"\",VLOOKUP(B1255,Country!A:B,2))","v":""},null,{"$f":"IF(ISBLANK(D1255),\"\",VLOOKUP(D1255,Income!A:B,2))","v":""},"",null,"",""]
[null,null,{"$f":"IF(ISBLANK(B1256),\"\",VLOOKUP(B1256,Country!A:B,2))","v":""},null,{"$f":"IF(ISBLANK(D1256),\"\",VLOOKUP(D1256,Income!A:B,2))","v":""},"",null,"",""]
[null,null,{"$f":"IF(ISBLANK(B1257),\"\",VLOOKUP(B1257,Country!A:B,2))","v":""},null,{"$f":"IF(ISBLANK(D1257),\"\",VLOOKUP(D1257,Income!A:B,2))","v":""},"",null,"",""]
[null,null,{"$f":"IF(ISBLANK(B1258),\"\",VLOOKUP(B1258,Country!A:B,2))","v":""},null,{"$f":"IF(ISBLANK(D1258),\"\",VLOOKUP(D1258,Income!A:B,2))","v":""},"",null,"",""]
[null,null,{"$f":"IF(ISBLANK(B1259),\"\",VLOOKUP(B1259,Country!A:B,2))","v":""},null,{"$f":"IF(ISBLANK(D1259),\"\",VLOOKUP(D1259,Income!A:B,2))","v":""},"",null,"",""]
[null,null,{"$f":"IF(ISBLANK(B1260),\"\",VLOOKUP(B1260,Country!A:B,2))","v":""},null,{"$f":"IF(ISBLANK(D1260),\"\",VLOOKUP(D1260,Income!A:B,2))","v":""},"",null,"",""]
[null,null,{"$f":"IF(ISBLANK(B1261),\"\",VLOOKUP(B1261,Country!A:B,2))","v":""},null,{"$f":"IF(ISBLANK(D1261),\"\",VLOOKUP(D1261,Income!A:B,2))","v":""},"",null,"",""]
[null,null,{"$f":"IF(ISBLANK(B1262),\"\",VLOOKUP(B1262,Country!A:B,2))","v":""},null,{"$f":"IF(ISBLANK(D1262),\"\",VLOOKUP(D1262,Income!A:B,2))","v":""},"",null,"",""]
[null,null,{"$f":"IF(ISBLANK(B1263),\"\",VLOOKUP(B1263,Country!A:B,2))","v":""},null,{"$f":"IF(ISBLANK(D1263),\"\",VLOOKUP(D1263,Income!A:B,2))","v":""},{"$f":"IF(OR(C1263=\"\",E1263=\"\"),\"\",IF(ISNA(INDEX(RateRange,INDEX(RateRange,MATCH(E1263,IncomeTypes,0),MATCH(C1263,Countries,0)))),INDEX(RateRange,MATCH(E1263,IncomeTypes,0),MATCH(\"OTH\",Countries,0)),INDEX(RateRange,MATCH(E1263,IncomeTypes,0),MATCH(C1263,Countries,0))))","v":""},null,"",""]
[null,null,{"$f":"IF(ISBLANK(B1264),\"\",VLOOKUP(B1264,Country!A:B,2))","v":""},null,{"$f":"IF(ISBLANK(D1264),\"\",VLOOKUP(D1264,Income!A:B,2))","v":""},"",null,"",""]
[null,null,{"$f":"IF(ISBLANK(B1265),\"\",VLOOKUP(B1265,Country!A:B,2))","v":""},null,{"$f":"IF(ISBLANK(D1265),\"\",VLOOKUP(D1265,Income!A:B,2))","v":""},"",null,"",""]
[null,null,{"$f":"IF(ISBLANK(B1266),\"\",VLOOKUP(B1266,Country!A:B,2))","v":""},null,{"$f":"IF(ISBLANK(D1266),\"\",VLOOKUP(D1266,Income!A:B,2))","v":""},"",null,"",""]
[null,null,{"$f":"IF(ISBLANK(B1267),\"\",VLOOKUP(B1267,Country!A:B,2))","v":""},null,{"$f":"IF(ISBLANK(D1267),\"\",VLOOKUP(D1267,Income!A:B,2))","v":""},"",null,"",""]
[null,null,{"$f":"IF(ISBLANK(B1268),\"\",VLOOKUP(B1268,Country!A:B,2))","v":""},null,{"$f":"IF(ISBLANK(D1268),\"\",VLOOKUP(D1268,Income!A:B,2))","v":""},"",null,"",""]
[null,null,{"$f":"IF(ISBLANK(B1269),\"\",VLOOKUP(B1269,Country!A:B,2))","v":""},null,{"$f":"IF(ISBLANK(D1269),\"\",VLOOKUP(D1269,Income!A:B,2))","v":""},"",null,"",""]
[null,null,{"$f":"IF(ISBLANK(B1270),\"\",VLOOKUP(B1270,Country!A:B,2))","v":""},null,{"$f":"IF(ISBLANK(D1270),\"\",VLOOKUP(D1270,Income!A:B,2))","v":""},"",null,"",""]
[null,null,{"$f":"IF(ISBLANK(B1271),\"\",VLOOKUP(B1271,Country!A:B,2))","v":""},null,{"$f":"IF(ISBLANK(D1271),\"\",VLOOKUP(D1271,Income!A:B,2))","v":""},"",null,"",""]
[null,null,{"$f":"IF(ISBLANK(B1272),\"\",VLOOKUP(B1272,Country!A:B,2))","v":""},null,{"$f":"IF(ISBLANK(D1272),\"\",VLOOKUP(D1272,Income!A:B,2))","v":""},"",null,"",""]
[null,null,{"$f":"IF(ISBLANK(B1273),\"\",VLOOKUP(B1273,Country!A:B,2))","v":""},null,{"$f":"IF(ISBLANK(D1273),\"\",VLOOKUP(D1273,Income!A:B,2))","v":""},"",null,"",""]
[null,null,{"$f":"IF(ISBLANK(B1274),\"\",VLOOKUP(B1274,Country!A:B,2))","v":""},null,{"$f":"IF(ISBLANK(D1274),\"\",VLOOKUP(D1274,Income!A:B,2))","v":""},"",null,"",""]
[null,null,{"$f":"IF(ISBLANK(B1275),\"\",VLOOKUP(B1275,Country!A:B,2))","v":""},null,{"$f":"IF(ISBLANK(D1275),\"\",VLOOKUP(D1275,Income!A:B,2))","v":""},"",null,"",""]
[null,null,{"$f":"IF(ISBLANK(B1276),\"\",VLOOKUP(B1276,Country!A:B,2))","v":""},null,{"$f":"IF(ISBLANK(D1276),\"\",VLOOKUP(D1276,Income!A:B,2))","v":""},"",null,"",""]
[null,null,{"$f":"IF(ISBLANK(B1277),\"\",VLOOKUP(B1277,Country!A:B,2))","v":""},null,{"$f":"IF(ISBLANK(D1277),\"\",VLOOKUP(D1277,Income!A:B,2))","v":""},"",null,"",""]
[null,null,{"$f":"IF(ISBLANK(B1278),\"\",VLOOKUP(B1278,Country!A:B,2))","v":""},null,{"$f":"IF(ISBLANK(D1278),\"\",VLOOKUP(D1278,Income!A:B,2))","v":""},"",null,"",""]
[null,null,{"$f":"IF(ISBLANK(B1279),\"\",VLOOKUP(B1279,Country!A:B,2))","v":""},null,{"$f":"IF(ISBLANK(D1279),\"\",VLOOKUP(D1279,Income!A:B,2))","v":""},"",null,"",""]
[null,null,{"$f":"IF(ISBLANK(B1280),\"\",VLOOKUP(B1280,Country!A:B,2))","v":""},null,{"$f":"IF(ISBLANK(D1280),\"\",VLOOKUP(D1280,Income!A:B,2))","v":""},"",null,"",""]
[null,null,{"$f":"IF(ISBLANK(B1281),\"\",VLOOKUP(B1281,Country!A:B,2))","v":""},null,{"$f":"IF(ISBLANK(D1281),\"\",VLOOKUP(D1281,Income!A:B,2))","v":""},"",null,"",""]
[null,null,{"$f":"IF(ISBLANK(B1282),\"\",VLOOKUP(B1282,Country!A:B,2))","v":""},null,{"$f":"IF(ISBLANK(D1282),\"\",VLOOKUP(D1282,Income!A:B,2))","v":""},"",null,"",""]
[null,null,{"$f":"IF(ISBLANK(B1283),\"\",VLOOKUP(B1283,Country!A:B,2))","v":""},null,{"$f":"IF(ISBLANK(D1283),\"\",VLOOKUP(D1283,Income!A:B,2))","v":""},"",null,"",""]
[null,null,{"$f":"IF(ISBLANK(B1284),\"\",VLOOKUP(B1284,Country!A:B,2))","v":""},null,{"$f":"IF(ISBLANK(D1284),\"\",VLOOKUP(D1284,Income!A:B,2))","v":""},"",null,"",""]
[null,null,{"$f":"IF(ISBLANK(B1285),\"\",VLOOKUP(B1285,Country!A:B,2))","v":""},null,{"$f":"IF(ISBLANK(D1285),\"\",VLOOKUP(D1285,Income!A:B,2))","v":""},"",null,{"$f":"IF(F1285=\"\",\"\",ROUND(G1285*F1285,2))","v":""},""]
[null,null,{"$f":"IF(ISBLANK(B1286),\"\",VLOOKUP(B1286,Country!A:B,2))","v":""},null,{"$f":"IF(ISBLANK(D1286),\"\",VLOOKUP(D1286,Income!A:B,2))","v":""},"",null,"",""]
[null,null,{"$f":"IF(ISBLANK(B1287),\"\",VLOOKUP(B1287,Country!A:B,2))","v":""},null,{"$f":"IF(ISBLANK(D1287),\"\",VLOOKUP(D1287,Income!A:B,2))","v":""},"",null,"",""]
[null,null,{"$f":"IF(ISBLANK(B1288),\"\",VLOOKUP(B1288,Country!A:B,2))","v":""},null,{"$f":"IF(ISBLANK(D1288),\"\",VLOOKUP(D1288,Income!A:B,2))","v":""},"",null,"",""]
[null,null,{"$f":"IF(ISBLANK(B1289),\"\",VLOOKUP(B1289,Country!A:B,2))","v":""},null,{"$f":"IF(ISBLANK(D1289),\"\",VLOOKUP(D1289,Income!A:B,2))","v":""},"",null,"",""]
[null,null,{"$f":"IF(ISBLANK(B1290),\"\",VLOOKUP(B1290,Country!A:B,2))","v":""},null,{"$f":"IF(ISBLANK(D1290),\"\",VLOOKUP(D1290,Income!A:B,2))","v":""},"",null,"",""]
[null,null,{"$f":"IF(ISBLANK(B1291),\"\",VLOOKUP(B1291,Country!A:B,2))","v":""},null,{"$f":"IF(ISBLANK(D1291),\"\",VLOOKUP(D1291,Income!A:B,2))","v":""},"",null,"",""]
[null,null,{"$f":"IF(ISBLANK(B1292),\"\",VLOOKUP(B1292,Country!A:B,2))","v":""},null,{"$f":"IF(ISBLANK(D1292),\"\",VLOOKUP(D1292,Income!A:B,2))","v":""},"",null,"",""]
[null,null,{"$f":"IF(ISBLANK(B1293),\"\",VLOOKUP(B1293,Country!A:B,2))","v":""},null,{"$f":"IF(ISBLANK(D1293),\"\",VLOOKUP(D1293,Income!A:B,2))","v":""},"",null,"",""]
[null,null,{"$f":"IF(ISBLANK(B1294),\"\",VLOOKUP(B1294,Country!A:B,2))","v":""},null,{"$f":"IF(ISBLANK(D1294),\"\",VLOOKUP(D1294,Income!A:B,2))","v":""},"",null,"",""]
[null,null,{"$f":"IF(ISBLANK(B1295),\"\",VLOOKUP(B1295,Country!A:B,2))","v":""},null,{"$f":"IF(ISBLANK(D1295),\"\",VLOOKUP(D1295,Income!A:B,2))","v":""},"",null,"",""]
[null,null,{"$f":"IF(ISBLANK(B1296),\"\",VLOOKUP(B1296,Country!A:B,2))","v":""},null,{"$f":"IF(ISBLANK(D1296),\"\",VLOOKUP(D1296,Income!A:B,2))","v":""},"",null,"",""]
[null,null,{"$f":"IF(ISBLANK(B1297),\"\",VLOOKUP(B1297,Country!A:B,2))","v":""},null,{"$f":"IF(ISBLANK(D1297),\"\",VLOOKUP(D1297,Income!A:B,2))","v":""},"",null,"",""]
[null,null,{"$f":"IF(ISBLANK(B1298),\"\",VLOOKUP(B1298,Country!A:B,2))","v":""},null,{"$f":"IF(ISBLANK(D1298),\"\",VLOOKUP(D1298,Income!A:B,2))","v":""},"",null,"",""]
[null,null,{"$f":"IF(ISBLANK(B1299),\"\",VLOOKUP(B1299,Country!A:B,2))","v":""},null,{"$f":"IF(ISBLANK(D1299),\"\",VLOOKUP(D1299,Income!A:B,2))","v":""},"",null,"",""]
[null,null,{"$f":"IF(ISBLANK(B1300),\"\",VLOOKUP(B1300,Country!A:B,2))","v":""},null,{"$f":"IF(ISBLANK(D1300),\"\",VLOOKUP(D1300,Income!A:B,2))","v":""},"",null,"",""]
[null,null,{"$f":"IF(ISBLANK(B1301),\"\",VLOOKUP(B1301,Country!A:B,2))","v":""},null,{"$f":"IF(ISBLANK(D1301),\"\",VLOOKUP(D1301,Income!A:B,2))","v":""},"",null,"",""]
[null,null,{"$f":"IF(ISBLANK(B1302),\"\",VLOOKUP(B1302,Country!A:B,2))","v":""},null,{"$f":"IF(ISBLANK(D1302),\"\",VLOOKUP(D1302,Income!A:B,2))","v":""},"",null,"",""]
[null,null,{"$f":"IF(ISBLANK(B1303),\"\",VLOOKUP(B1303,Country!A:B,2))","v":""},null,{"$f":"IF(ISBLANK(D1303),\"\",VLOOKUP(D1303,Income!A:B,2))","v":""},"",null,"",{"$f":"IF(H1303=\"\",\"\",G1303-H1303)","v":""}]
[null,null,{"$f":"IF(ISBLANK(B1304),\"\",VLOOKUP(B1304,Country!A:B,2))","v":""},null,{"$f":"IF(ISBLANK(D1304),\"\",VLOOKUP(D1304,Income!A:B,2))","v":""},"",null,"",""]
[null,null,{"$f":"IF(ISBLANK(B1305),\"\",VLOOKUP(B1305,Country!A:B,2))","v":""},null,{"$f":"IF(ISBLANK(D1305),\"\",VLOOKUP(D1305,Income!A:B,2))","v":""},"",null,"",""]
[null,null,{"$f":"IF(ISBLANK(B1306),\"\",VLOOKUP(B1306,Country!A:B,2))","v":""},null,{"$f":"IF(ISBLANK(D1306),\"\",VLOOKUP(D1306,Income!A:B,2))","v":""},"",null,"",""]
[null,null,{"$f":"IF(ISBLANK(B1307),\"\",VLOOKUP(B1307,Country!A:B,2))","v":""},null,{"$f":"IF(ISBLANK(D1307),\"\",VLOOKUP(D1307,Income!A:B,2))","v":""},"",null,"",""]
[null,null,{"$f":"IF(ISBLANK(B1308),\"\",VLOOKUP(B1308,Country!A:B,2))","v":""},null,{"$f":"IF(ISBLANK(D1308),\"\",VLOOKUP(D1308,Income!A:B,2))","v":""},"",null,"",""]
[null,null,{"$f":"IF(ISBLANK(B1309),\"\",VLOOKUP(B1309,Country!A:B,2))","v":""},null,{"$f":"IF(ISBLANK(D1309),\"\",VLOOKUP(D1309,Income!A:B,2))","v":""},"",null,"",""]
[null,null,{"$f":"IF(ISBLANK(B1310),\"\",VLOOKUP(B1310,Country!A:B,2))","v":""},null,{"$f":"IF(ISBLANK(D1310),\"\",VLOOKUP(D1310,Income!A:B,2))","v":""},"",null,"",""]
[null,null,{"$f":"IF(ISBLANK(B1311),\"\",VLOOKUP(B1311,Country!A:B,2))","v":""},null,{"$f":"IF(ISBLANK(D1311),\"\",VLOOKUP(D1311,Income!A:B,2))","v":""},"",null,"",""]
[null,null,{"$f":"IF(ISBLANK(B1312),\"\",VLOOKUP(B1312,Country!A:B,2))","v":""},null,{"$f":"IF(ISBLANK(D1312),\"\",VLOOKUP(D1312,Income!A:B,2))","v":""},"",null,"",""]
[null,null,{"$f":"IF(ISBLANK(B1313),\"\",VLOOKUP(B1313,Country!A:B,2))","v":""},null,{"$f":"IF(ISBLANK(D1313),\"\",VLOOKUP(D1313,Income!A:B,2))","v":""},"",null,"",""]
[null,null,{"$f":"IF(ISBLANK(B1314),\"\",VLOOKUP(B1314,Country!A:B,2))","v":""},null,{"$f":"IF(ISBLANK(D1314),\"\",VLOOKUP(D1314,Income!A:B,2))","v":""},"",null,"",""]
[null,null,{"$f":"IF(ISBLANK(B1315),\"\",VLOOKUP(B1315,Country!A:B,2))","v":""},null,{"$f":"IF(ISBLANK(D1315),\"\",VLOOKUP(D1315,Income!A:B,2))","v":""},"",null,"",""]
[null,null,{"$f":"IF(ISBLANK(B1316),\"\",VLOOKUP(B1316,Country!A:B,2))","v":""},null,{"$f":"IF(ISBLANK(D1316),\"\",VLOOKUP(D1316,Income!A:B,2))","v":""},"",null,"",""]
[null,null,{"$f":"IF(ISBLANK(B1317),\"\",VLOOKUP(B1317,Country!A:B,2))","v":""},null,{"$f":"IF(ISBLANK(D1317),\"\",VLOOKUP(D1317,Income!A:B,2))","v":""},"",null,"",""]
[null,null,{"$f":"IF(ISBLANK(B1318),\"\",VLOOKUP(B1318,Country!A:B,2))","v":""},null,{"$f":"IF(ISBLANK(D1318),\"\",VLOOKUP(D1318,Income!A:B,2))","v":""},"",null,"",""]
[null,null,{"$f":"IF(ISBLANK(B1319),\"\",VLOOKUP(B1319,Country!A:B,2))","v":""},null,{"$f":"IF(ISBLANK(D1319),\"\",VLOOKUP(D1319,Income!A:B,2))","v":""},"",null,"",""]
[null,null,{"$f":"IF(ISBLANK(B1320),\"\",VLOOKUP(B1320,Country!A:B,2))","v":""},null,{"$f":"IF(ISBLANK(D1320),\"\",VLOOKUP(D1320,Income!A:B,2))","v":""},"",null,"",""]
[null,null,{"$f":"IF(ISBLANK(B1321),\"\",VLOOKUP(B1321,Country!A:B,2))","v":""},null,{"$f":"IF(ISBLANK(D1321),\"\",VLOOKUP(D1321,Income!A:B,2))","v":""},"",null,"",""]
[null,null,{"$f":"IF(ISBLANK(B1322),\"\",VLOOKUP(B1322,Country!A:B,2))","v":""},null,{"$f":"IF(ISBLANK(D1322),\"\",VLOOKUP(D1322,Income!A:B,2))","v":""},"",null,"",""]
[null,null,{"$f":"IF(ISBLANK(B1323),\"\",VLOOKUP(B1323,Country!A:B,2))","v":""},null,{"$f":"IF(ISBLANK(D1323),\"\",VLOOKUP(D1323,Income!A:B,2))","v":""},"",null,"",""]
[null,null,{"$f":"IF(ISBLANK(B1324),\"\",VLOOKUP(B1324,Country!A:B,2))","v":""},null,{"$f":"IF(ISBLANK(D1324),\"\",VLOOKUP(D1324,Income!A:B,2))","v":""},"",null,"",""]
[null,null,{"$f":"IF(ISBLANK(B1325),\"\",VLOOKUP(B1325,Country!A:B,2))","v":""},null,{"$f":"IF(ISBLANK(D1325),\"\",VLOOKUP(D1325,Income!A:B,2))","v":""},"",null,"",""]
[null,null,{"$f":"IF(ISBLANK(B1326),\"\",VLOOKUP(B1326,Country!A:B,2))","v":""},null,{"$f":"IF(ISBLANK(D1326),\"\",VLOOKUP(D1326,Income!A:B,2))","v":""},"",null,"",""]
[null,null,{"$f":"IF(ISBLANK(B1327),\"\",VLOOKUP(B1327,Country!A:B,2))","v":""},null,{"$f":"IF(ISBLANK(D1327),\"\",VLOOKUP(D1327,Income!A:B,2))","v":""},{"$f":"IF(OR(C1327=\"\",E1327=\"\"),\"\",IF(ISNA(INDEX(RateRange,INDEX(RateRange,MATCH(E1327,IncomeTypes,0),MATCH(C1327,Countries,0)))),INDEX(RateRange,MATCH(E1327,IncomeTypes,0),MATCH(\"OTH\",Countries,0)),INDEX(RateRange,MATCH(E1327,IncomeTypes,0),MATCH(C1327,Countries,0))))","v":""},null,"",""]
[null,null,{"$f":"IF(ISBLANK(B1328),\"\",VLOOKUP(B1328,Country!A:B,2))","v":""},null,{"$f":"IF(ISBLANK(D1328),\"\",VLOOKUP(D1328,Income!A:B,2))","v":""},"",null,"",""]
[null,null,{"$f":"IF(ISBLANK(B1329),\"\",VLOOKUP(B1329,Country!A:B,2))","v":""},null,{"$f":"IF(ISBLANK(D1329),\"\",VLOOKUP(D1329,Income!A:B,2))","v":""},"",null,"",""]
[null,null,{"$f":"IF(ISBLANK(B1330),\"\",VLOOKUP(B1330,Country!A:B,2))","v":""},null,{"$f":"IF(ISBLANK(D1330),\"\",VLOOKUP(D1330,Income!A:B,2))","v":""},"",null,"",""]
[null,null,{"$f":"IF(ISBLANK(B1331),\"\",VLOOKUP(B1331,Country!A:B,2))","v":""},null,{"$f":"IF(ISBLANK(D1331),\"\",VLOOKUP(D1331,Income!A:B,2))","v":""},"",null,"",""]
[null,null,{"$f":"IF(ISBLANK(B1332),\"\",VLOOKUP(B1332,Country!A:B,2))","v":""},null,{"$f":"IF(ISBLANK(D1332),\"\",VLOOKUP(D1332,Income!A:B,2))","v":""},"",null,"",""]
[null,null,{"$f":"IF(ISBLANK(B1333),\"\",VLOOKUP(B1333,Country!A:B,2))","v":""},null,{"$f":"IF(ISBLANK(D1333),\"\",VLOOKUP(D1333,Income!A:B,2))","v":""},"",null,"",""]
[null,null,{"$f":"IF(ISBLANK(B1334),\"\",VLOOKUP(B1334,Country!A:B,2))","v":""},null,{"$f":"IF(ISBLANK(D1334),\"\",VLOOKUP(D1334,Income!A:B,2))","v":""},"",null,"",""]
[null,null,{"$f":"IF(ISBLANK(B1335),\"\",VLOOKUP(B1335,Country!A:B,2))","v":""},null,{"$f":"IF(ISBLANK(D1335),\"\",VLOOKUP(D1335,Income!A:B,2))","v":""},"",null,"",""]
[null,null,{"$f":"IF(ISBLANK(B1336),\"\",VLOOKUP(B1336,Country!A:B,2))","v":""},null,{"$f":"IF(ISBLANK(D1336),\"\",VLOOKUP(D1336,Income!A:B,2))","v":""},"",null,"",""]
[null,null,{"$f":"IF(ISBLANK(B1337),\"\",VLOOKUP(B1337,Country!A:B,2))","v":""},null,{"$f":"IF(ISBLANK(D1337),\"\",VLOOKUP(D1337,Income!A:B,2))","v":""},"",null,"",""]
[null,null,{"$f":"IF(ISBLANK(B1338),\"\",VLOOKUP(B1338,Country!A:B,2))","v":""},null,{"$f":"IF(ISBLANK(D1338),\"\",VLOOKUP(D1338,Income!A:B,2))","v":""},"",null,"",""]
[null,null,{"$f":"IF(ISBLANK(B1339),\"\",VLOOKUP(B1339,Country!A:B,2))","v":""},null,{"$f":"IF(ISBLANK(D1339),\"\",VLOOKUP(D1339,Income!A:B,2))","v":""},"",null,"",""]
[null,null,{"$f":"IF(ISBLANK(B1340),\"\",VLOOKUP(B1340,Country!A:B,2))","v":""},null,{"$f":"IF(ISBLANK(D1340),\"\",VLOOKUP(D1340,Income!A:B,2))","v":""},"",null,"",""]
[null,null,{"$f":"IF(ISBLANK(B1341),\"\",VLOOKUP(B1341,Country!A:B,2))","v":""},null,{"$f":"IF(ISBLANK(D1341),\"\",VLOOKUP(D1341,Income!A:B,2))","v":""},"",null,"",""]
[null,null,{"$f":"IF(ISBLANK(B1342),\"\",VLOOKUP(B1342,Country!A:B,2))","v":""},null,{"$f":"IF(ISBLANK(D1342),\"\",VLOOKUP(D1342,Income!A:B,2))","v":""},"",null,"",""]
[null,null,{"$f":"IF(ISBLANK(B1343),\"\",VLOOKUP(B1343,Country!A:B,2))","v":""},null,{"$f":"IF(ISBLANK(D1343),\"\",VLOOKUP(D1343,Income!A:B,2))","v":""},"",null,"",""]
[null,null,{"$f":"IF(ISBLANK(B1344),\"\",VLOOKUP(B1344,Country!A:B,2))","v":""},null,{"$f":"IF(ISBLANK(D1344),\"\",VLOOKUP(D1344,Income!A:B,2))","v":""},"",null,"",""]
[null,null,{"$f":"IF(ISBLANK(B1345),\"\",VLOOKUP(B1345,Country!A:B,2))","v":""},null,{"$f":"IF(ISBLANK(D1345),\"\",VLOOKUP(D1345,Income!A:B,2))","v":""},"",null,"",""]
[null,null,{"$f":"IF(ISBLANK(B1346),\"\",VLOOKUP(B1346,Country!A:B,2))","v":""},null,{"$f":"IF(ISBLANK(D1346),\"\",VLOOKUP(D1346,Income!A:B,2))","v":""},"",null,"",""]
[null,null,{"$f":"IF(ISBLANK(B1347),\"\",VLOOKUP(B1347,Country!A:B,2))","v":""},null,{"$f":"IF(ISBLANK(D1347),\"\",VLOOKUP(D1347,Income!A:B,2))","v":""},"",null,"",""]
[null,null,{"$f":"IF(ISBLANK(B1348),\"\",VLOOKUP(B1348,Country!A:B,2))","v":""},null,{"$f":"IF(ISBLANK(D1348),\"\",VLOOKUP(D1348,Income!A:B,2))","v":""},"",null,"",""]
[null,null,{"$f":"IF(ISBLANK(B1349),\"\",VLOOKUP(B1349,Country!A:B,2))","v":""},null,{"$f":"IF(ISBLANK(D1349),\"\",VLOOKUP(D1349,Income!A:B,2))","v":""},"",null,{"$f":"IF(F1349=\"\",\"\",ROUND(G1349*F1349,2))","v":""},""]
[null,null,{"$f":"IF(ISBLANK(B1350),\"\",VLOOKUP(B1350,Country!A:B,2))","v":""},null,{"$f":"IF(ISBLANK(D1350),\"\",VLOOKUP(D1350,Income!A:B,2))","v":""},"",null,"",""]
[null,null,{"$f":"IF(ISBLANK(B1351),\"\",VLOOKUP(B1351,Country!A:B,2))","v":""},null,{"$f":"IF(ISBLANK(D1351),\"\",VLOOKUP(D1351,Income!A:B,2))","v":""},"",null,"",""]
[null,null,{"$f":"IF(ISBLANK(B1352),\"\",VLOOKUP(B1352,Country!A:B,2))","v":""},null,{"$f":"IF(ISBLANK(D1352),\"\",VLOOKUP(D1352,Income!A:B,2))","v":""},"",null,"",""]
[null,null,{"$f":"IF(ISBLANK(B1353),\"\",VLOOKUP(B1353,Country!A:B,2))","v":""},null,{"$f":"IF(ISBLANK(D1353),\"\",VLOOKUP(D1353,Income!A:B,2))","v":""},"",null,"",""]
[null,null,{"$f":"IF(ISBLANK(B1354),\"\",VLOOKUP(B1354,Country!A:B,2))","v":""},null,{"$f":"IF(ISBLANK(D1354),\"\",VLOOKUP(D1354,Income!A:B,2))","v":""},"",null,"",""]
[null,null,{"$f":"IF(ISBLANK(B1355),\"\",VLOOKUP(B1355,Country!A:B,2))","v":""},null,{"$f":"IF(ISBLANK(D1355),\"\",VLOOKUP(D1355,Income!A:B,2))","v":""},"",null,"",""]
[null,null,{"$f":"IF(ISBLANK(B1356),\"\",VLOOKUP(B1356,Country!A:B,2))","v":""},null,{"$f":"IF(ISBLANK(D1356),\"\",VLOOKUP(D1356,Income!A:B,2))","v":""},"",null,"",""]
[null,null,{"$f":"IF(ISBLANK(B1357),\"\",VLOOKUP(B1357,Country!A:B,2))","v":""},null,{"$f":"IF(ISBLANK(D1357),\"\",VLOOKUP(D1357,Income!A:B,2))","v":""},"",null,"",""]
[null,null,{"$f":"IF(ISBLANK(B1358),\"\",VLOOKUP(B1358,Country!A:B,2))","v":""},null,{"$f":"IF(ISBLANK(D1358),\"\",VLOOKUP(D1358,Income!A:B,2))","v":""},"",null,"",""]
[null,null,{"$f":"IF(ISBLANK(B1359),\"\",VLOOKUP(B1359,Country!A:B,2))","v":""},null,{"$f":"IF(ISBLANK(D1359),\"\",VLOOKUP(D1359,Income!A:B,2))","v":""},"",null,"",""]
[null,null,{"$f":"IF(ISBLANK(B1360),\"\",VLOOKUP(B1360,Country!A:B,2))","v":""},null,{"$f":"IF(ISBLANK(D1360),\"\",VLOOKUP(D1360,Income!A:B,2))","v":""},"",null,"",""]
[null,null,{"$f":"IF(ISBLANK(B1361),\"\",VLOOKUP(B1361,Country!A:B,2))","v":""},null,{"$f":"IF(ISBLANK(D1361),\"\",VLOOKUP(D1361,Income!A:B,2))","v":""},"",null,"",""]
[null,null,{"$f":"IF(ISBLANK(B1362),\"\",VLOOKUP(B1362,Country!A:B,2))","v":""},null,{"$f":"IF(ISBLANK(D1362),\"\",VLOOKUP(D1362,Income!A:B,2))","v":""},"",null,"",""]
[null,null,{"$f":"IF(ISBLANK(B1363),\"\",VLOOKUP(B1363,Country!A:B,2))","v":""},null,{"$f":"IF(ISBLANK(D1363),\"\",VLOOKUP(D1363,Income!A:B,2))","v":""},"",null,"",""]
[null,null,{"$f":"IF(ISBLANK(B1364),\"\",VLOOKUP(B1364,Country!A:B,2))","v":""},null,{"$f":"IF(ISBLANK(D1364),\"\",VLOOKUP(D1364,Income!A:B,2))","v":""},"",null,"",""]
[null,null,{"$f":"IF(ISBLANK(B1365),\"\",VLOOKUP(B1365,Country!A:B,2))","v":""},null,{"$f":"IF(ISBLANK(D1365),\"\",VLOOKUP(D1365,Income!A:B,2))","v":""},"",null,"",""]
[null,null,{"$f":"IF(ISBLANK(B1366),\"\",VLOOKUP(B1366,Country!A:B,2))","v":""},null,{"$f":"IF(ISBLANK(D1366),\"\",VLOOKUP(D1366,Income!A:B,2))","v":""},"",null,"",""]
[null,null,{"$f":"IF(ISBLANK(B1367),\"\",VLOOKUP(B1367,Country!A:B,2))","v":""},null,{"$f":"IF(ISBLANK(D1367),\"\",VLOOKUP(D1367,Income!A:B,2))","v":""},"",null,"",{"$f":"IF(H1367=\"\",\"\",G1367-H1367)","v":""}]
[null,null,{"$f":"IF(ISBLANK(B1368),\"\",VLOOKUP(B1368,Country!A:B,2))","v":""},null,{"$f":"IF(ISBLANK(D1368),\"\",VLOOKUP(D1368,Income!A:B,2))","v":""},"",null,"",""]
[null,null,{"$f":"IF(ISBLANK(B1369),\"\",VLOOKUP(B1369,Country!A:B,2))","v":""},null,{"$f":"IF(ISBLANK(D1369),\"\",VLOOKUP(D1369,Income!A:B,2))","v":""},"",null,"",""]
[null,null,{"$f":"IF(ISBLANK(B1370),\"\",VLOOKUP(B1370,Country!A:B,2))","v":""},null,{"$f":"IF(ISBLANK(D1370),\"\",VLOOKUP(D1370,Income!A:B,2))","v":""},"",null,"",""]
[null,null,{"$f":"IF(ISBLANK(B1371),\"\",VLOOKUP(B1371,Country!A:B,2))","v":""},null,{"$f":"IF(ISBLANK(D1371),\"\",VLOOKUP(D1371,Income!A:B,2))","v":""},"",null,"",""]
[null,null,{"$f":"IF(ISBLANK(B1372),\"\",VLOOKUP(B1372,Country!A:B,2))","v":""},null,{"$f":"IF(ISBLANK(D1372),\"\",VLOOKUP(D1372,Income!A:B,2))","v":""},"",null,"",""]
[null,null,{"$f":"IF(ISBLANK(B1373),\"\",VLOOKUP(B1373,Country!A:B,2))","v":""},null,{"$f":"IF(ISBLANK(D1373),\"\",VLOOKUP(D1373,Income!A:B,2))","v":""},"",null,"",""]
[null,null,{"$f":"IF(ISBLANK(B1374),\"\",VLOOKUP(B1374,Country!A:B,2))","v":""},null,{"$f":"IF(ISBLANK(D1374),\"\",VLOOKUP(D1374,Income!A:B,2))","v":""},"",null,"",""]
[null,null,{"$f":"IF(ISBLANK(B1375),\"\",VLOOKUP(B1375,Country!A:B,2))","v":""},null,{"$f":"IF(ISBLANK(D1375),\"\",VLOOKUP(D1375,Income!A:B,2))","v":""},"",null,"",""]
[null,null,{"$f":"IF(ISBLANK(B1376),\"\",VLOOKUP(B1376,Country!A:B,2))","v":""},null,{"$f":"IF(ISBLANK(D1376),\"\",VLOOKUP(D1376,Income!A:B,2))","v":""},"",null,"",""]
[null,null,{"$f":"IF(ISBLANK(B1377),\"\",VLOOKUP(B1377,Country!A:B,2))","v":""},null,{"$f":"IF(ISBLANK(D1377),\"\",VLOOKUP(D1377,Income!A:B,2))","v":""},"",null,"",""]
[null,null,{"$f":"IF(ISBLANK(B1378),\"\",VLOOKUP(B1378,Country!A:B,2))","v":""},null,{"$f":"IF(ISBLANK(D1378),\"\",VLOOKUP(D1378,Income!A:B,2))","v":""},"",null,"",""]
[null,null,{"$f":"IF(ISBLANK(B1379),\"\",VLOOKUP(B1379,Country!A:B,2))","v":""},null,{"$f":"IF(ISBLANK(D1379),\"\",VLOOKUP(D1379,Income!A:B,2))","v":""},"",null,"",""]
[null,null,{"$f":"IF(ISBLANK(B1380),\"\",VLOOKUP(B1380,Country!A:B,2))","v":""},null,{"$f":"IF(ISBLANK(D1380),\"\",VLOOKUP(D1380,Income!A:B,2))","v":""},"",null,"",""]
[null,null,{"$f":"IF(ISBLANK(B1381),\"\",VLOOKUP(B1381,Country!A:B,2))","v":""},null,{"$f":"IF(ISBLANK(D1381),\"\",VLOOKUP(D1381,Income!A:B,2))","v":""},"",null,"",""]
[null,null,{"$f":"IF(ISBLANK(B1382),\"\",VLOOKUP(B1382,Country!A:B,2))","v":""},null,{"$f":"IF(ISBLANK(D1382),\"\",VLOOKUP(D1382,Income!A:B,2))","v":""},"",null,"",""]
[null,null,{"$f":"IF(ISBLANK(B1383),\"\",VLOOKUP(B1383,Country!A:B,2))","v":""},null,{"$f":"IF(ISBLANK(D1383),\"\",VLOOKUP(D1383,Income!A:B,2))","v":""},"",null,"",""]
[null,null,{"$f":"IF(ISBLANK(B1384),\"\",VLOOKUP(B1384,Country!A:B,2))","v":""},null,{"$f":"IF(ISBLANK(D1384),\"\",VLOOKUP(D1384,Income!A:B,2))","v":""},"",null,"",""]
[null,null,{"$f":"IF(ISBLANK(B1385),\"\",VLOOKUP(B1385,Country!A:B,2))","v":""},null,{"$f":"IF(ISBLANK(D1385),\"\",VLOOKUP(D1385,Income!A:B,2))","v":""},"",null,"",""]
[null,null,{"$f":"IF(ISBLANK(B1386),\"\",VLOOKUP(B1386,Country!A:B,2))","v":""},null,{"$f":"IF(ISBLANK(D1386),\"\",VLOOKUP(D1386,Income!A:B,2))","v":""},"",null,"",""]
[null,null,{"$f":"IF(ISBLANK(B1387),\"\",VLOOKUP(B1387,Country!A:B,2))","v":""},null,{"$f":"IF(ISBLANK(D1387),\"\",VLOOKUP(D1387,Income!A:B,2))","v":""},"",null,"",""]
[null,null,{"$f":"IF(ISBLANK(B1388),\"\",VLOOKUP(B1388,Country!A:B,2))","v":""},null,{"$f":"IF(ISBLANK(D1388),\"\",VLOOKUP(D1388,Income!A:B,2))","v":""},"",null,"",""]
[null,null,{"$f":"IF(ISBLANK(B1389),\"\",VLOOKUP(B1389,Country!A:B,2))","v":""},null,{"$f":"IF(ISBLANK(D1389),\"\",VLOOKUP(D1389,Income!A:B,2))","v":""},"",null,"",""]
[null,null,{"$f":"IF(ISBLANK(B1390),\"\",VLOOKUP(B1390,Country!A:B,2))","v":""},null,{"$f":"IF(ISBLANK(D1390),\"\",VLOOKUP(D1390,Income!A:B,2))","v":""},"",null,"",""]
[null,null,{"$f":"IF(ISBLANK(B1391),\"\",VLOOKUP(B1391,Country!A:B,2))","v":""},null,{"$f":"IF(ISBLANK(D1391),\"\",VLOOKUP(D1391,Income!A:B,2))","v":""},{"$f":"IF(OR(C1391=\"\",E1391=\"\"),\"\",IF(ISNA(INDEX(RateRange,INDEX(RateRange,MATCH(E1391,IncomeTypes,0),MATCH(C1391,Countries,0)))),INDEX(RateRange,MATCH(E1391,IncomeTypes,0),MATCH(\"OTH\",Countries,0)),INDEX(RateRange,MATCH(E1391,IncomeTypes,0),MATCH(C1391,Countries,0))))","v":""},null,"",""]
[null,null,{"$f":"IF(ISBLANK(B1392),\"\",VLOOKUP(B1392,Country!A:B,2))","v":""},null,{"$f":"IF(ISBLANK(D1392),\"\",VLOOKUP(D1392,Income!A:B,2))","v":""},"",null,"",""]
[null,null,{"$f":"IF(ISBLANK(B1393),\"\",VLOOKUP(B1393,Country!A:B,2))","v":""},null,{"$f":"IF(ISBLANK(D1393),\"\",VLOOKUP(D1393,Income!A:B,2))","v":""},"",null,"",""]
[null,null,{"$f":"IF(ISBLANK(B1394),\"\",VLOOKUP(B1394,Country!A:B,2))","v":""},null,{"$f":"IF(ISBLANK(D1394),\"\",VLOOKUP(D1394,Income!A:B,2))","v":""},"",null,"",""]
[null,null,{"$f":"IF(ISBLANK(B1395),\"\",VLOOKUP(B1395,Country!A:B,2))","v":""},null,{"$f":"IF(ISBLANK(D1395),\"\",VLOOKUP(D1395,Income!A:B,2))","v":""},"",null,"",""]
[null,null,{"$f":"IF(ISBLANK(B1396),\"\",VLOOKUP(B1396,Country!A:B,2))","v":""},null,{"$f":"IF(ISBLANK(D1396),\"\",VLOOKUP(D1396,Income!A:B,2))","v":""},"",null,"",""]
[null,null,{"$f":"IF(ISBLANK(B1397),\"\",VLOOKUP(B1397,Country!A:B,2))","v":""},null,{"$f":"IF(ISBLANK(D1397),\"\",VLOOKUP(D1397,Income!A:B,2))","v":""},"",null,"",""]
[null,null,{"$f":"IF(ISBLANK(B1398),\"\",VLOOKUP(B1398,Country!A:B,2))","v":""},null,{"$f":"IF(ISBLANK(D1398),\"\",VLOOKUP(D1398,Income!A:B,2))","v":""},"",null,"",""]
[null,null,{"$f":"IF(ISBLANK(B1399),\"\",VLOOKUP(B1399,Country!A:B,2))","v":""},null,{"$f":"IF(ISBLANK(D1399),\"\",VLOOKUP(D1399,Income!A:B,2))","v":""},"",null,"",""]
[null,null,{"$f":"IF(ISBLANK(B1400),\"\",VLOOKUP(B1400,Country!A:B,2))","v":""},null,{"$f":"IF(ISBLANK(D1400),\"\",VLOOKUP(D1400,Income!A:B,2))","v":""},"",null,"",""]
[null,null,{"$f":"IF(ISBLANK(B1401),\"\",VLOOKUP(B1401,Country!A:B,2))","v":""},null,{"$f":"IF(ISBLANK(D1401),\"\",VLOOKUP(D1401,Income!A:B,2))","v":""},"",null,"",""]
[null,null,{"$f":"IF(ISBLANK(B1402),\"\",VLOOKUP(B1402,Country!A:B,2))","v":""},null,{"$f":"IF(ISBLANK(D1402),\"\",VLOOKUP(D1402,Income!A:B,2))","v":""},"",null,"",""]
[null,null,{"$f":"IF(ISBLANK(B1403),\"\",VLOOKUP(B1403,Country!A:B,2))","v":""},null,{"$f":"IF(ISBLANK(D1403),\"\",VLOOKUP(D1403,Income!A:B,2))","v":""},"",null,"",""]
[null,null,{"$f":"IF(ISBLANK(B1404),\"\",VLOOKUP(B1404,Country!A:B,2))","v":""},null,{"$f":"IF(ISBLANK(D1404),\"\",VLOOKUP(D1404,Income!A:B,2))","v":""},"",null,"",""]
[null,null,{"$f":"IF(ISBLANK(B1405),\"\",VLOOKUP(B1405,Country!A:B,2))","v":""},null,{"$f":"IF(ISBLANK(D1405),\"\",VLOOKUP(D1405,Income!A:B,2))","v":""},"",null,"",""]
[null,null,{"$f":"IF(ISBLANK(B1406),\"\",VLOOKUP(B1406,Country!A:B,2))","v":""},null,{"$f":"IF(ISBLANK(D1406),\"\",VLOOKUP(D1406,Income!A:B,2))","v":""},"",null,"",""]
[null,null,{"$f":"IF(ISBLANK(B1407),\"\",VLOOKUP(B1407,Country!A:B,2))","v":""},null,{"$f":"IF(ISBLANK(D1407),\"\",VLOOKUP(D1407,Income!A:B,2))","v":""},"",null,"",""]
[null,null,{"$f":"IF(ISBLANK(B1408),\"\",VLOOKUP(B1408,Country!A:B,2))","v":""},null,{"$f":"IF(ISBLANK(D1408),\"\",VLOOKUP(D1408,Income!A:B,2))","v":""},"",null,"",""]
[null,null,{"$f":"IF(ISBLANK(B1409),\"\",VLOOKUP(B1409,Country!A:B,2))","v":""},null,{"$f":"IF(ISBLANK(D1409),\"\",VLOOKUP(D1409,Income!A:B,2))","v":""},"",null,"",""]
[null,null,{"$f":"IF(ISBLANK(B1410),\"\",VLOOKUP(B1410,Country!A:B,2))","v":""},null,{"$f":"IF(ISBLANK(D1410),\"\",VLOOKUP(D1410,Income!A:B,2))","v":""},"",null,"",""]
[null,null,{"$f":"IF(ISBLANK(B1411),\"\",VLOOKUP(B1411,Country!A:B,2))","v":""},null,{"$f":"IF(ISBLANK(D1411),\"\",VLOOKUP(D1411,Income!A:B,2))","v":""},"",null,"",""]
[null,null,{"$f":"IF(ISBLANK(B1412),\"\",VLOOKUP(B1412,Country!A:B,2))","v":""},null,{"$f":"IF(ISBLANK(D1412),\"\",VLOOKUP(D1412,Income!A:B,2))","v":""},"",null,"",""]
[null,null,{"$f":"IF(ISBLANK(B1413),\"\",VLOOKUP(B1413,Country!A:B,2))","v":""},null,{"$f":"IF(ISBLANK(D1413),\"\",VLOOKUP(D1413,Income!A:B,2))","v":""},"",null,{"$f":"IF(F1413=\"\",\"\",ROUND(G1413*F1413,2))","v":""},""]
[null,null,{"$f":"IF(ISBLANK(B1414),\"\",VLOOKUP(B1414,Country!A:B,2))","v":""},null,{"$f":"IF(ISBLANK(D1414),\"\",VLOOKUP(D1414,Income!A:B,2))","v":""},"",null,"",""]
[null,null,{"$f":"IF(ISBLANK(B1415),\"\",VLOOKUP(B1415,Country!A:B,2))","v":""},null,{"$f":"IF(ISBLANK(D1415),\"\",VLOOKUP(D1415,Income!A:B,2))","v":""},"",null,"",""]
[null,null,{"$f":"IF(ISBLANK(B1416),\"\",VLOOKUP(B1416,Country!A:B,2))","v":""},null,{"$f":"IF(ISBLANK(D1416),\"\",VLOOKUP(D1416,Income!A:B,2))","v":""},"",null,"",""]
[null,null,{"$f":"IF(ISBLANK(B1417),\"\",VLOOKUP(B1417,Country!A:B,2))","v":""},null,{"$f":"IF(ISBLANK(D1417),\"\",VLOOKUP(D1417,Income!A:B,2))","v":""},"",null,"",""]
[null,null,{"$f":"IF(ISBLANK(B1418),\"\",VLOOKUP(B1418,Country!A:B,2))","v":""},null,{"$f":"IF(ISBLANK(D1418),\"\",VLOOKUP(D1418,Income!A:B,2))","v":""},"",null,"",""]
[null,null,{"$f":"IF(ISBLANK(B1419),\"\",VLOOKUP(B1419,Country!A:B,2))","v":""},null,{"$f":"IF(ISBLANK(D1419),\"\",VLOOKUP(D1419,Income!A:B,2))","v":""},"",null,"",""]
[null,null,{"$f":"IF(ISBLANK(B1420),\"\",VLOOKUP(B1420,Country!A:B,2))","v":""},null,{"$f":"IF(ISBLANK(D1420),\"\",VLOOKUP(D1420,Income!A:B,2))","v":""},"",null,"",""]
[null,null,{"$f":"IF(ISBLANK(B1421),\"\",VLOOKUP(B1421,Country!A:B,2))","v":""},null,{"$f":"IF(ISBLANK(D1421),\"\",VLOOKUP(D1421,Income!A:B,2))","v":""},"",null,"",""]
[null,null,{"$f":"IF(ISBLANK(B1422),\"\",VLOOKUP(B1422,Country!A:B,2))","v":""},null,{"$f":"IF(ISBLANK(D1422),\"\",VLOOKUP(D1422,Income!A:B,2))","v":""},"",null,"",""]
[null,null,{"$f":"IF(ISBLANK(B1423),\"\",VLOOKUP(B1423,Country!A:B,2))","v":""},null,{"$f":"IF(ISBLANK(D1423),\"\",VLOOKUP(D1423,Income!A:B,2))","v":""},"",null,"",""]
[null,null,{"$f":"IF(ISBLANK(B1424),\"\",VLOOKUP(B1424,Country!A:B,2))","v":""},null,{"$f":"IF(ISBLANK(D1424),\"\",VLOOKUP(D1424,Income!A:B,2))","v":""},"",null,"",""]
[null,null,{"$f":"IF(ISBLANK(B1425),\"\",VLOOKUP(B1425,Country!A:B,2))","v":""},null,{"$f":"IF(ISBLANK(D1425),\"\",VLOOKUP(D1425,Income!A:B,2))","v":""},"",null,"",""]
[null,null,{"$f":"IF(ISBLANK(B1426),\"\",VLOOKUP(B1426,Country!A:B,2))","v":""},null,{"$f":"IF(ISBLANK(D1426),\"\",VLOOKUP(D1426,Income!A:B,2))","v":""},"",null,"",""]
[null,null,{"$f":"IF(ISBLANK(B1427),\"\",VLOOKUP(B1427,Country!A:B,2))","v":""},null,{"$f":"IF(ISBLANK(D1427),\"\",VLOOKUP(D1427,Income!A:B,2))","v":""},"",null,"",""]
[null,null,{"$f":"IF(ISBLANK(B1428),\"\",VLOOKUP(B1428,Country!A:B,2))","v":""},null,{"$f":"IF(ISBLANK(D1428),\"\",VLOOKUP(D1428,Income!A:B,2))","v":""},"",null,"",""]
[null,null,{"$f":"IF(ISBLANK(B1429),\"\",VLOOKUP(B1429,Country!A:B,2))","v":""},null,{"$f":"IF(ISBLANK(D1429),\"\",VLOOKUP(D1429,Income!A:B,2))","v":""},"",null,"",""]
[null,null,{"$f":"IF(ISBLANK(B1430),\"\",VLOOKUP(B1430,Country!A:B,2))","v":""},null,{"$f":"IF(ISBLANK(D1430),\"\",VLOOKUP(D1430,Income!A:B,2))","v":""},"",null,"",""]
[null,null,{"$f":"IF(ISBLANK(B1431),\"\",VLOOKUP(B1431,Country!A:B,2))","v":""},null,{"$f":"IF(ISBLANK(D1431),\"\",VLOOKUP(D1431,Income!A:B,2))","v":""},"",null,"",{"$f":"IF(H1431=\"\",\"\",G1431-H1431)","v":""}]
[null,null,{"$f":"IF(ISBLANK(B1432),\"\",VLOOKUP(B1432,Country!A:B,2))","v":""},null,{"$f":"IF(ISBLANK(D1432),\"\",VLOOKUP(D1432,Income!A:B,2))","v":""},"",null,"",""]
[null,null,{"$f":"IF(ISBLANK(B1433),\"\",VLOOKUP(B1433,Country!A:B,2))","v":""},null,{"$f":"IF(ISBLANK(D1433),\"\",VLOOKUP(D1433,Income!A:B,2))","v":""},"",null,"",""]
[null,null,{"$f":"IF(ISBLANK(B1434),\"\",VLOOKUP(B1434,Country!A:B,2))","v":""},null,{"$f":"IF(ISBLANK(D1434),\"\",VLOOKUP(D1434,Income!A:B,2))","v":""},"",null,"",""]
[null,null,{"$f":"IF(ISBLANK(B1435),\"\",VLOOKUP(B1435,Country!A:B,2))","v":""},null,{"$f":"IF(ISBLANK(D1435),\"\",VLOOKUP(D1435,Income!A:B,2))","v":""},"",null,"",""]
[null,null,{"$f":"IF(ISBLANK(B1436),\"\",VLOOKUP(B1436,Country!A:B,2))","v":""},null,{"$f":"IF(ISBLANK(D1436),\"\",VLOOKUP(D1436,Income!A:B,2))","v":""},"",null,"",""]
[null,null,{"$f":"IF(ISBLANK(B1437),\"\",VLOOKUP(B1437,Country!A:B,2))","v":""},null,{"$f":"IF(ISBLANK(D1437),\"\",VLOOKUP(D1437,Income!A:B,2))","v":""},"",null,"",""]
[null,null,{"$f":"IF(ISBLANK(B1438),\"\",VLOOKUP(B1438,Country!A:B,2))","v":""},null,{"$f":"IF(ISBLANK(D1438),\"\",VLOOKUP(D1438,Income!A:B,2))","v":""},"",null,"",""]
[null,null,{"$f":"IF(ISBLANK(B1439),\"\",VLOOKUP(B1439,Country!A:B,2))","v":""},null,{"$f":"IF(ISBLANK(D1439),\"\",VLOOKUP(D1439,Income!A:B,2))","v":""},"",null,"",""]
[null,null,{"$f":"IF(ISBLANK(B1440),\"\",VLOOKUP(B1440,Country!A:B,2))","v":""},null,{"$f":"IF(ISBLANK(D1440),\"\",VLOOKUP(D1440,Income!A:B,2))","v":""},"",null,"",""]
[null,null,{"$f":"IF(ISBLANK(B1441),\"\",VLOOKUP(B1441,Country!A:B,2))","v":""},null,{"$f":"IF(ISBLANK(D1441),\"\",VLOOKUP(D1441,Income!A:B,2))","v":""},"",null,"",""]
[null,null,{"$f":"IF(ISBLANK(B1442),\"\",VLOOKUP(B1442,Country!A:B,2))","v":""},null,{"$f":"IF(ISBLANK(D1442),\"\",VLOOKUP(D1442,Income!A:B,2))","v":""},"",null,"",""]
[null,null,{"$f":"IF(ISBLANK(B1443),\"\",VLOOKUP(B1443,Country!A:B,2))","v":""},null,{"$f":"IF(ISBLANK(D1443),\"\",VLOOKUP(D1443,Income!A:B,2))","v":""},"",null,"",""]
[null,null,{"$f":"IF(ISBLANK(B1444),\"\",VLOOKUP(B1444,Country!A:B,2))","v":""},null,{"$f":"IF(ISBLANK(D1444),\"\",VLOOKUP(D1444,Income!A:B,2))","v":""},"",null,"",""]
[null,null,{"$f":"IF(ISBLANK(B1445),\"\",VLOOKUP(B1445,Country!A:B,2))","v":""},null,{"$f":"IF(ISBLANK(D1445),\"\",VLOOKUP(D1445,Income!A:B,2))","v":""},"",null,"",""]
[null,null,{"$f":"IF(ISBLANK(B1446),\"\",VLOOKUP(B1446,Country!A:B,2))","v":""},null,{"$f":"IF(ISBLANK(D1446),\"\",VLOOKUP(D1446,Income!A:B,2))","v":""},"",null,"",""]
[null,null,{"$f":"IF(ISBLANK(B1447),\"\",VLOOKUP(B1447,Country!A:B,2))","v":""},null,{"$f":"IF(ISBLANK(D1447),\"\",VLOOKUP(D1447,Income!A:B,2))","v":""},"",null,"",""]
[null,null,{"$f":"IF(ISBLANK(B1448),\"\",VLOOKUP(B1448,Country!A:B,2))","v":""},null,{"$f":"IF(ISBLANK(D1448),\"\",VLOOKUP(D1448,Income!A:B,2))","v":""},"",null,"",""]
[null,null,{"$f":"IF(ISBLANK(B1449),\"\",VLOOKUP(B1449,Country!A:B,2))","v":""},null,{"$f":"IF(ISBLANK(D1449),\"\",VLOOKUP(D1449,Income!A:B,2))","v":""},"",null,"",""]
[null,null,{"$f":"IF(ISBLANK(B1450),\"\",VLOOKUP(B1450,Country!A:B,2))","v":""},null,{"$f":"IF(ISBLANK(D1450),\"\",VLOOKUP(D1450,Income!A:B,2))","v":""},"",null,"",""]
[null,null,{"$f":"IF(ISBLANK(B1451),\"\",VLOOKUP(B1451,Country!A:B,2))","v":""},null,{"$f":"IF(ISBLANK(D1451),\"\",VLOOKUP(D1451,Income!A:B,2))","v":""},"",null,"",""]
[null,null,{"$f":"IF(ISBLANK(B1452),\"\",VLOOKUP(B1452,Country!A:B,2))","v":""},null,{"$f":"IF(ISBLANK(D1452),\"\",VLOOKUP(D1452,Income!A:B,2))","v":""},"",null,"",""]
[null,null,{"$f":"IF(ISBLANK(B1453),\"\",VLOOKUP(B1453,Country!A:B,2))","v":""},null,{"$f":"IF(ISBLANK(D1453),\"\",VLOOKUP(D1453,Income!A:B,2))","v":""},"",null,"",""]
[null,null,{"$f":"IF(ISBLANK(B1454),\"\",VLOOKUP(B1454,Country!A:B,2))","v":""},null,{"$f":"IF(ISBLANK(D1454),\"\",VLOOKUP(D1454,Income!A:B,2))","v":""},"",null,"",""]
[null,null,{"$f":"IF(ISBLANK(B1455),\"\",VLOOKUP(B1455,Country!A:B,2))","v":""},null,{"$f":"IF(ISBLANK(D1455),\"\",VLOOKUP(D1455,Income!A:B,2))","v":""},{"$f":"IF(OR(C1455=\"\",E1455=\"\"),\"\",IF(ISNA(INDEX(RateRange,INDEX(RateRange,MATCH(E1455,IncomeTypes,0),MATCH(C1455,Countries,0)))),INDEX(RateRange,MATCH(E1455,IncomeTypes,0),MATCH(\"OTH\",Countries,0)),INDEX(RateRange,MATCH(E1455,IncomeTypes,0),MATCH(C1455,Countries,0))))","v":""},null,"",""]
[null,null,{"$f":"IF(ISBLANK(B1456),\"\",VLOOKUP(B1456,Country!A:B,2))","v":""},null,{"$f":"IF(ISBLANK(D1456),\"\",VLOOKUP(D1456,Income!A:B,2))","v":""},"",null,"",""]
[null,null,{"$f":"IF(ISBLANK(B1457),\"\",VLOOKUP(B1457,Country!A:B,2))","v":""},null,{"$f":"IF(ISBLANK(D1457),\"\",VLOOKUP(D1457,Income!A:B,2))","v":""},"",null,"",""]
[null,null,{"$f":"IF(ISBLANK(B1458),\"\",VLOOKUP(B1458,Country!A:B,2))","v":""},null,{"$f":"IF(ISBLANK(D1458),\"\",VLOOKUP(D1458,Income!A:B,2))","v":""},"",null,"",""]
[null,null,{"$f":"IF(ISBLANK(B1459),\"\",VLOOKUP(B1459,Country!A:B,2))","v":""},null,{"$f":"IF(ISBLANK(D1459),\"\",VLOOKUP(D1459,Income!A:B,2))","v":""},"",null,"",""]
[null,null,{"$f":"IF(ISBLANK(B1460),\"\",VLOOKUP(B1460,Country!A:B,2))","v":""},null,{"$f":"IF(ISBLANK(D1460),\"\",VLOOKUP(D1460,Income!A:B,2))","v":""},"",null,"",""]
[null,null,{"$f":"IF(ISBLANK(B1461),\"\",VLOOKUP(B1461,Country!A:B,2))","v":""},null,{"$f":"IF(ISBLANK(D1461),\"\",VLOOKUP(D1461,Income!A:B,2))","v":""},"",null,"",""]
[null,null,{"$f":"IF(ISBLANK(B1462),\"\",VLOOKUP(B1462,Country!A:B,2))","v":""},null,{"$f":"IF(ISBLANK(D1462),\"\",VLOOKUP(D1462,Income!A:B,2))","v":""},"",null,"",""]
[null,null,{"$f":"IF(ISBLANK(B1463),\"\",VLOOKUP(B1463,Country!A:B,2))","v":""},null,{"$f":"IF(ISBLANK(D1463),\"\",VLOOKUP(D1463,Income!A:B,2))","v":""},"",null,"",""]
[null,null,{"$f":"IF(ISBLANK(B1464),\"\",VLOOKUP(B1464,Country!A:B,2))","v":""},null,{"$f":"IF(ISBLANK(D1464),\"\",VLOOKUP(D1464,Income!A:B,2))","v":""},"",null,"",""]
[null,null,{"$f":"IF(ISBLANK(B1465),\"\",VLOOKUP(B1465,Country!A:B,2))","v":""},null,{"$f":"IF(ISBLANK(D1465),\"\",VLOOKUP(D1465,Income!A:B,2))","v":""},"",null,"",""]
[null,null,{"$f":"IF(ISBLANK(B1466),\"\",VLOOKUP(B1466,Country!A:B,2))","v":""},null,{"$f":"IF(ISBLANK(D1466),\"\",VLOOKUP(D1466,Income!A:B,2))","v":""},"",null,"",""]
[null,null,{"$f":"IF(ISBLANK(B1467),\"\",VLOOKUP(B1467,Country!A:B,2))","v":""},null,{"$f":"IF(ISBLANK(D1467),\"\",VLOOKUP(D1467,Income!A:B,2))","v":""},"",null,"",""]
[null,null,{"$f":"IF(ISBLANK(B1468),\"\",VLOOKUP(B1468,Country!A:B,2))","v":""},null,{"$f":"IF(ISBLANK(D1468),\"\",VLOOKUP(D1468,Income!A:B,2))","v":""},"",null,"",""]
[null,null,{"$f":"IF(ISBLANK(B1469),\"\",VLOOKUP(B1469,Country!A:B,2))","v":""},null,{"$f":"IF(ISBLANK(D1469),\"\",VLOOKUP(D1469,Income!A:B,2))","v":""},"",null,"",""]
[null,null,{"$f":"IF(ISBLANK(B1470),\"\",VLOOKUP(B1470,Country!A:B,2))","v":""},null,{"$f":"IF(ISBLANK(D1470),\"\",VLOOKUP(D1470,Income!A:B,2))","v":""},"",null,"",""]
[null,null,{"$f":"IF(ISBLANK(B1471),\"\",VLOOKUP(B1471,Country!A:B,2))","v":""},null,{"$f":"IF(ISBLANK(D1471),\"\",VLOOKUP(D1471,Income!A:B,2))","v":""},"",null,"",""]
[null,null,{"$f":"IF(ISBLANK(B1472),\"\",VLOOKUP(B1472,Country!A:B,2))","v":""},null,{"$f":"IF(ISBLANK(D1472),\"\",VLOOKUP(D1472,Income!A:B,2))","v":""},"",null,"",""]
[null,null,{"$f":"IF(ISBLANK(B1473),\"\",VLOOKUP(B1473,Country!A:B,2))","v":""},null,{"$f":"IF(ISBLANK(D1473),\"\",VLOOKUP(D1473,Income!A:B,2))","v":""},"",null,"",""]
[null,null,{"$f":"IF(ISBLANK(B1474),\"\",VLOOKUP(B1474,Country!A:B,2))","v":""},null,{"$f":"IF(ISBLANK(D1474),\"\",VLOOKUP(D1474,Income!A:B,2))","v":""},"",null,"",""]
[null,null,{"$f":"IF(ISBLANK(B1475),\"\",VLOOKUP(B1475,Country!A:B,2))","v":""},null,{"$f":"IF(ISBLANK(D1475),\"\",VLOOKUP(D1475,Income!A:B,2))","v":""},"",null,"",""]
[null,null,{"$f":"IF(ISBLANK(B1476),\"\",VLOOKUP(B1476,Country!A:B,2))","v":""},null,{"$f":"IF(ISBLANK(D1476),\"\",VLOOKUP(D1476,Income!A:B,2))","v":""},"",null,"",""]
[null,null,{"$f":"IF(ISBLANK(B1477),\"\",VLOOKUP(B1477,Country!A:B,2))","v":""},null,{"$f":"IF(ISBLANK(D1477),\"\",VLOOKUP(D1477,Income!A:B,2))","v":""},"",null,{"$f":"IF(F1477=\"\",\"\",ROUND(G1477*F1477,2))","v":""},""]
[null,null,{"$f":"IF(ISBLANK(B1478),\"\",VLOOKUP(B1478,Country!A:B,2))","v":""},null,{"$f":"IF(ISBLANK(D1478),\"\",VLOOKUP(D1478,Income!A:B,2))","v":""},"",null,"",""]
[null,null,{"$f":"IF(ISBLANK(B1479),\"\",VLOOKUP(B1479,Country!A:B,2))","v":""},null,{"$f":"IF(ISBLANK(D1479),\"\",VLOOKUP(D1479,Income!A:B,2))","v":""},"",null,"",""]
[null,null,{"$f":"IF(ISBLANK(B1480),\"\",VLOOKUP(B1480,Country!A:B,2))","v":""},null,{"$f":"IF(ISBLANK(D1480),\"\",VLOOKUP(D1480,Income!A:B,2))","v":""},"",null,"",""]
[null,null,{"$f":"IF(ISBLANK(B1481),\"\",VLOOKUP(B1481,Country!A:B,2))","v":""},null,{"$f":"IF(ISBLANK(D1481),\"\",VLOOKUP(D1481,Income!A:B,2))","v":""},"",null,"",""]
[null,null,{"$f":"IF(ISBLANK(B1482),\"\",VLOOKUP(B1482,Country!A:B,2))","v":""},null,{"$f":"IF(ISBLANK(D1482),\"\",VLOOKUP(D1482,Income!A:B,2))","v":""},"",null,"",""]